| Back to Multiple platform build/check report for BioC 3.8 |
|
This page was generated on 2019-04-13 11:21:49 -0400 (Sat, 13 Apr 2019).
| Package 594/1649 | Hostname | OS / Arch | INSTALL | BUILD | CHECK | BUILD BIN | ||||||
| GeneExpressionSignature 1.28.0 Yang Cao
| malbec1 | Linux (Ubuntu 16.04.6 LTS) / x86_64 | OK | OK | OK | |||||||
| tokay1 | Windows Server 2012 R2 Standard / x64 | OK | OK | OK | [ OK ] | |||||||
| merida1 | OS X 10.11.6 El Capitan / x86_64 | OK | OK | OK | OK |
| Package: GeneExpressionSignature |
| Version: 1.28.0 |
| Command: rm -rf GeneExpressionSignature.buildbin-libdir && mkdir GeneExpressionSignature.buildbin-libdir && C:\Users\biocbuild\bbs-3.8-bioc\R\bin\R.exe CMD INSTALL --merge-multiarch --build --library=GeneExpressionSignature.buildbin-libdir GeneExpressionSignature_1.28.0.tar.gz |
| StartedAt: 2019-04-13 07:17:47 -0400 (Sat, 13 Apr 2019) |
| EndedAt: 2019-04-13 07:18:02 -0400 (Sat, 13 Apr 2019) |
| EllapsedTime: 15.8 seconds |
| RetCode: 0 |
| Status: OK |
| PackageFile: GeneExpressionSignature_1.28.0.zip |
| PackageFileSize: 2.446 MiB |
##############################################################################
##############################################################################
###
### Running command:
###
### rm -rf GeneExpressionSignature.buildbin-libdir && mkdir GeneExpressionSignature.buildbin-libdir && C:\Users\biocbuild\bbs-3.8-bioc\R\bin\R.exe CMD INSTALL --merge-multiarch --build --library=GeneExpressionSignature.buildbin-libdir GeneExpressionSignature_1.28.0.tar.gz
###
##############################################################################
##############################################################################
install for i386
* installing *source* package 'GeneExpressionSignature' ...
** R
** data
** inst
** byte-compile and prepare package for lazy loading
** help
*** installing help indices
converting help for package 'GeneExpressionSignature'
finding HTML links ... done
GeneExpressionSignature html
RankMerging html
ScoreGSEA html
ScorePGSEA html
SignatureDistance html
exampleSet html
getRLs html
** building package indices
** installing vignettes
** testing if installed package can be loaded
In R CMD INSTALL
install for x64
* installing *source* package 'GeneExpressionSignature' ...
** testing if installed package can be loaded
* MD5 sums
packaged installation of 'GeneExpressionSignature' as GeneExpressionSignature_1.28.0.zip
* DONE (GeneExpressionSignature)
In R CMD INSTALL
In R CMD INSTALL