| Back to Multiple platform build/check report for BioC 3.8 |
|
This page was generated on 2019-04-13 11:26:02 -0400 (Sat, 13 Apr 2019).
| Package 592/1649 | Hostname | OS / Arch | INSTALL | BUILD | CHECK | BUILD BIN | ||||||
| GeneBreak 1.12.0 Evert van den Broek
| malbec1 | Linux (Ubuntu 16.04.6 LTS) / x86_64 | OK | OK | OK | |||||||
| tokay1 | Windows Server 2012 R2 Standard / x64 | OK | OK | OK | [ OK ] | |||||||
| merida1 | OS X 10.11.6 El Capitan / x86_64 | OK | OK | OK | OK |
| Package: GeneBreak |
| Version: 1.12.0 |
| Command: rm -rf GeneBreak.buildbin-libdir && mkdir GeneBreak.buildbin-libdir && C:\Users\biocbuild\bbs-3.8-bioc\R\bin\R.exe CMD INSTALL --merge-multiarch --build --library=GeneBreak.buildbin-libdir GeneBreak_1.12.0.tar.gz |
| StartedAt: 2019-04-13 07:17:43 -0400 (Sat, 13 Apr 2019) |
| EndedAt: 2019-04-13 07:18:09 -0400 (Sat, 13 Apr 2019) |
| EllapsedTime: 26.4 seconds |
| RetCode: 0 |
| Status: OK |
| PackageFile: GeneBreak_1.12.0.zip |
| PackageFileSize: 4.453 MiB |
##############################################################################
##############################################################################
###
### Running command:
###
### rm -rf GeneBreak.buildbin-libdir && mkdir GeneBreak.buildbin-libdir && C:\Users\biocbuild\bbs-3.8-bioc\R\bin\R.exe CMD INSTALL --merge-multiarch --build --library=GeneBreak.buildbin-libdir GeneBreak_1.12.0.tar.gz
###
##############################################################################
##############################################################################
install for i386
* installing *source* package 'GeneBreak' ...
** R
** data
** inst
** byte-compile and prepare package for lazy loading
Creating a new generic function for 'segmentData' in package 'GeneBreak'
** help
*** installing help indices
converting help for package 'GeneBreak'
finding HTML links ... done
CopyNumberBreakPointGenes-class html
CopyNumberBreakPoints-class html
GeneBreak html
accessOptions-CopyNumberBreakPoints-method
html
addGeneAnnotation-CopyNumberBreakPoints-method
html
bpFilter-CopyNumberBreakPoints-method html
bpGenes-CopyNumberBreakPointGenes-method
html
bpPlot-CopyNumberBreakPoints-method html
bpStats-CopyNumberBreakPoints-method html
breakpointData-CopyNumberBreakPoints-method
html
breakpointsPerGene-CopyNumberBreakPointGenes-method
html
callData-CopyNumberBreakPoints-method html
copynumber.data.chr18 html
copynumber.data.chr20 html
copynumber.data.chr21 html
ens.gene.ann.hg18 html
ens.gene.ann.hg19 html
ens.gene.ann.hg38 html
featureChromosomes-CopyNumberBreakPoints-method
html
featureInfo-CopyNumberBreakPoints-method
html
featuresPerGene-CopyNumberBreakPointGenes-method
html
geneChromosomes-CopyNumberBreakPointGenes-method
html
geneInfo-CopyNumberBreakPointGenes-method
html
getBreakpoints html
namesFeatures-CopyNumberBreakPoints-method
html
recurrentGenes-CopyNumberBreakPointGenes-method
html
sampleNames-CopyNumberBreakPoints-method
html
segmentData-CopyNumberBreakPoints-method
html
** building package indices
** installing vignettes
** testing if installed package can be loaded
In R CMD INSTALL
install for x64
* installing *source* package 'GeneBreak' ...
** testing if installed package can be loaded
* MD5 sums
packaged installation of 'GeneBreak' as GeneBreak_1.12.0.zip
* DONE (GeneBreak)
In R CMD INSTALL
In R CMD INSTALL