| Back to Multiple platform build/check report for BioC 3.8 |
|
This page was generated on 2019-04-13 11:29:05 -0400 (Sat, 13 Apr 2019).
| Package 574/1649 | Hostname | OS / Arch | INSTALL | BUILD | CHECK | BUILD BIN | ||||||
| GateFinder 1.2.1 Nima Aghaeepour
| malbec1 | Linux (Ubuntu 16.04.6 LTS) / x86_64 | OK | OK | OK | |||||||
| tokay1 | Windows Server 2012 R2 Standard / x64 | [ OK ] | OK | OK | OK | |||||||
| merida1 | OS X 10.11.6 El Capitan / x86_64 | OK | OK | OK | OK |
| Package: GateFinder |
| Version: 1.2.1 |
| Command: C:\Users\biocbuild\bbs-3.8-bioc\R\bin\R.exe --arch x64 CMD INSTALL --no-multiarch GateFinder |
| StartedAt: 2019-04-12 20:31:09 -0400 (Fri, 12 Apr 2019) |
| EndedAt: 2019-04-12 20:31:51 -0400 (Fri, 12 Apr 2019) |
| EllapsedTime: 41.5 seconds |
| RetCode: 0 |
| Status: OK |
##############################################################################
##############################################################################
###
### Running command:
###
### C:\Users\biocbuild\bbs-3.8-bioc\R\bin\R.exe --arch x64 CMD INSTALL --no-multiarch GateFinder
###
##############################################################################
##############################################################################
* installing to library 'C:/Users/biocbuild/bbs-3.8-bioc/R/library'
* installing *source* package 'GateFinder' ...
** R
** data
** inst
** byte-compile and prepare package for lazy loading
** help
*** installing help indices
converting help for package 'GateFinder'
finding HTML links ... done
GateFinder-package html
GateFinder html
GatingProjection-class html
LPSData html
plot.GateFinder html
** building package indices
** installing vignettes
** testing if installed package can be loaded
* DONE (GateFinder)
Making 'packages.html' ... done
In R CMD INSTALL