| Back to Multiple platform build/check report for BioC 3.8 |
|
This page was generated on 2019-04-13 11:29:04 -0400 (Sat, 13 Apr 2019).
| Package 692/1649 | Hostname | OS / Arch | INSTALL | BUILD | CHECK | BUILD BIN | ||||||
| GSEABenchmarkeR 1.2.1 Ludwig Geistlinger
| malbec1 | Linux (Ubuntu 16.04.6 LTS) / x86_64 | OK | OK | OK | |||||||
| tokay1 | Windows Server 2012 R2 Standard / x64 | OK | OK | OK | [ OK ] | |||||||
| merida1 | OS X 10.11.6 El Capitan / x86_64 | OK | OK | OK | OK |
| Package: GSEABenchmarkeR |
| Version: 1.2.1 |
| Command: rm -rf GSEABenchmarkeR.buildbin-libdir && mkdir GSEABenchmarkeR.buildbin-libdir && C:\Users\biocbuild\bbs-3.8-bioc\R\bin\R.exe CMD INSTALL --merge-multiarch --build --library=GSEABenchmarkeR.buildbin-libdir GSEABenchmarkeR_1.2.1.tar.gz |
| StartedAt: 2019-04-13 07:22:29 -0400 (Sat, 13 Apr 2019) |
| EndedAt: 2019-04-13 07:24:35 -0400 (Sat, 13 Apr 2019) |
| EllapsedTime: 125.8 seconds |
| RetCode: 0 |
| Status: OK |
| PackageFile: GSEABenchmarkeR_1.2.1.zip |
| PackageFileSize: 648.7 KiB |
##############################################################################
##############################################################################
###
### Running command:
###
### rm -rf GSEABenchmarkeR.buildbin-libdir && mkdir GSEABenchmarkeR.buildbin-libdir && C:\Users\biocbuild\bbs-3.8-bioc\R\bin\R.exe CMD INSTALL --merge-multiarch --build --library=GSEABenchmarkeR.buildbin-libdir GSEABenchmarkeR_1.2.1.tar.gz
###
##############################################################################
##############################################################################
install for i386
* installing *source* package 'GSEABenchmarkeR' ...
** R
** inst
** byte-compile and prepare package for lazy loading
** help
*** installing help indices
converting help for package 'GSEABenchmarkeR'
finding HTML links ... done
bpPlot html
cacheResource html
finding level-2 HTML links ... done
evalNrSigSets html
evalRelevance html
evalTypeIError html
loadEData html
maPreproc html
readDataId2diseaseCodeMap html
readResults html
runDE html
runEA html
** building package indices
** installing vignettes
** testing if installed package can be loaded
In R CMD INSTALL
install for x64
* installing *source* package 'GSEABenchmarkeR' ...
** testing if installed package can be loaded
* MD5 sums
packaged installation of 'GSEABenchmarkeR' as GSEABenchmarkeR_1.2.1.zip
* DONE (GSEABenchmarkeR)
In R CMD INSTALL
In R CMD INSTALL