| Back to Multiple platform build/check report for BioC 3.8 |
|
This page was generated on 2019-04-13 11:20:29 -0400 (Sat, 13 Apr 2019).
| Package 691/1649 | Hostname | OS / Arch | INSTALL | BUILD | CHECK | BUILD BIN | ||||||
| GSEABase 1.44.0 Bioconductor Package Maintainer
| malbec1 | Linux (Ubuntu 16.04.6 LTS) / x86_64 | OK | OK | OK | |||||||
| tokay1 | Windows Server 2012 R2 Standard / x64 | OK | OK | OK | [ OK ] | |||||||
| merida1 | OS X 10.11.6 El Capitan / x86_64 | OK | OK | OK | OK |
| Package: GSEABase |
| Version: 1.44.0 |
| Command: rm -rf GSEABase.buildbin-libdir && mkdir GSEABase.buildbin-libdir && C:\Users\biocbuild\bbs-3.8-bioc\R\bin\R.exe CMD INSTALL --merge-multiarch --build --library=GSEABase.buildbin-libdir GSEABase_1.44.0.tar.gz |
| StartedAt: 2019-04-13 07:22:25 -0400 (Sat, 13 Apr 2019) |
| EndedAt: 2019-04-13 07:24:38 -0400 (Sat, 13 Apr 2019) |
| EllapsedTime: 133.3 seconds |
| RetCode: 0 |
| Status: OK |
| PackageFile: GSEABase_1.44.0.zip |
| PackageFileSize: 1001 KiB |
##############################################################################
##############################################################################
###
### Running command:
###
### rm -rf GSEABase.buildbin-libdir && mkdir GSEABase.buildbin-libdir && C:\Users\biocbuild\bbs-3.8-bioc\R\bin\R.exe CMD INSTALL --merge-multiarch --build --library=GSEABase.buildbin-libdir GSEABase_1.44.0.tar.gz
###
##############################################################################
##############################################################################
install for i386
* installing *source* package 'GSEABase' ...
** R
** inst
** byte-compile and prepare package for lazy loading
** help
*** installing help indices
converting help for package 'GSEABase'
finding HTML links ... done
CollectionType-class html
CollectionType-constructors html
GSEABase-package html
GeneColorSet-class html
GeneColorSet-methods html
GeneIdentifierType-class html
GeneIdentifierType-constructors html
GeneSet-class html
GeneSet-methods html
GeneSetCollection-class html
GeneSetCollection-methods html
OBOCollection-class html
details-methods html
getOBOCollection html
getObjects html
goSlim-methods html
incidence-methods html
mapIdentifiers-methods html
** building package indices
** installing vignettes
** testing if installed package can be loaded
In R CMD INSTALL
install for x64
* installing *source* package 'GSEABase' ...
** testing if installed package can be loaded
* MD5 sums
packaged installation of 'GSEABase' as GSEABase_1.44.0.zip
* DONE (GSEABase)
In R CMD INSTALL
In R CMD INSTALL