| Back to Multiple platform build/check report for BioC 3.8 |
|
This page was generated on 2019-04-13 11:24:18 -0400 (Sat, 13 Apr 2019).
| Package 670/1649 | Hostname | OS / Arch | INSTALL | BUILD | CHECK | BUILD BIN | ||||||
| GOsummaries 2.18.0 Raivo Kolde
| malbec1 | Linux (Ubuntu 16.04.6 LTS) / x86_64 | OK | OK | OK | |||||||
| tokay1 | Windows Server 2012 R2 Standard / x64 | [ OK ] | OK | OK | OK | |||||||
| merida1 | OS X 10.11.6 El Capitan / x86_64 | OK | OK | OK | OK |
| Package: GOsummaries |
| Version: 2.18.0 |
| Command: C:\cygwin\bin\curl.exe -O https://malbec1.bioconductor.org/BBS/3.8/bioc/src/contrib/GOsummaries_2.18.0.tar.gz && rm -rf GOsummaries.buildbin-libdir && mkdir GOsummaries.buildbin-libdir && C:\Users\biocbuild\bbs-3.8-bioc\R\bin\R.exe CMD INSTALL --merge-multiarch --build --library=GOsummaries.buildbin-libdir GOsummaries_2.18.0.tar.gz && C:\Users\biocbuild\bbs-3.8-bioc\R\bin\R.exe CMD INSTALL GOsummaries_2.18.0.zip && rm GOsummaries_2.18.0.tar.gz GOsummaries_2.18.0.zip |
| StartedAt: 2019-04-12 18:50:12 -0400 (Fri, 12 Apr 2019) |
| EndedAt: 2019-04-12 18:51:18 -0400 (Fri, 12 Apr 2019) |
| EllapsedTime: 66.3 seconds |
| RetCode: 0 |
| Status: OK |
##############################################################################
##############################################################################
###
### Running command:
###
### C:\cygwin\bin\curl.exe -O https://malbec1.bioconductor.org/BBS/3.8/bioc/src/contrib/GOsummaries_2.18.0.tar.gz && rm -rf GOsummaries.buildbin-libdir && mkdir GOsummaries.buildbin-libdir && C:\Users\biocbuild\bbs-3.8-bioc\R\bin\R.exe CMD INSTALL --merge-multiarch --build --library=GOsummaries.buildbin-libdir GOsummaries_2.18.0.tar.gz && C:\Users\biocbuild\bbs-3.8-bioc\R\bin\R.exe CMD INSTALL GOsummaries_2.18.0.zip && rm GOsummaries_2.18.0.tar.gz GOsummaries_2.18.0.zip
###
##############################################################################
##############################################################################
% Total % Received % Xferd Average Speed Time Time Time Current
Dload Upload Total Spent Left Speed
0 0 0 0 0 0 0 0 --:--:-- --:--:-- --:--:-- 0
100 1974k 100 1974k 0 0 24.7M 0 --:--:-- --:--:-- --:--:-- 26.0M
install for i386
* installing *source* package 'GOsummaries' ...
** libs
C:/Rtools/mingw_32/bin/g++ -I"C:/Users/BIOCBU˜1/BBS-3˜1.8-B/R/include" -DNDEBUG -I"C:/Users/biocbuild/bbs-3.8-bioc/R/library/Rcpp/include" -I"C:/extsoft/include" -O2 -Wall -mtune=generic -c findCoordinates.cpp -o findCoordinates.o
C:/Rtools/mingw_32/bin/g++ -shared -s -static-libgcc -o GOsummaries.dll tmp.def findCoordinates.o -LC:/extsoft/lib/i386 -LC:/extsoft/lib -LC:/Users/BIOCBU˜1/BBS-3˜1.8-B/R/bin/i386 -lR
installing to C:/Users/biocbuild/bbs-3.8-bioc/meat/GOsummaries.buildbin-libdir/GOsummaries/libs/i386
** R
** data
** inst
** byte-compile and prepare package for lazy loading
** help
*** installing help indices
converting help for package 'GOsummaries'
finding HTML links ... done
GOsummaries-package html
add_expression.gosummaries html
add_to_slot.gosummaries html
customize html
gosummaries.MArrayLM html
finding level-2 HTML links ... done
gosummaries html
gosummaries.kmeans html
gosummaries.matrix html
gosummaries.prcomp html
metabolomic_example html
metagenomic_example html
panel_boxplot html
plot.gosummaries html
plotWordcloud html
tissue_example html
** building package indices
** installing vignettes
** testing if installed package can be loaded
In R CMD INSTALL
install for x64
* installing *source* package 'GOsummaries' ...
** libs
C:/Rtools/mingw_64/bin/g++ -I"C:/Users/BIOCBU˜1/BBS-3˜1.8-B/R/include" -DNDEBUG -I"C:/Users/biocbuild/bbs-3.8-bioc/R/library/Rcpp/include" -I"C:/extsoft/include" -O2 -Wall -mtune=generic -c findCoordinates.cpp -o findCoordinates.o
C:/Rtools/mingw_64/bin/g++ -shared -s -static-libgcc -o GOsummaries.dll tmp.def findCoordinates.o -LC:/extsoft/lib/x64 -LC:/extsoft/lib -LC:/Users/BIOCBU˜1/BBS-3˜1.8-B/R/bin/x64 -lR
installing to C:/Users/biocbuild/bbs-3.8-bioc/meat/GOsummaries.buildbin-libdir/GOsummaries/libs/x64
** testing if installed package can be loaded
* MD5 sums
packaged installation of 'GOsummaries' as GOsummaries_2.18.0.zip
* DONE (GOsummaries)
In R CMD INSTALL
In R CMD INSTALL
* installing to library 'C:/Users/biocbuild/bbs-3.8-bioc/R/library'
package 'GOsummaries' successfully unpacked and MD5 sums checked
In R CMD INSTALL