| Back to Multiple platform build/check report for BioC 3.8 |
|
This page was generated on 2019-04-13 11:19:27 -0400 (Sat, 13 Apr 2019).
| Package 669/1649 | Hostname | OS / Arch | INSTALL | BUILD | CHECK | BUILD BIN | ||||||
| GOstats 2.48.0 Bioconductor Package Maintainer
| malbec1 | Linux (Ubuntu 16.04.6 LTS) / x86_64 | OK | OK | OK | |||||||
| tokay1 | Windows Server 2012 R2 Standard / x64 | OK | OK | WARNINGS | [ OK ] | |||||||
| merida1 | OS X 10.11.6 El Capitan / x86_64 | OK | OK | OK | OK |
| Package: GOstats |
| Version: 2.48.0 |
| Command: rm -rf GOstats.buildbin-libdir && mkdir GOstats.buildbin-libdir && C:\Users\biocbuild\bbs-3.8-bioc\R\bin\R.exe CMD INSTALL --merge-multiarch --build --library=GOstats.buildbin-libdir GOstats_2.48.0.tar.gz |
| StartedAt: 2019-04-13 07:20:51 -0400 (Sat, 13 Apr 2019) |
| EndedAt: 2019-04-13 07:21:26 -0400 (Sat, 13 Apr 2019) |
| EllapsedTime: 35.3 seconds |
| RetCode: 0 |
| Status: OK |
| PackageFile: GOstats_2.48.0.zip |
| PackageFileSize: 1.99 MiB |
##############################################################################
##############################################################################
###
### Running command:
###
### rm -rf GOstats.buildbin-libdir && mkdir GOstats.buildbin-libdir && C:\Users\biocbuild\bbs-3.8-bioc\R\bin\R.exe CMD INSTALL --merge-multiarch --build --library=GOstats.buildbin-libdir GOstats_2.48.0.tar.gz
###
##############################################################################
##############################################################################
install for i386
* installing *source* package 'GOstats' ...
** R
** data
** inst
** byte-compile and prepare package for lazy loading
** help
*** installing help indices
converting help for package 'GOstats'
finding HTML links ... done
GOHyperGResult-class html
GOstats-defunct html
GOstats-package html
Ndists html
OBOHyperGResult-class html
compCorrGraph html
compGdist html
hyperGTest html
Rd warning: C:/Users/biocbuild/bbs-3.8-bioc/tmpdir/RtmpO8Ts8n/R.INSTALL433446ca7510/GOstats/man/hyperGTest.Rd:47: file link 'geneGoHyperGeoTest' in package 'Category' does not exist and so has been treated as a topic
Rd warning: C:/Users/biocbuild/bbs-3.8-bioc/tmpdir/RtmpO8Ts8n/R.INSTALL433446ca7510/GOstats/man/hyperGTest.Rd:48: file link 'geneKeggHyperGeoTest' in package 'Category' does not exist and so has been treated as a topic
idx2dimnames html
makeGOGraph html
notConn html
oneGOGraph html
probeSetSummary html
shortestPath html
simLL html
termGraphs html
triadCensus html
** building package indices
** installing vignettes
** testing if installed package can be loaded
In R CMD INSTALL
install for x64
* installing *source* package 'GOstats' ...
** testing if installed package can be loaded
* MD5 sums
packaged installation of 'GOstats' as GOstats_2.48.0.zip
* DONE (GOstats)
In R CMD INSTALL
In R CMD INSTALL