| Back to Multiple platform build/check report for BioC 3.8 |
|
This page was generated on 2019-04-13 11:22:20 -0400 (Sat, 13 Apr 2019).
| Package 446/1649 | Hostname | OS / Arch | INSTALL | BUILD | CHECK | BUILD BIN | ||||||
| EasyqpcR 1.24.0 Le Pape Sylvain
| malbec1 | Linux (Ubuntu 16.04.6 LTS) / x86_64 | OK | OK | OK | |||||||
| tokay1 | Windows Server 2012 R2 Standard / x64 | OK | OK | OK | [ OK ] | |||||||
| merida1 | OS X 10.11.6 El Capitan / x86_64 | OK | OK | OK | OK |
| Package: EasyqpcR |
| Version: 1.24.0 |
| Command: rm -rf EasyqpcR.buildbin-libdir && mkdir EasyqpcR.buildbin-libdir && C:\Users\biocbuild\bbs-3.8-bioc\R\bin\R.exe CMD INSTALL --merge-multiarch --build --library=EasyqpcR.buildbin-libdir EasyqpcR_1.24.0.tar.gz |
| StartedAt: 2019-04-13 07:12:45 -0400 (Sat, 13 Apr 2019) |
| EndedAt: 2019-04-13 07:12:55 -0400 (Sat, 13 Apr 2019) |
| EllapsedTime: 9.7 seconds |
| RetCode: 0 |
| Status: OK |
| PackageFile: EasyqpcR_1.24.0.zip |
| PackageFileSize: 1.742 MiB |
##############################################################################
##############################################################################
###
### Running command:
###
### rm -rf EasyqpcR.buildbin-libdir && mkdir EasyqpcR.buildbin-libdir && C:\Users\biocbuild\bbs-3.8-bioc\R\bin\R.exe CMD INSTALL --merge-multiarch --build --library=EasyqpcR.buildbin-libdir EasyqpcR_1.24.0.tar.gz
###
##############################################################################
##############################################################################
install for i386
* installing *source* package 'EasyqpcR' ...
** R
** data
** inst
** byte-compile and prepare package for lazy loading
** help
*** installing help indices
converting help for package 'EasyqpcR'
finding HTML links ... done
EasyqpcR-package html
Efficiency_calculation html
Gene_maximisation html
Gene_maximisation_cor html
badCt html
calData html
nrmData html
qPCR_run1 html
qPCR_run2 html
qPCR_run3 html
slope html
totData html
** building package indices
** installing vignettes
** testing if installed package can be loaded
In R CMD INSTALL
install for x64
* installing *source* package 'EasyqpcR' ...
** testing if installed package can be loaded
* MD5 sums
packaged installation of 'EasyqpcR' as EasyqpcR_1.24.0.zip
* DONE (EasyqpcR)
In R CMD INSTALL
In R CMD INSTALL