| Back to Multiple platform build/check report for BioC 3.8 |
|
This page was generated on 2019-04-16 12:12:35 -0400 (Tue, 16 Apr 2019).
| Package 487/1649 | Hostname | OS / Arch | INSTALL | BUILD | CHECK | BUILD BIN | ||||||
| ERSSA 1.0.1 Zixuan Shao
| malbec1 | Linux (Ubuntu 16.04.6 LTS) / x86_64 | OK | OK | OK | |||||||
| merida1 | OS X 10.11.6 El Capitan / x86_64 | OK | OK | [ OK ] | OK |
| Package: ERSSA |
| Version: 1.0.1 |
| Command: /Library/Frameworks/R.framework/Versions/Current/Resources/bin/R CMD check --install=check:ERSSA.install-out.txt --library=/Library/Frameworks/R.framework/Versions/Current/Resources/library --no-vignettes --timings ERSSA_1.0.1.tar.gz |
| StartedAt: 2019-04-15 23:48:45 -0400 (Mon, 15 Apr 2019) |
| EndedAt: 2019-04-15 23:53:22 -0400 (Mon, 15 Apr 2019) |
| EllapsedTime: 276.4 seconds |
| RetCode: 0 |
| Status: OK |
| CheckDir: ERSSA.Rcheck |
| Warnings: 0 |
##############################################################################
##############################################################################
###
### Running command:
###
### /Library/Frameworks/R.framework/Versions/Current/Resources/bin/R CMD check --install=check:ERSSA.install-out.txt --library=/Library/Frameworks/R.framework/Versions/Current/Resources/library --no-vignettes --timings ERSSA_1.0.1.tar.gz
###
##############################################################################
##############################################################################
* using log directory ‘/Users/biocbuild/bbs-3.8-bioc/meat/ERSSA.Rcheck’
* using R version 3.5.3 (2019-03-11)
* using platform: x86_64-apple-darwin15.6.0 (64-bit)
* using session charset: UTF-8
* using option ‘--no-vignettes’
* checking for file ‘ERSSA/DESCRIPTION’ ... OK
* checking extension type ... Package
* this is package ‘ERSSA’ version ‘1.0.1’
* package encoding: UTF-8
* checking package namespace information ... OK
* checking package dependencies ... OK
* checking if this is a source package ... OK
* checking if there is a namespace ... OK
* checking for hidden files and directories ... OK
* checking for portable file names ... OK
* checking for sufficient/correct file permissions ... OK
* checking whether package ‘ERSSA’ can be installed ... OK
* checking installed package size ... OK
* checking package directory ... OK
* checking ‘build’ directory ... OK
* checking DESCRIPTION meta-information ... OK
* checking top-level files ... OK
* checking for left-over files ... OK
* checking index information ... OK
* checking package subdirectories ... OK
* checking R files for non-ASCII characters ... OK
* checking R files for syntax errors ... OK
* checking whether the package can be loaded ... OK
* checking whether the package can be loaded with stated dependencies ... OK
* checking whether the package can be unloaded cleanly ... OK
* checking whether the namespace can be loaded with stated dependencies ... OK
* checking whether the namespace can be unloaded cleanly ... OK
* checking dependencies in R code ... OK
* checking S3 generic/method consistency ... OK
* checking replacement functions ... OK
* checking foreign function calls ... OK
* checking R code for possible problems ... OK
* checking Rd files ... OK
* checking Rd metadata ... OK
* checking Rd cross-references ... OK
* checking for missing documentation entries ... OK
* checking for code/documentation mismatches ... OK
* checking Rd \usage sections ... OK
* checking Rd contents ... OK
* checking for unstated dependencies in examples ... OK
* checking contents of ‘data’ directory ... OK
* checking data for non-ASCII characters ... OK
* checking data for ASCII and uncompressed saves ... OK
* checking files in ‘vignettes’ ... OK
* checking examples ... OK
Examples with CPU or elapsed time > 5s
user system elapsed
erssa_deseq2 31.304 0.225 31.782
erssa_deseq2_parallel 30.399 0.287 30.907
erssa 14.674 0.499 15.167
* checking for unstated dependencies in vignettes ... OK
* checking package vignettes in ‘inst/doc’ ... OK
* checking running R code from vignettes ... SKIPPED
* checking re-building of vignette outputs ... SKIPPED
* checking PDF version of manual ... OK
* DONE
Status: OK
ERSSA.Rcheck/00install.out
############################################################################## ############################################################################## ### ### Running command: ### ### /Library/Frameworks/R.framework/Versions/Current/Resources/bin/R CMD INSTALL ERSSA ### ############################################################################## ############################################################################## * installing to library ‘/Library/Frameworks/R.framework/Versions/3.5/Resources/library’ * installing *source* package ‘ERSSA’ ... ** R ** data *** moving datasets to lazyload DB ** inst ** byte-compile and prepare package for lazy loading ** help *** installing help indices ** building package indices ** installing vignettes ** testing if installed package can be loaded * DONE (ERSSA)
ERSSA.Rcheck/ERSSA-Ex.timings
| name | user | system | elapsed | |
| comb_gen | 0.009 | 0.002 | 0.011 | |
| count_filter | 0.005 | 0.000 | 0.007 | |
| erssa | 14.674 | 0.499 | 15.167 | |
| erssa_deseq2 | 31.304 | 0.225 | 31.782 | |
| erssa_deseq2_parallel | 30.399 | 0.287 | 30.907 | |
| erssa_edger | 2.596 | 0.040 | 2.651 | |
| erssa_edger_parallel | 2.569 | 0.032 | 2.617 | |
| ggplot2_TPR_FPRPlot | 0.799 | 0.089 | 0.856 | |
| ggplot2_dotplot | 0.906 | 0.068 | 0.950 | |
| ggplot2_intersectPlot | 0.884 | 0.066 | 0.932 | |
| ggplot2_marginPlot | 0.588 | 0.065 | 0.616 | |