| Back to Multiple platform build/check report for BioC 3.8 |
|
This page was generated on 2019-04-13 11:25:23 -0400 (Sat, 13 Apr 2019).
| Package 466/1649 | Hostname | OS / Arch | INSTALL | BUILD | CHECK | BUILD BIN | ||||||
| EMDomics 2.12.0 Sadhika Malladi
| malbec1 | Linux (Ubuntu 16.04.6 LTS) / x86_64 | OK | OK | OK | |||||||
| tokay1 | Windows Server 2012 R2 Standard / x64 | OK | OK | WARNINGS | [ OK ] | |||||||
| merida1 | OS X 10.11.6 El Capitan / x86_64 | OK | OK | OK | OK |
| Package: EMDomics |
| Version: 2.12.0 |
| Command: rm -rf EMDomics.buildbin-libdir && mkdir EMDomics.buildbin-libdir && C:\Users\biocbuild\bbs-3.8-bioc\R\bin\R.exe CMD INSTALL --merge-multiarch --build --library=EMDomics.buildbin-libdir EMDomics_2.12.0.tar.gz |
| StartedAt: 2019-04-13 07:13:26 -0400 (Sat, 13 Apr 2019) |
| EndedAt: 2019-04-13 07:13:35 -0400 (Sat, 13 Apr 2019) |
| EllapsedTime: 9.9 seconds |
| RetCode: 0 |
| Status: OK |
| PackageFile: EMDomics_2.12.0.zip |
| PackageFileSize: 203.5 KiB |
##############################################################################
##############################################################################
###
### Running command:
###
### rm -rf EMDomics.buildbin-libdir && mkdir EMDomics.buildbin-libdir && C:\Users\biocbuild\bbs-3.8-bioc\R\bin\R.exe CMD INSTALL --merge-multiarch --build --library=EMDomics.buildbin-libdir EMDomics_2.12.0.tar.gz
###
##############################################################################
##############################################################################
install for i386
* installing *source* package 'EMDomics' ...
** R
** inst
** byte-compile and prepare package for lazy loading
** help
*** installing help indices
converting help for package 'EMDomics'
finding HTML links ... done
CVMomics html
EMDomics html
KSomics html
calculate_cvm html
calculate_cvm_gene html
calculate_emd html
Rd warning: C:/Users/biocbuild/bbs-3.8-bioc/tmpdir/Rtmp4qwwMe/R.INSTALL17e0258d2239/EMDomics/man/calculate_emd.Rd:101: file link 'emd2d' in package 'emdist' does not exist and so has been treated as a topic
calculate_emd_gene html
Rd warning: C:/Users/biocbuild/bbs-3.8-bioc/tmpdir/Rtmp4qwwMe/R.INSTALL17e0258d2239/EMDomics/man/calculate_emd_gene.Rd:31: file link 'emd2d' in package 'emdist' does not exist and so has been treated as a topic
Rd warning: C:/Users/biocbuild/bbs-3.8-bioc/tmpdir/Rtmp4qwwMe/R.INSTALL17e0258d2239/EMDomics/man/calculate_emd_gene.Rd:47: file link 'emd2d' in package 'emdist' does not exist and so has been treated as a topic
calculate_ks html
calculate_ks_gene html
emdomics-package html
plot_cvm_density html
plot_cvmnull html
plot_cvmperms html
plot_emd_density html
plot_emdnull html
plot_emdperms html
plot_ks_density html
plot_ksnull html
plot_ksperms html
** building package indices
** installing vignettes
** testing if installed package can be loaded
In R CMD INSTALL
install for x64
* installing *source* package 'EMDomics' ...
** testing if installed package can be loaded
* MD5 sums
packaged installation of 'EMDomics' as EMDomics_2.12.0.zip
* DONE (EMDomics)
In R CMD INSTALL
In R CMD INSTALL