| Back to Multiple platform build/check report for BioC 3.8 |
|
This page was generated on 2019-04-13 11:23:35 -0400 (Sat, 13 Apr 2019).
| Package 456/1649 | Hostname | OS / Arch | INSTALL | BUILD | CHECK | BUILD BIN | ||||||
| EDDA 1.20.1 Chia Kuan Hui Burton
| malbec1 | Linux (Ubuntu 16.04.6 LTS) / x86_64 | OK | OK | WARNINGS | |||||||
| tokay1 | Windows Server 2012 R2 Standard / x64 | [ OK ] | OK | WARNINGS | OK | |||||||
| merida1 | OS X 10.11.6 El Capitan / x86_64 | OK | OK | WARNINGS | OK |
| Package: EDDA |
| Version: 1.20.1 |
| Command: C:\cygwin\bin\curl.exe -O https://malbec1.bioconductor.org/BBS/3.8/bioc/src/contrib/EDDA_1.20.1.tar.gz && rm -rf EDDA.buildbin-libdir && mkdir EDDA.buildbin-libdir && C:\Users\biocbuild\bbs-3.8-bioc\R\bin\R.exe CMD INSTALL --merge-multiarch --build --library=EDDA.buildbin-libdir EDDA_1.20.1.tar.gz && C:\Users\biocbuild\bbs-3.8-bioc\R\bin\R.exe CMD INSTALL EDDA_1.20.1.zip && rm EDDA_1.20.1.tar.gz EDDA_1.20.1.zip |
| StartedAt: 2019-04-12 19:46:17 -0400 (Fri, 12 Apr 2019) |
| EndedAt: 2019-04-12 19:47:23 -0400 (Fri, 12 Apr 2019) |
| EllapsedTime: 66.3 seconds |
| RetCode: 0 |
| Status: OK |
##############################################################################
##############################################################################
###
### Running command:
###
### C:\cygwin\bin\curl.exe -O https://malbec1.bioconductor.org/BBS/3.8/bioc/src/contrib/EDDA_1.20.1.tar.gz && rm -rf EDDA.buildbin-libdir && mkdir EDDA.buildbin-libdir && C:\Users\biocbuild\bbs-3.8-bioc\R\bin\R.exe CMD INSTALL --merge-multiarch --build --library=EDDA.buildbin-libdir EDDA_1.20.1.tar.gz && C:\Users\biocbuild\bbs-3.8-bioc\R\bin\R.exe CMD INSTALL EDDA_1.20.1.zip && rm EDDA_1.20.1.tar.gz EDDA_1.20.1.zip
###
##############################################################################
##############################################################################
% Total % Received % Xferd Average Speed Time Time Time Current
Dload Upload Total Spent Left Speed
0 0 0 0 0 0 0 0 --:--:-- --:--:-- --:--:-- 0
100 1789k 100 1789k 0 0 10.4M 0 --:--:-- --:--:-- --:--:-- 10.7M
install for i386
* installing *source* package 'EDDA' ...
** libs
C:/Rtools/mingw_32/bin/g++ -I"C:/Users/BIOCBU˜1/BBS-3˜1.8-B/R/include" -DNDEBUG -I"C:/Users/biocbuild/bbs-3.8-bioc/R/library/Rcpp/include" -I"C:/extsoft/include" -O2 -Wall -mtune=generic -c cuffdiff.cpp -o cuffdiff.o
C:/Rtools/mingw_32/bin/g++ -shared -s -static-libgcc -o EDDA.dll tmp.def cuffdiff.o -LC:/extsoft/lib/i386 -LC:/extsoft/lib -LC:/Users/BIOCBU˜1/BBS-3˜1.8-B/R/bin/i386 -lR
installing to C:/Users/biocbuild/bbs-3.8-bioc/meat/EDDA.buildbin-libdir/EDDA/libs/i386
** R
** data
** byte-compile and prepare package for lazy loading
No methods found in package 'baySeq' for request: 'rbind' when loading 'EDDA'
Note: possible error in 'exactTestByDeviance(y1, ': unused argument (big.count = big.count)
Note: possible error in 'exactTestBySmallP(y1, ': unused argument (big.count = big.count)
** help
*** installing help indices
converting help for package 'EDDA'
finding HTML links ... done
BP html
EDDA-package html
HBR html
SingleCell html
Wu html
computeAUC html
generateData html
plotPRC html
plotROC html
testDATs html
** building package indices
** installing vignettes
** testing if installed package can be loaded
No methods found in package 'baySeq' for request: 'rbind' when loading 'EDDA'
In R CMD INSTALL
install for x64
* installing *source* package 'EDDA' ...
** libs
C:/Rtools/mingw_64/bin/g++ -I"C:/Users/BIOCBU˜1/BBS-3˜1.8-B/R/include" -DNDEBUG -I"C:/Users/biocbuild/bbs-3.8-bioc/R/library/Rcpp/include" -I"C:/extsoft/include" -O2 -Wall -mtune=generic -c cuffdiff.cpp -o cuffdiff.o
C:/Rtools/mingw_64/bin/g++ -shared -s -static-libgcc -o EDDA.dll tmp.def cuffdiff.o -LC:/extsoft/lib/x64 -LC:/extsoft/lib -LC:/Users/BIOCBU˜1/BBS-3˜1.8-B/R/bin/x64 -lR
installing to C:/Users/biocbuild/bbs-3.8-bioc/meat/EDDA.buildbin-libdir/EDDA/libs/x64
** testing if installed package can be loaded
No methods found in package 'baySeq' for request: 'rbind' when loading 'EDDA'
* MD5 sums
packaged installation of 'EDDA' as EDDA_1.20.1.zip
* DONE (EDDA)
In R CMD INSTALL
In R CMD INSTALL
* installing to library 'C:/Users/biocbuild/bbs-3.8-bioc/R/library'
package 'EDDA' successfully unpacked and MD5 sums checked
In R CMD INSTALL