| Back to Multiple platform build/check report for BioC 3.8 |
|
This page was generated on 2019-04-13 11:21:50 -0400 (Sat, 13 Apr 2019).
| Package 455/1649 | Hostname | OS / Arch | INSTALL | BUILD | CHECK | BUILD BIN | ||||||
| EDASeq 2.16.3 Davide Risso
| malbec1 | Linux (Ubuntu 16.04.6 LTS) / x86_64 | OK | OK | OK | |||||||
| tokay1 | Windows Server 2012 R2 Standard / x64 | OK | OK | OK | [ OK ] | |||||||
| merida1 | OS X 10.11.6 El Capitan / x86_64 | OK | OK | OK | OK |
| Package: EDASeq |
| Version: 2.16.3 |
| Command: rm -rf EDASeq.buildbin-libdir && mkdir EDASeq.buildbin-libdir && C:\Users\biocbuild\bbs-3.8-bioc\R\bin\R.exe CMD INSTALL --merge-multiarch --build --library=EDASeq.buildbin-libdir EDASeq_2.16.3.tar.gz |
| StartedAt: 2019-04-13 07:13:01 -0400 (Sat, 13 Apr 2019) |
| EndedAt: 2019-04-13 07:13:38 -0400 (Sat, 13 Apr 2019) |
| EllapsedTime: 36.9 seconds |
| RetCode: 0 |
| Status: OK |
| PackageFile: EDASeq_2.16.3.zip |
| PackageFileSize: 1.113 MiB |
##############################################################################
##############################################################################
###
### Running command:
###
### rm -rf EDASeq.buildbin-libdir && mkdir EDASeq.buildbin-libdir && C:\Users\biocbuild\bbs-3.8-bioc\R\bin\R.exe CMD INSTALL --merge-multiarch --build --library=EDASeq.buildbin-libdir EDASeq_2.16.3.tar.gz
###
##############################################################################
##############################################################################
install for i386
* installing *source* package 'EDASeq' ...
** R
** data
** inst
** byte-compile and prepare package for lazy loading
** help
*** installing help indices
converting help for package 'EDASeq'
finding HTML links ... done
EDASeq-package html
finding level-2 HTML links ... done
MDPlot-methods html
SeqExpressionSet-class html
barplot-methods html
betweenLaneNormalization-methods html
biasBoxplot-methods html
biasPlot-methods html
boxplot-methods html
getGeneLengthAndGCContent html
meanVarPlot-methods html
newSeqExpressionSet html
plot-methods html
plotNtFrequency-methods html
plotPCA-methods html
plotQuality-methods html
plotRLE-methods html
withinLaneNormalization-methods html
yeastGC html
yeastLength html
** building package indices
** installing vignettes
** testing if installed package can be loaded
In R CMD INSTALL
install for x64
* installing *source* package 'EDASeq' ...
** testing if installed package can be loaded
* MD5 sums
packaged installation of 'EDASeq' as EDASeq_2.16.3.zip
* DONE (EDASeq)
In R CMD INSTALL
In R CMD INSTALL