| Back to Multiple platform build/check report for BioC 3.8 |
|
This page was generated on 2019-04-13 11:26:34 -0400 (Sat, 13 Apr 2019).
| Package 451/1649 | Hostname | OS / Arch | INSTALL | BUILD | CHECK | BUILD BIN | ||||||
| EBSEA 1.10.0 Arfa Mehmood
| malbec1 | Linux (Ubuntu 16.04.6 LTS) / x86_64 | OK | OK | OK | |||||||
| tokay1 | Windows Server 2012 R2 Standard / x64 | OK | OK | OK | [ OK ] | |||||||
| merida1 | OS X 10.11.6 El Capitan / x86_64 | OK | OK | OK | OK |
| Package: EBSEA |
| Version: 1.10.0 |
| Command: rm -rf EBSEA.buildbin-libdir && mkdir EBSEA.buildbin-libdir && C:\Users\biocbuild\bbs-3.8-bioc\R\bin\R.exe CMD INSTALL --merge-multiarch --build --library=EBSEA.buildbin-libdir EBSEA_1.10.0.tar.gz |
| StartedAt: 2019-04-13 07:12:53 -0400 (Sat, 13 Apr 2019) |
| EndedAt: 2019-04-13 07:13:03 -0400 (Sat, 13 Apr 2019) |
| EllapsedTime: 10.0 seconds |
| RetCode: 0 |
| Status: OK |
| PackageFile: EBSEA_1.10.0.zip |
| PackageFileSize: 185.5 KiB |
##############################################################################
##############################################################################
###
### Running command:
###
### rm -rf EBSEA.buildbin-libdir && mkdir EBSEA.buildbin-libdir && C:\Users\biocbuild\bbs-3.8-bioc\R\bin\R.exe CMD INSTALL --merge-multiarch --build --library=EBSEA.buildbin-libdir EBSEA_1.10.0.tar.gz
###
##############################################################################
##############################################################################
install for i386
* installing *source* package 'EBSEA' ...
** R
** data
** inst
** byte-compile and prepare package for lazy loading
** help
*** installing help indices
converting help for package 'EBSEA'
finding HTML links ... done
EBSEA html
filterCounts html
origCounts html
visualizeGenes html
** building package indices
** installing vignettes
** testing if installed package can be loaded
In R CMD INSTALL
install for x64
* installing *source* package 'EBSEA' ...
** testing if installed package can be loaded
* MD5 sums
packaged installation of 'EBSEA' as EBSEA_1.10.0.zip
* DONE (EBSEA)
In R CMD INSTALL
In R CMD INSTALL