| Back to Multiple platform build/check report for BioC 3.8 |
|
This page was generated on 2019-04-13 11:22:23 -0400 (Sat, 13 Apr 2019).
| Package 379/1649 | Hostname | OS / Arch | INSTALL | BUILD | CHECK | BUILD BIN | ||||||
| DeconRNASeq 1.24.0 Ting Gong
| malbec1 | Linux (Ubuntu 16.04.6 LTS) / x86_64 | OK | OK | OK | |||||||
| tokay1 | Windows Server 2012 R2 Standard / x64 | [ OK ] | OK | OK | OK | |||||||
| merida1 | OS X 10.11.6 El Capitan / x86_64 | OK | OK | OK | OK |
| Package: DeconRNASeq |
| Version: 1.24.0 |
| Command: C:\Users\biocbuild\bbs-3.8-bioc\R\bin\R.exe --arch x64 CMD INSTALL --no-multiarch DeconRNASeq |
| StartedAt: 2019-04-12 18:49:40 -0400 (Fri, 12 Apr 2019) |
| EndedAt: 2019-04-12 18:50:38 -0400 (Fri, 12 Apr 2019) |
| EllapsedTime: 58.0 seconds |
| RetCode: 0 |
| Status: OK |
##############################################################################
##############################################################################
###
### Running command:
###
### C:\Users\biocbuild\bbs-3.8-bioc\R\bin\R.exe --arch x64 CMD INSTALL --no-multiarch DeconRNASeq
###
##############################################################################
##############################################################################
* installing to library 'C:/Users/biocbuild/bbs-3.8-bioc/R/library'
* installing *source* package 'DeconRNASeq' ...
** R
** data
** demo
** byte-compile and prepare package for lazy loading
** help
*** installing help indices
converting help for package 'DeconRNASeq'
finding HTML links ... done
DeconRNASeq-package html
DeconRNASeq html
all.datasets html
array.proportions html
array.signatures html
condplot html
datasets html
decon.bootstrap html
fraction html
liver_kidney html
multi_tissue html
multiplot html
proportions html
rmse html
signatures html
x.data html
x.signature html
x.signature.filtered html
x.signature.filtered.optimal html
** building package indices
** installing vignettes
** testing if installed package can be loaded
* DONE (DeconRNASeq)
Making 'packages.html' ... done
In R CMD INSTALL