| Back to Multiple platform build/check report for BioC 3.8 |
|
This page was generated on 2019-04-13 11:27:39 -0400 (Sat, 13 Apr 2019).
| Package 368/1649 | Hostname | OS / Arch | INSTALL | BUILD | CHECK | BUILD BIN | ||||||
| DaMiRseq 1.6.2 Mattia Chiesa
| malbec1 | Linux (Ubuntu 16.04.6 LTS) / x86_64 | OK | OK | OK | |||||||
| tokay1 | Windows Server 2012 R2 Standard / x64 | [ OK ] | OK | OK | OK | |||||||
| merida1 | OS X 10.11.6 El Capitan / x86_64 | OK | OK | OK | OK |
| Package: DaMiRseq |
| Version: 1.6.2 |
| Command: C:\cygwin\bin\curl.exe -O https://malbec1.bioconductor.org/BBS/3.8/bioc/src/contrib/DaMiRseq_1.6.2.tar.gz && rm -rf DaMiRseq.buildbin-libdir && mkdir DaMiRseq.buildbin-libdir && C:\Users\biocbuild\bbs-3.8-bioc\R\bin\R.exe CMD INSTALL --merge-multiarch --build --library=DaMiRseq.buildbin-libdir DaMiRseq_1.6.2.tar.gz && C:\Users\biocbuild\bbs-3.8-bioc\R\bin\R.exe CMD INSTALL DaMiRseq_1.6.2.zip && rm DaMiRseq_1.6.2.tar.gz DaMiRseq_1.6.2.zip |
| StartedAt: 2019-04-12 20:08:20 -0400 (Fri, 12 Apr 2019) |
| EndedAt: 2019-04-12 20:11:49 -0400 (Fri, 12 Apr 2019) |
| EllapsedTime: 209.2 seconds |
| RetCode: 0 |
| Status: OK |
##############################################################################
##############################################################################
###
### Running command:
###
### C:\cygwin\bin\curl.exe -O https://malbec1.bioconductor.org/BBS/3.8/bioc/src/contrib/DaMiRseq_1.6.2.tar.gz && rm -rf DaMiRseq.buildbin-libdir && mkdir DaMiRseq.buildbin-libdir && C:\Users\biocbuild\bbs-3.8-bioc\R\bin\R.exe CMD INSTALL --merge-multiarch --build --library=DaMiRseq.buildbin-libdir DaMiRseq_1.6.2.tar.gz && C:\Users\biocbuild\bbs-3.8-bioc\R\bin\R.exe CMD INSTALL DaMiRseq_1.6.2.zip && rm DaMiRseq_1.6.2.tar.gz DaMiRseq_1.6.2.zip
###
##############################################################################
##############################################################################
% Total % Received % Xferd Average Speed Time Time Time Current
Dload Upload Total Spent Left Speed
0 0 0 0 0 0 0 0 --:--:-- --:--:-- --:--:-- 0
0 2847k 0 0 0 0 0 0 --:--:-- --:--:-- --:--:-- 0
100 2847k 100 2847k 0 0 28.2M 0 --:--:-- --:--:-- --:--:-- 28.9M
install for i386
* installing *source* package 'DaMiRseq' ...
** R
** data
*** moving datasets to lazyload DB
** inst
** byte-compile and prepare package for lazy loading
** help
*** installing help indices
converting help for package 'DaMiRseq'
finding HTML links ... done
DaMiR.Allplot html
DaMiR.Clustplot html
DaMiR.EnsembleLearning html
DaMiR.EnsembleLearning2cl html
DaMiR.EnsembleLearning2cl_Predict html
DaMiR.EnsembleLearning2cl_Test html
DaMiR.EnsembleLearning2cl_Training html
DaMiR.EnsembleLearningNcl html
DaMiR.FBest html
DaMiR.FReduct html
finding level-2 HTML links ... done
DaMiR.FSelect html
DaMiR.FSort html
DaMiR.MDSplot html
DaMiR.SV html
DaMiR.SVadjust html
DaMiR.corrplot html
DaMiR.goldenDice html
DaMiR.makeSE html
DaMiR.normalization html
DaMiR.sampleFilt html
DaMiR.transpose html
SE html
SEtest_norm html
data_min html
data_norm html
data_reduced html
data_relief html
df html
selected_features html
sv html
** building package indices
** installing vignettes
'DaMiRseq.Rnw' using 'UTF-8'
** testing if installed package can be loaded
In R CMD INSTALL
install for x64
* installing *source* package 'DaMiRseq' ...
** testing if installed package can be loaded
* MD5 sums
packaged installation of 'DaMiRseq' as DaMiRseq_1.6.2.zip
* DONE (DaMiRseq)
In R CMD INSTALL
In R CMD INSTALL
* installing to library 'C:/Users/biocbuild/bbs-3.8-bioc/R/library'
package 'DaMiRseq' successfully unpacked and MD5 sums checked
In R CMD INSTALL