| Back to Multiple platform build/check report for BioC 3.8 |
|
This page was generated on 2019-04-13 11:29:40 -0400 (Sat, 13 Apr 2019).
| Package 393/1649 | Hostname | OS / Arch | INSTALL | BUILD | CHECK | BUILD BIN | ||||||
| DEqMS 1.0.1 Yafeng Zhu
| malbec1 | Linux (Ubuntu 16.04.6 LTS) / x86_64 | OK | OK | OK | |||||||
| tokay1 | Windows Server 2012 R2 Standard / x64 | OK | OK | OK | [ OK ] | |||||||
| merida1 | OS X 10.11.6 El Capitan / x86_64 | OK | OK | OK | OK |
| Package: DEqMS |
| Version: 1.0.1 |
| Command: rm -rf DEqMS.buildbin-libdir && mkdir DEqMS.buildbin-libdir && C:\Users\biocbuild\bbs-3.8-bioc\R\bin\R.exe CMD INSTALL --merge-multiarch --build --library=DEqMS.buildbin-libdir DEqMS_1.0.1.tar.gz |
| StartedAt: 2019-04-13 07:09:55 -0400 (Sat, 13 Apr 2019) |
| EndedAt: 2019-04-13 07:10:06 -0400 (Sat, 13 Apr 2019) |
| EllapsedTime: 10.8 seconds |
| RetCode: 0 |
| Status: OK |
| PackageFile: DEqMS_1.0.1.zip |
| PackageFileSize: 543.3 KiB |
##############################################################################
##############################################################################
###
### Running command:
###
### rm -rf DEqMS.buildbin-libdir && mkdir DEqMS.buildbin-libdir && C:\Users\biocbuild\bbs-3.8-bioc\R\bin\R.exe CMD INSTALL --merge-multiarch --build --library=DEqMS.buildbin-libdir DEqMS_1.0.1.tar.gz
###
##############################################################################
##############################################################################
install for i386
* installing *source* package 'DEqMS' ...
** R
** inst
** byte-compile and prepare package for lazy loading
** help
*** installing help indices
converting help for package 'DEqMS'
finding HTML links ... done
equalMedianNormalization html
farmsSummary html
medianSummary html
medianSweeping html
medpolishSummary html
outputResult html
peptideProfilePlot html
plotFitCurve html
spectraCounteBayes html
** building package indices
** installing vignettes
** testing if installed package can be loaded
In R CMD INSTALL
install for x64
* installing *source* package 'DEqMS' ...
** testing if installed package can be loaded
* MD5 sums
packaged installation of 'DEqMS' as DEqMS_1.0.1.zip
* DONE (DEqMS)
In R CMD INSTALL
In R CMD INSTALL