| Back to Multiple platform build/check report for BioC 3.8 |
|
This page was generated on 2019-04-13 11:21:40 -0400 (Sat, 13 Apr 2019).
| Package 403/1649 | Hostname | OS / Arch | INSTALL | BUILD | CHECK | BUILD BIN | ||||||
| DEXSeq 1.28.3 Alejandro Reyes
| malbec1 | Linux (Ubuntu 16.04.6 LTS) / x86_64 | OK | OK | OK | |||||||
| tokay1 | Windows Server 2012 R2 Standard / x64 | [ OK ] | OK | OK | OK | |||||||
| merida1 | OS X 10.11.6 El Capitan / x86_64 | OK | OK | OK | OK |
| Package: DEXSeq |
| Version: 1.28.3 |
| Command: C:\cygwin\bin\curl.exe -O https://malbec1.bioconductor.org/BBS/3.8/bioc/src/contrib/DEXSeq_1.28.3.tar.gz && rm -rf DEXSeq.buildbin-libdir && mkdir DEXSeq.buildbin-libdir && C:\Users\biocbuild\bbs-3.8-bioc\R\bin\R.exe CMD INSTALL --merge-multiarch --build --library=DEXSeq.buildbin-libdir DEXSeq_1.28.3.tar.gz && C:\Users\biocbuild\bbs-3.8-bioc\R\bin\R.exe CMD INSTALL DEXSeq_1.28.3.zip && rm DEXSeq_1.28.3.tar.gz DEXSeq_1.28.3.zip |
| StartedAt: 2019-04-12 19:44:16 -0400 (Fri, 12 Apr 2019) |
| EndedAt: 2019-04-12 19:45:47 -0400 (Fri, 12 Apr 2019) |
| EllapsedTime: 91.3 seconds |
| RetCode: 0 |
| Status: OK |
##############################################################################
##############################################################################
###
### Running command:
###
### C:\cygwin\bin\curl.exe -O https://malbec1.bioconductor.org/BBS/3.8/bioc/src/contrib/DEXSeq_1.28.3.tar.gz && rm -rf DEXSeq.buildbin-libdir && mkdir DEXSeq.buildbin-libdir && C:\Users\biocbuild\bbs-3.8-bioc\R\bin\R.exe CMD INSTALL --merge-multiarch --build --library=DEXSeq.buildbin-libdir DEXSeq_1.28.3.tar.gz && C:\Users\biocbuild\bbs-3.8-bioc\R\bin\R.exe CMD INSTALL DEXSeq_1.28.3.zip && rm DEXSeq_1.28.3.tar.gz DEXSeq_1.28.3.zip
###
##############################################################################
##############################################################################
% Total % Received % Xferd Average Speed Time Time Time Current
Dload Upload Total Spent Left Speed
0 0 0 0 0 0 0 0 --:--:-- --:--:-- --:--:-- 0
100 55856 100 55856 0 0 962k 0 --:--:-- --:--:-- --:--:-- 1029k
install for i386
* installing *source* package 'DEXSeq' ...
** R
** inst
** byte-compile and prepare package for lazy loading
** help
*** installing help indices
converting help for package 'DEXSeq'
finding HTML links ... done
DEXSeq-defunct html
DEXSeq html
DEXSeqDataSet html
DEXSeqHTML html
DEXSeqResults html
accessors html
counts html
estimateDispersions html
estimateExonFoldChanges html
estimateSizeFactors html
methods-gr html
otherMethods html
perGeneQValue html
plotDEXSeq html
plotDispEsts html
plotMA html
testForDEU html
** building package indices
** installing vignettes
** testing if installed package can be loaded
In R CMD INSTALL
install for x64
* installing *source* package 'DEXSeq' ...
** testing if installed package can be loaded
* MD5 sums
packaged installation of 'DEXSeq' as DEXSeq_1.28.3.zip
* DONE (DEXSeq)
In R CMD INSTALL
In R CMD INSTALL
* installing to library 'C:/Users/biocbuild/bbs-3.8-bioc/R/library'
package 'DEXSeq' successfully unpacked and MD5 sums checked
In R CMD INSTALL