| Back to Multiple platform build/check report for BioC 3.8 |
|
This page was generated on 2019-04-16 11:52:57 -0400 (Tue, 16 Apr 2019).
| Package 392/1649 | Hostname | OS / Arch | INSTALL | BUILD | CHECK | BUILD BIN | ||||||
| DEP 1.4.1 Arne Smits
| malbec1 | Linux (Ubuntu 16.04.6 LTS) / x86_64 | OK | OK | [ OK ] | |||||||
| merida1 | OS X 10.11.6 El Capitan / x86_64 | OK | OK | OK | OK |
| Package: DEP |
| Version: 1.4.1 |
| Command: /home/biocbuild/bbs-3.8-bioc/R/bin/R CMD check --install=check:DEP.install-out.txt --library=/home/biocbuild/bbs-3.8-bioc/R/library --no-vignettes --timings DEP_1.4.1.tar.gz |
| StartedAt: 2019-04-15 23:24:56 -0400 (Mon, 15 Apr 2019) |
| EndedAt: 2019-04-15 23:30:30 -0400 (Mon, 15 Apr 2019) |
| EllapsedTime: 333.6 seconds |
| RetCode: 0 |
| Status: OK |
| CheckDir: DEP.Rcheck |
| Warnings: 0 |
##############################################################################
##############################################################################
###
### Running command:
###
### /home/biocbuild/bbs-3.8-bioc/R/bin/R CMD check --install=check:DEP.install-out.txt --library=/home/biocbuild/bbs-3.8-bioc/R/library --no-vignettes --timings DEP_1.4.1.tar.gz
###
##############################################################################
##############################################################################
* using log directory ‘/home/biocbuild/bbs-3.8-bioc/meat/DEP.Rcheck’
* using R version 3.5.3 (2019-03-11)
* using platform: x86_64-pc-linux-gnu (64-bit)
* using session charset: UTF-8
* using option ‘--no-vignettes’
* checking for file ‘DEP/DESCRIPTION’ ... OK
* this is package ‘DEP’ version ‘1.4.1’
* package encoding: UTF-8
* checking package namespace information ... OK
* checking package dependencies ... OK
* checking if this is a source package ... OK
* checking if there is a namespace ... OK
* checking for hidden files and directories ... OK
* checking for portable file names ... OK
* checking for sufficient/correct file permissions ... OK
* checking whether package ‘DEP’ can be installed ... OK
* checking installed package size ... OK
* checking package directory ... OK
* checking ‘build’ directory ... OK
* checking DESCRIPTION meta-information ... OK
* checking top-level files ... OK
* checking for left-over files ... OK
* checking index information ... OK
* checking package subdirectories ... OK
* checking R files for non-ASCII characters ... OK
* checking R files for syntax errors ... OK
* checking whether the package can be loaded ... OK
* checking whether the package can be loaded with stated dependencies ... OK
* checking whether the package can be unloaded cleanly ... OK
* checking whether the namespace can be loaded with stated dependencies ... OK
* checking whether the namespace can be unloaded cleanly ... OK
* checking dependencies in R code ... OK
* checking S3 generic/method consistency ... OK
* checking replacement functions ... OK
* checking foreign function calls ... OK
* checking R code for possible problems ... OK
* checking Rd files ... OK
* checking Rd metadata ... OK
* checking Rd cross-references ... OK
* checking for missing documentation entries ... OK
* checking for code/documentation mismatches ... OK
* checking Rd \usage sections ... OK
* checking Rd contents ... OK
* checking for unstated dependencies in examples ... OK
* checking contents of ‘data’ directory ... OK
* checking data for non-ASCII characters ... OK
* checking data for ASCII and uncompressed saves ... OK
* checking R/sysdata.rda ... OK
* checking files in ‘vignettes’ ... OK
* checking examples ... OK
Examples with CPU or elapsed time > 5s
user system elapsed
plot_volcano 9.360 0.004 9.399
plot_heatmap 6.016 0.008 6.031
* checking for unstated dependencies in ‘tests’ ... OK
* checking tests ...
Running ‘testthat.R’
OK
* checking for unstated dependencies in vignettes ... OK
* checking package vignettes in ‘inst/doc’ ... OK
* checking running R code from vignettes ... SKIPPED
* checking re-building of vignette outputs ... SKIPPED
* checking PDF version of manual ... OK
* DONE
Status: OK
DEP.Rcheck/00install.out
############################################################################## ############################################################################## ### ### Running command: ### ### /home/biocbuild/bbs-3.8-bioc/R/bin/R CMD INSTALL DEP ### ############################################################################## ############################################################################## * installing to library ‘/home/biocbuild/bbs-3.8-bioc/R/library’ * installing *source* package ‘DEP’ ... ** R ** data *** moving datasets to lazyload DB ** inst ** byte-compile and prepare package for lazy loading ** help *** installing help indices ** building package indices ** installing vignettes ** testing if installed package can be loaded * DONE (DEP)
DEP.Rcheck/tests/testthat.Rout
R version 3.5.3 (2019-03-11) -- "Great Truth"
Copyright (C) 2019 The R Foundation for Statistical Computing
Platform: x86_64-pc-linux-gnu (64-bit)
R is free software and comes with ABSOLUTELY NO WARRANTY.
You are welcome to redistribute it under certain conditions.
Type 'license()' or 'licence()' for distribution details.
R is a collaborative project with many contributors.
Type 'contributors()' for more information and
'citation()' on how to cite R or R packages in publications.
Type 'demo()' for some demos, 'help()' for on-line help, or
'help.start()' for an HTML browser interface to help.
Type 'q()' to quit R.
> library(testthat)
> library(DEP)
>
> test_check("DEP")
══ testthat results ═══════════════════════════════════════════════════════════
OK: 327 SKIPPED: 0 FAILED: 0
>
> proc.time()
user system elapsed
60.876 2.688 63.945
DEP.Rcheck/DEP-Ex.timings
| name | user | system | elapsed | |
| LFQ | 2.420 | 0.024 | 2.449 | |
| TMT | 0.000 | 0.000 | 0.001 | |
| add_rejections | 1.520 | 0.032 | 1.554 | |
| analyze_dep | 2.976 | 0.036 | 3.010 | |
| filter_missval | 0.800 | 0.000 | 0.801 | |
| filter_proteins | 0.500 | 0.000 | 0.502 | |
| get_df_long | 2.092 | 0.004 | 2.101 | |
| get_df_wide | 1.248 | 0.004 | 1.251 | |
| get_prefix | 0.004 | 0.000 | 0.003 | |
| get_results | 1.628 | 0.004 | 1.631 | |
| get_suffix | 0.004 | 0.000 | 0.001 | |
| import_IsobarQuant | 0 | 0 | 0 | |
| import_MaxQuant | 0.072 | 0.000 | 0.074 | |
| impute | 2.112 | 0.004 | 2.119 | |
| make_se | 0.060 | 0.000 | 0.059 | |
| make_se_parse | 0.112 | 0.000 | 0.111 | |
| make_unique | 0.032 | 0.000 | 0.029 | |
| manual_impute | 0.684 | 0.000 | 0.685 | |
| meanSdPlot | 0.828 | 0.000 | 0.828 | |
| normalize_vsn | 0.424 | 0.000 | 0.424 | |
| plot_all | 2.100 | 0.008 | 2.111 | |
| plot_cond | 1.964 | 0.004 | 1.971 | |
| plot_cond_freq | 1.724 | 0.004 | 1.730 | |
| plot_cond_overlap | 1.064 | 0.000 | 1.064 | |
| plot_cor | 1.988 | 0.004 | 1.996 | |
| plot_coverage | 1.000 | 0.000 | 1.001 | |
| plot_detect | 1.188 | 0.000 | 1.191 | |
| plot_dist | 3.360 | 0.024 | 3.389 | |
| plot_frequency | 0.396 | 0.004 | 0.399 | |
| plot_gsea | 1.068 | 0.004 | 1.074 | |
| plot_heatmap | 6.016 | 0.008 | 6.031 | |
| plot_imputation | 2.080 | 0.008 | 2.090 | |
| plot_missval | 2.072 | 0.004 | 2.080 | |
| plot_normalization | 2.104 | 0.004 | 2.110 | |
| plot_numbers | 0.524 | 0.004 | 0.531 | |
| plot_p_hist | 2.400 | 0.000 | 2.403 | |
| plot_pca | 1.912 | 0.000 | 1.914 | |
| plot_single | 1.844 | 0.000 | 1.849 | |
| plot_volcano | 9.360 | 0.004 | 9.399 | |
| process | 1.964 | 0.000 | 1.969 | |
| report | 0 | 0 | 0 | |
| run_app | 0 | 0 | 0 | |
| se2msn | 0.092 | 0.004 | 0.099 | |
| test_diff | 1.524 | 0.000 | 1.531 | |
| test_gsea | 1.336 | 0.000 | 1.343 | |
| theme_DEP1 | 0.668 | 0.000 | 0.670 | |
| theme_DEP2 | 0.588 | 0.000 | 0.587 | |