| Back to Multiple platform build/check report for BioC 3.8 |
|
This page was generated on 2019-04-16 11:59:28 -0400 (Tue, 16 Apr 2019).
| Package 384/1649 | Hostname | OS / Arch | INSTALL | BUILD | CHECK | BUILD BIN | ||||||
| DEFormats 1.10.1 Andrzej OleÅ›
| malbec1 | Linux (Ubuntu 16.04.6 LTS) / x86_64 | OK | OK | OK | |||||||
| merida1 | OS X 10.11.6 El Capitan / x86_64 | OK | OK | OK | [ OK ] |
| Package: DEFormats |
| Version: 1.10.1 |
| Command: rm -rf DEFormats.buildbin-libdir && mkdir DEFormats.buildbin-libdir && /Users/biocbuild/BBS/utils/build-universal.sh DEFormats_1.10.1.tar.gz /Library/Frameworks/R.framework/Versions/Current/Resources/bin/R DEFormats.buildbin-libdir |
| StartedAt: 2019-04-16 03:56:07 -0400 (Tue, 16 Apr 2019) |
| EndedAt: 2019-04-16 03:56:59 -0400 (Tue, 16 Apr 2019) |
| EllapsedTime: 52.3 seconds |
| RetCode: 0 |
| Status: OK |
| PackageFile: DEFormats_1.10.1.tgz |
| PackageFileSize: 537.3 KiB |
##############################################################################
##############################################################################
###
### Running command:
###
### rm -rf DEFormats.buildbin-libdir && mkdir DEFormats.buildbin-libdir && /Users/biocbuild/BBS/utils/build-universal.sh DEFormats_1.10.1.tar.gz /Library/Frameworks/R.framework/Versions/Current/Resources/bin/R DEFormats.buildbin-libdir
###
##############################################################################
##############################################################################
>>>>>>>
>>>>>>> INSTALLATION WITH 'R CMD INSTALL --preclean --no-multiarch --library=DEFormats.buildbin-libdir DEFormats_1.10.1.tar.gz'
>>>>>>>
* installing *source* package ‘DEFormats’ ...
** R
** inst
** byte-compile and prepare package for lazy loading
Creating a generic function for ‘DGEList’ from ‘edgeR’ in package ‘DEFormats’
(from the saved implicit definition)
** help
*** installing help indices
** building package indices
** installing vignettes
** testing if installed package can be loaded
* DONE (DEFormats)