| Back to Multiple platform build/check report for BioC 3.8 |
|
This page was generated on 2019-04-16 11:54:11 -0400 (Tue, 16 Apr 2019).
| Package 381/1649 | Hostname | OS / Arch | INSTALL | BUILD | CHECK | BUILD BIN | ||||||
| DEDS 1.56.0 Yuanyuan Xiao
| malbec1 | Linux (Ubuntu 16.04.6 LTS) / x86_64 | OK | OK | OK | |||||||
| merida1 | OS X 10.11.6 El Capitan / x86_64 | OK | OK | [ OK ] | OK |
| Package: DEDS |
| Version: 1.56.0 |
| Command: /Library/Frameworks/R.framework/Versions/Current/Resources/bin/R CMD check --install=check:DEDS.install-out.txt --library=/Library/Frameworks/R.framework/Versions/Current/Resources/library --no-vignettes --timings DEDS_1.56.0.tar.gz |
| StartedAt: 2019-04-15 23:24:49 -0400 (Mon, 15 Apr 2019) |
| EndedAt: 2019-04-15 23:25:28 -0400 (Mon, 15 Apr 2019) |
| EllapsedTime: 38.5 seconds |
| RetCode: 0 |
| Status: OK |
| CheckDir: DEDS.Rcheck |
| Warnings: 0 |
##############################################################################
##############################################################################
###
### Running command:
###
### /Library/Frameworks/R.framework/Versions/Current/Resources/bin/R CMD check --install=check:DEDS.install-out.txt --library=/Library/Frameworks/R.framework/Versions/Current/Resources/library --no-vignettes --timings DEDS_1.56.0.tar.gz
###
##############################################################################
##############################################################################
* using log directory ‘/Users/biocbuild/bbs-3.8-bioc/meat/DEDS.Rcheck’
* using R version 3.5.3 (2019-03-11)
* using platform: x86_64-apple-darwin15.6.0 (64-bit)
* using session charset: UTF-8
* using option ‘--no-vignettes’
* checking for file ‘DEDS/DESCRIPTION’ ... OK
* this is package ‘DEDS’ version ‘1.56.0’
* checking package namespace information ... OK
* checking package dependencies ... OK
* checking if this is a source package ... OK
* checking if there is a namespace ... OK
* checking for hidden files and directories ... OK
* checking for portable file names ... OK
* checking for sufficient/correct file permissions ... OK
* checking whether package ‘DEDS’ can be installed ... OK
* checking installed package size ... OK
* checking package directory ... OK
* checking ‘build’ directory ... OK
* checking DESCRIPTION meta-information ... OK
* checking top-level files ... OK
* checking for left-over files ... OK
* checking index information ... OK
* checking package subdirectories ... OK
* checking R files for non-ASCII characters ... OK
* checking R files for syntax errors ... OK
* checking whether the package can be loaded ... OK
* checking whether the package can be loaded with stated dependencies ... OK
* checking whether the package can be unloaded cleanly ... OK
* checking whether the namespace can be loaded with stated dependencies ... OK
* checking whether the namespace can be unloaded cleanly ... OK
* checking dependencies in R code ... OK
* checking S3 generic/method consistency ... OK
* checking replacement functions ... OK
* checking foreign function calls ... OK
* checking R code for possible problems ... NOTE
deds.stat.linkC: warning in matrix(res$t, byrow = FALSE, nc = newX$nT):
partial argument match of 'nc' to 'ncol'
sam.multiclass.func: warning in matrix(nr = nrow(X), nc = B): partial
argument match of 'nr' to 'nrow'
sam.multiclass.func: warning in matrix(nr = nrow(X), nc = B): partial
argument match of 'nc' to 'ncol'
sam.oneclass.func: warning in matrix(nr = nrow(X), nc = B): partial
argument match of 'nr' to 'nrow'
sam.oneclass.func: warning in matrix(nr = nrow(X), nc = B): partial
argument match of 'nc' to 'ncol'
sam.twoclass.func: warning in matrix(nr = nrow(X), nc = B): partial
argument match of 'nr' to 'nrow'
sam.twoclass.func: warning in matrix(nr = nrow(X), nc = B): partial
argument match of 'nc' to 'ncol'
* checking Rd files ... NOTE
prepare_Rd: comp.fdr.Rd:52-54: Dropping empty section \details
prepare_Rd: deds.pval.Rd:65-68: Dropping empty section \examples
prepare_Rd: hist.DEDS.Rd:47-50: Dropping empty section \examples
* checking Rd metadata ... OK
* checking Rd cross-references ... OK
* checking for missing documentation entries ... OK
* checking for code/documentation mismatches ... OK
* checking Rd \usage sections ... OK
* checking Rd contents ... OK
* checking for unstated dependencies in examples ... OK
* checking contents of ‘data’ directory ... OK
* checking data for non-ASCII characters ... OK
* checking data for ASCII and uncompressed saves ... OK
* checking line endings in C/C++/Fortran sources/headers ... OK
* checking compiled code ... NOTE
Note: information on .o files is not available
* checking sizes of PDF files under ‘inst/doc’ ... OK
* checking files in ‘vignettes’ ... OK
* checking examples ... OK
Examples with CPU or elapsed time > 5s
user system elapsed
deds.chooseTest 5.732 0.041 5.813
* checking for unstated dependencies in vignettes ... OK
* checking package vignettes in ‘inst/doc’ ... OK
* checking running R code from vignettes ... SKIPPED
* checking re-building of vignette outputs ... SKIPPED
* checking PDF version of manual ... OK
* DONE
Status: 3 NOTEs
See
‘/Users/biocbuild/bbs-3.8-bioc/meat/DEDS.Rcheck/00check.log’
for details.
DEDS.Rcheck/00install.out
############################################################################## ############################################################################## ### ### Running command: ### ### /Library/Frameworks/R.framework/Versions/Current/Resources/bin/R CMD INSTALL DEDS ### ############################################################################## ############################################################################## * installing to library ‘/Library/Frameworks/R.framework/Versions/3.5/Resources/library’ * installing *source* package ‘DEDS’ ... ** libs clang -I"/Library/Frameworks/R.framework/Resources/include" -DNDEBUG -I/usr/local/include -fPIC -Wall -g -O2 -c deds.c -o deds.o clang -I"/Library/Frameworks/R.framework/Resources/include" -DNDEBUG -I/usr/local/include -fPIC -Wall -g -O2 -c distance.c -o distance.o clang -I"/Library/Frameworks/R.framework/Resources/include" -DNDEBUG -I/usr/local/include -fPIC -Wall -g -O2 -c input.c -o input.o clang -I"/Library/Frameworks/R.framework/Resources/include" -DNDEBUG -I/usr/local/include -fPIC -Wall -g -O2 -c manip.c -o manip.o clang -I"/Library/Frameworks/R.framework/Resources/include" -DNDEBUG -I/usr/local/include -fPIC -Wall -g -O2 -c random.c -o random.o clang -I"/Library/Frameworks/R.framework/Resources/include" -DNDEBUG -I/usr/local/include -fPIC -Wall -g -O2 -c sampling.c -o sampling.o clang -I"/Library/Frameworks/R.framework/Resources/include" -DNDEBUG -I/usr/local/include -fPIC -Wall -g -O2 -c stat_fun.c -o stat_fun.o clang -dynamiclib -Wl,-headerpad_max_install_names -undefined dynamic_lookup -single_module -multiply_defined suppress -L/Library/Frameworks/R.framework/Resources/lib -L/usr/local/lib -o DEDS.so deds.o distance.o input.o manip.o random.o sampling.o stat_fun.o -F/Library/Frameworks/R.framework/.. -framework R -Wl,-framework -Wl,CoreFoundation installing to /Library/Frameworks/R.framework/Versions/3.5/Resources/library/DEDS/libs ** R ** data ** byte-compile and prepare package for lazy loading ** help *** installing help indices ** building package indices ** installing vignettes ** testing if installed package can be loaded * DONE (DEDS)
DEDS.Rcheck/DEDS-Ex.timings
| name | user | system | elapsed | |
| aggregateFun | 0.012 | 0.000 | 0.013 | |
| comp.B | 0.004 | 0.000 | 0.005 | |
| comp.F | 0.224 | 0.002 | 0.227 | |
| comp.FC | 0.003 | 0.000 | 0.004 | |
| comp.SAM | 0.712 | 0.011 | 0.728 | |
| comp.adjp | 0.009 | 0.001 | 0.009 | |
| comp.ebayes | 0.003 | 0.001 | 0.003 | |
| comp.fdr | 0.016 | 0.002 | 0.018 | |
| comp.modF | 0.002 | 0.000 | 0.002 | |
| comp.modt | 0.002 | 0.000 | 0.002 | |
| comp.stat | 0.005 | 0.001 | 0.005 | |
| comp.t | 0.046 | 0.001 | 0.046 | |
| comp.unadjp | 0.008 | 0.001 | 0.009 | |
| deds.chooseTest | 5.732 | 0.041 | 5.813 | |
| deds.genExtra | 0.000 | 0.000 | 0.001 | |
| deds.stat | 4.521 | 0.025 | 4.584 | |
| deds.stat.linkC | 0.023 | 0.002 | 0.024 | |
| pairs.DEDS | 0.113 | 0.005 | 0.120 | |
| qqnorm.DEDS | 0.040 | 0.003 | 0.043 | |
| topgenes | 0.026 | 0.002 | 0.027 | |