| Back to Multiple platform build/check report for BioC 3.8 |
|
This page was generated on 2019-04-16 12:05:48 -0400 (Tue, 16 Apr 2019).
| Package 378/1649 | Hostname | OS / Arch | INSTALL | BUILD | CHECK | BUILD BIN | ||||||
| DEComplexDisease 1.2.0 Guofeng Meng
| malbec1 | Linux (Ubuntu 16.04.6 LTS) / x86_64 | OK | OK | OK | |||||||
| merida1 | OS X 10.11.6 El Capitan / x86_64 | OK | OK | [ OK ] | OK |
| Package: DEComplexDisease |
| Version: 1.2.0 |
| Command: /Library/Frameworks/R.framework/Versions/Current/Resources/bin/R CMD check --install=check:DEComplexDisease.install-out.txt --library=/Library/Frameworks/R.framework/Versions/Current/Resources/library --no-vignettes --timings DEComplexDisease_1.2.0.tar.gz |
| StartedAt: 2019-04-15 23:22:53 -0400 (Mon, 15 Apr 2019) |
| EndedAt: 2019-04-15 23:27:00 -0400 (Mon, 15 Apr 2019) |
| EllapsedTime: 246.7 seconds |
| RetCode: 0 |
| Status: OK |
| CheckDir: DEComplexDisease.Rcheck |
| Warnings: 0 |
##############################################################################
##############################################################################
###
### Running command:
###
### /Library/Frameworks/R.framework/Versions/Current/Resources/bin/R CMD check --install=check:DEComplexDisease.install-out.txt --library=/Library/Frameworks/R.framework/Versions/Current/Resources/library --no-vignettes --timings DEComplexDisease_1.2.0.tar.gz
###
##############################################################################
##############################################################################
* using log directory ‘/Users/biocbuild/bbs-3.8-bioc/meat/DEComplexDisease.Rcheck’
* using R version 3.5.3 (2019-03-11)
* using platform: x86_64-apple-darwin15.6.0 (64-bit)
* using session charset: UTF-8
* using option ‘--no-vignettes’
* checking for file ‘DEComplexDisease/DESCRIPTION’ ... OK
* checking extension type ... Package
* this is package ‘DEComplexDisease’ version ‘1.2.0’
* checking package namespace information ... OK
* checking package dependencies ... OK
* checking if this is a source package ... OK
* checking if there is a namespace ... OK
* checking for hidden files and directories ... OK
* checking for portable file names ... OK
* checking for sufficient/correct file permissions ... OK
* checking whether package ‘DEComplexDisease’ can be installed ... OK
* checking installed package size ... OK
* checking package directory ... OK
* checking ‘build’ directory ... OK
* checking DESCRIPTION meta-information ... OK
* checking top-level files ... OK
* checking for left-over files ... OK
* checking index information ... OK
* checking package subdirectories ... OK
* checking R files for non-ASCII characters ... OK
* checking R files for syntax errors ... OK
* checking whether the package can be loaded ... OK
* checking whether the package can be loaded with stated dependencies ... OK
* checking whether the package can be unloaded cleanly ... OK
* checking whether the namespace can be loaded with stated dependencies ... OK
* checking whether the namespace can be unloaded cleanly ... OK
* checking dependencies in R code ... OK
* checking S3 generic/method consistency ... OK
* checking replacement functions ... OK
* checking foreign function calls ... OK
* checking R code for possible problems ... OK
* checking Rd files ... NOTE
prepare_Rd: Plot.cluster.module.Rd:53-55: Dropping empty section \references
prepare_Rd: Plot.deg.specific.test.Rd:43-45: Dropping empty section \references
prepare_Rd: module.curve.Rd:27-29: Dropping empty section \references
prepare_Rd: summarize.cluster.module.Rd:30-32: Dropping empty section \references
prepare_Rd: summarize.seed.module.Rd:31-33: Dropping empty section \references
* checking Rd metadata ... OK
* checking Rd cross-references ... OK
* checking for missing documentation entries ... OK
* checking for code/documentation mismatches ... OK
* checking Rd \usage sections ... OK
* checking Rd contents ... OK
* checking for unstated dependencies in examples ... OK
* checking contents of ‘data’ directory ... OK
* checking data for non-ASCII characters ... OK
* checking data for ASCII and uncompressed saves ... OK
* checking line endings in C/C++/Fortran sources/headers ... OK
* checking compiled code ... NOTE
Note: information on .o files is not available
* checking sizes of PDF files under ‘inst/doc’ ... OK
* checking installed files from ‘inst/doc’ ... OK
* checking files in ‘vignettes’ ... OK
* checking examples ... OK
Examples with CPU or elapsed time > 5s
user system elapsed
bi.deg 26.242 1.99 28.417
* checking for unstated dependencies in vignettes ... OK
* checking package vignettes in ‘inst/doc’ ... OK
* checking running R code from vignettes ... SKIPPED
* checking re-building of vignette outputs ... SKIPPED
* checking PDF version of manual ... OK
* DONE
Status: 2 NOTEs
See
‘/Users/biocbuild/bbs-3.8-bioc/meat/DEComplexDisease.Rcheck/00check.log’
for details.
DEComplexDisease.Rcheck/00install.out
############################################################################## ############################################################################## ### ### Running command: ### ### /Library/Frameworks/R.framework/Versions/Current/Resources/bin/R CMD INSTALL DEComplexDisease ### ############################################################################## ############################################################################## * installing to library ‘/Library/Frameworks/R.framework/Versions/3.5/Resources/library’ * installing *source* package ‘DEComplexDisease’ ... ** libs clang++ -I"/Library/Frameworks/R.framework/Resources/include" -DNDEBUG -I"/Library/Frameworks/R.framework/Versions/3.5/Resources/library/Rcpp/include" -I/usr/local/include -fPIC -Wall -g -O2 -c RcppExports.cpp -o RcppExports.o clang++ -I"/Library/Frameworks/R.framework/Resources/include" -DNDEBUG -I"/Library/Frameworks/R.framework/Versions/3.5/Resources/library/Rcpp/include" -I/usr/local/include -fPIC -Wall -g -O2 -c sig.cpp -o sig.o clang++ -dynamiclib -Wl,-headerpad_max_install_names -undefined dynamic_lookup -single_module -multiply_defined suppress -L/Library/Frameworks/R.framework/Resources/lib -L/usr/local/lib -o DEComplexDisease.so RcppExports.o sig.o -F/Library/Frameworks/R.framework/.. -framework R -Wl,-framework -Wl,CoreFoundation installing to /Library/Frameworks/R.framework/Versions/3.5/Resources/library/DEComplexDisease/libs ** R ** data *** moving datasets to lazyload DB ** inst ** byte-compile and prepare package for lazy loading ** help *** installing help indices ** building package indices ** installing vignettes ‘decd.Rmd’ ‘vignettes.Rmd’ ** testing if installed package can be loaded * DONE (DEComplexDisease)
DEComplexDisease.Rcheck/DEComplexDisease-Ex.timings
| name | user | system | elapsed | |
| Plot.cluster.module | 3.892 | 0.056 | 3.985 | |
| Plot.deg | 1.947 | 0.011 | 1.976 | |
| Plot.deg.specific | 1.887 | 0.008 | 1.907 | |
| Plot.deg.specific.test | 1.864 | 0.008 | 1.890 | |
| Plot.seed.module | 1.495 | 0.011 | 1.516 | |
| bi.deg | 26.242 | 1.990 | 28.417 | |
| cluster.module | 0.447 | 0.010 | 0.469 | |
| deg.specific | 0.960 | 0.037 | 1.007 | |
| module.compare | 0.402 | 0.008 | 0.413 | |
| module.curve | 0.027 | 0.001 | 0.028 | |
| module.exact | 0.003 | 0.001 | 0.003 | |
| module.modeling | 0.047 | 0.002 | 0.050 | |
| module.overlap | 1.042 | 0.023 | 1.070 | |
| module.screen | 0.077 | 0.004 | 0.081 | |
| seed.module | 1.380 | 0.059 | 1.446 | |
| summarize.cluster.module | 0.006 | 0.001 | 0.008 | |
| summarize.deg.specific | 0.008 | 0.000 | 0.009 | |
| summarize.seed.module | 0.007 | 0.000 | 0.008 | |