| Back to Multiple platform build/check report for BioC 3.8 |
|
This page was generated on 2019-04-13 11:25:57 -0400 (Sat, 13 Apr 2019).
| Package 369/1649 | Hostname | OS / Arch | INSTALL | BUILD | CHECK | BUILD BIN | ||||||
| DAPAR 1.14.5 Samuel Wieczorek
| malbec1 | Linux (Ubuntu 16.04.6 LTS) / x86_64 | OK | OK | OK | |||||||
| tokay1 | Windows Server 2012 R2 Standard / x64 | OK | OK | [ OK ] | OK | |||||||
| merida1 | OS X 10.11.6 El Capitan / x86_64 | OK | OK | OK | OK |
| Package: DAPAR |
| Version: 1.14.5 |
| Command: C:\Users\biocbuild\bbs-3.8-bioc\R\bin\R.exe CMD check --force-multiarch --install=check:DAPAR.install-out.txt --library=C:\Users\biocbuild\bbs-3.8-bioc\R\library --no-vignettes --timings DAPAR_1.14.5.tar.gz |
| StartedAt: 2019-04-13 01:37:39 -0400 (Sat, 13 Apr 2019) |
| EndedAt: 2019-04-13 01:48:44 -0400 (Sat, 13 Apr 2019) |
| EllapsedTime: 665.3 seconds |
| RetCode: 0 |
| Status: OK |
| CheckDir: DAPAR.Rcheck |
| Warnings: 0 |
##############################################################################
##############################################################################
###
### Running command:
###
### C:\Users\biocbuild\bbs-3.8-bioc\R\bin\R.exe CMD check --force-multiarch --install=check:DAPAR.install-out.txt --library=C:\Users\biocbuild\bbs-3.8-bioc\R\library --no-vignettes --timings DAPAR_1.14.5.tar.gz
###
##############################################################################
##############################################################################
* using log directory 'C:/Users/biocbuild/bbs-3.8-bioc/meat/DAPAR.Rcheck'
* using R version 3.5.3 (2019-03-11)
* using platform: x86_64-w64-mingw32 (64-bit)
* using session charset: ISO8859-1
* using option '--no-vignettes'
* checking for file 'DAPAR/DESCRIPTION' ... OK
* checking extension type ... Package
* this is package 'DAPAR' version '1.14.5'
* checking package namespace information ... OK
* checking package dependencies ...Warning: unable to access index for repository https://CRAN.R-project.org/src/contrib:
cannot open URL 'https://CRAN.R-project.org/src/contrib/PACKAGES'
OK
* checking if this is a source package ... OK
* checking if there is a namespace ... OK
* checking for hidden files and directories ... OK
* checking for portable file names ... OK
* checking whether package 'DAPAR' can be installed ... OK
* checking installed package size ... OK
* checking package directory ... OK
* checking 'build' directory ... OK
* checking DESCRIPTION meta-information ... OK
* checking top-level files ... OK
* checking for left-over files ... OK
* checking index information ... OK
* checking package subdirectories ... OK
* checking R files for non-ASCII characters ... OK
* checking R files for syntax errors ... OK
* loading checks for arch 'i386'
** checking whether the package can be loaded ... OK
** checking whether the package can be loaded with stated dependencies ... OK
** checking whether the package can be unloaded cleanly ... OK
** checking whether the namespace can be loaded with stated dependencies ... OK
** checking whether the namespace can be unloaded cleanly ... OK
* loading checks for arch 'x64'
** checking whether the package can be loaded ... OK
** checking whether the package can be loaded with stated dependencies ... OK
** checking whether the package can be unloaded cleanly ... OK
** checking whether the namespace can be loaded with stated dependencies ... OK
** checking whether the namespace can be unloaded cleanly ... OK
* checking dependencies in R code ... OK
* checking S3 generic/method consistency ... OK
* checking replacement functions ... OK
* checking foreign function calls ... OK
* checking R code for possible problems ... NOTE
boxPlotD: warning in axis(side = 1, at = 1:ncol(qData), label =
legend): partial argument match of 'label' to 'labels'
heatmap.DAPAR: warning in axis(1, 1:nc, label = labCol, las = 2, line =
-0.5 + offsetCol, tick = 0, cex.axis = cexCol, hadj = NA, padj = 0):
partial argument match of 'label' to 'labels'
heatmap.DAPAR: warning in axis(1, 1:nc, label = rep("", nc), las = 2,
tick = 0): partial argument match of 'label' to 'labels'
heatmap.DAPAR: warning in axis(4, iy, label = labRow, las = 5, line =
-0.5 + offsetRow, tick = 0, cex.axis = cexRow, hadj = 0, padj = NA):
partial argument match of 'label' to 'labels'
heatmap.DAPAR: warning in axis(4, iy, label = rep("", nr), las = 2,
line = -0.5, tick = 0): partial argument match of 'label' to 'labels'
violinPlotD: warning in axis(side = 1, at = 1:ncol(qData), label = if
(is.vector(legend)) {: partial argument match of 'label' to 'labels'
violinPlotD: warning in legend: partial argument match of 'label' to
'labels'
violinPlotD: warning in } else {: partial argument match of 'label' to
'labels'
violinPlotD: warning in legend[, i]: partial argument match of 'label'
to 'labels'
violinPlotD: warning in }, line = 2 * i - 1): partial argument match of
'label' to 'labels'
aggregateIterParallel: no visible binding for global variable 'cond'
boxPlotD: no visible binding for global variable 'conds'
densityPlotD: no visible binding for global variable 'conds'
diffAnaVolcanoplot_rCharts: no visible binding for global variable 'x'
diffAnaVolcanoplot_rCharts: no visible binding for global variable 'y'
diffAnaVolcanoplot_rCharts: no visible binding for global variable 'g'
getTextForGOAnalysis: no visible binding for global variable
'textGOParams'
getTextForGOAnalysis: no visible binding for global variable 'input'
Undefined global functions or variables:
cond conds g input textGOParams x y
* checking Rd files ... OK
* checking Rd metadata ... OK
* checking Rd cross-references ... OK
* checking for missing documentation entries ... OK
* checking for code/documentation mismatches ... OK
* checking Rd \usage sections ... OK
* checking Rd contents ... OK
* checking for unstated dependencies in examples ... OK
* checking files in 'vignettes' ... OK
* checking examples ...
** running examples for arch 'i386' ... OK
Examples with CPU or elapsed time > 5s
user system elapsed
wrapper.compareNormalizationD_HC 31.72 0.12 31.87
wrapper.dapar.impute.mi 12.20 0.25 12.45
aggregateIter 5.49 0.78 6.27
CVDistD_HC 3.51 0.15 6.32
BuildColumnToProteinDataset_par 0.95 0.06 11.49
aggregateIterParallel 0.45 0.03 13.45
** running examples for arch 'x64' ... OK
Examples with CPU or elapsed time > 5s
user system elapsed
wrapper.compareNormalizationD_HC 44.45 0.11 44.56
wrapper.dapar.impute.mi 13.76 0.05 14.05
CVDistD 7.57 0.00 8.11
CVDistD_HC 5.17 0.09 5.33
aggregateIter 4.51 0.62 5.14
wrapper.CVDistD 4.99 0.03 5.02
BuildColumnToProteinDataset_par 1.51 0.06 13.46
aggregateIterParallel 0.64 0.02 16.73
* checking for unstated dependencies in 'tests' ... OK
* checking tests ...
** running tests for arch 'i386' ...
Running 'testthat.R'
OK
** running tests for arch 'x64' ...
Running 'testthat.R'
OK
* checking for unstated dependencies in vignettes ... OK
* checking package vignettes in 'inst/doc' ... OK
* checking running R code from vignettes ... SKIPPED
* checking re-building of vignette outputs ... SKIPPED
* checking PDF version of manual ... OK
* DONE
Status: 1 NOTE
See
'C:/Users/biocbuild/bbs-3.8-bioc/meat/DAPAR.Rcheck/00check.log'
for details.
DAPAR.Rcheck/00install.out
##############################################################################
##############################################################################
###
### Running command:
###
### C:\cygwin\bin\curl.exe -O https://malbec1.bioconductor.org/BBS/3.8/bioc/src/contrib/DAPAR_1.14.5.tar.gz && rm -rf DAPAR.buildbin-libdir && mkdir DAPAR.buildbin-libdir && C:\Users\biocbuild\bbs-3.8-bioc\R\bin\R.exe CMD INSTALL --merge-multiarch --build --library=DAPAR.buildbin-libdir DAPAR_1.14.5.tar.gz && C:\Users\biocbuild\bbs-3.8-bioc\R\bin\R.exe CMD INSTALL DAPAR_1.14.5.zip && rm DAPAR_1.14.5.tar.gz DAPAR_1.14.5.zip
###
##############################################################################
##############################################################################
% Total % Received % Xferd Average Speed Time Time Time Current
Dload Upload Total Spent Left Speed
0 0 0 0 0 0 0 0 --:--:-- --:--:-- --:--:-- 0
100 1454k 100 1454k 0 0 29.2M 0 --:--:-- --:--:-- --:--:-- 32.2M
install for i386
* installing *source* package 'DAPAR' ...
** R
** inst
** byte-compile and prepare package for lazy loading
** help
*** installing help indices
converting help for package 'DAPAR'
finding HTML links ... done
BuildAdjacencyMatrix html
BuildColumnToProteinDataset html
BuildColumnToProteinDataset_par html
CVDistD html
CVDistD_HC html
CountPep html
GOAnalysisSave html
finding level-2 HTML links ... done
GetNbPeptidesUsed html
GraphPepProt html
LH0 html
LH0.lm html
LH1 html
LH1.lm html
StringBasedFiltering html
StringBasedFiltering2 html
addOriginOfValue html
aggregateIter html
aggregateIterParallel html
aggregateMean html
aggregateSum html
aggregateTopn html
barplotEnrichGO_HC html
barplotGroupGO_HC html
boxPlotD html
boxPlotD_HC html
check.conditions html
check.design html
compareNormalizationD html
compareNormalizationD_HC html
compute.t.tests html
corrMatrixD html
corrMatrixD_HC html
createMSnset html
deleteLinesFromIndices html
densityPlotD html
densityPlotD_HC html
diffAnaComputeFDR html
diffAnaGetSignificant html
diffAnaSave html
diffAnaVolcanoplot html
diffAnaVolcanoplot_rCharts html
enrich_GO html
finalizeAggregation html
findMECBlock html
formatLimmaResult html
fudge2LRT html
getIndicesConditions html
getIndicesOfLinesToRemove html
getListNbValuesInLines html
getNumberOf html
getNumberOfEmptyLines html
getPourcentageOfMV html
getProcessingInfo html
getProteinsStats html
getQuantile4Imp html
getTextForAggregation html
getTextForAnaDiff html
getTextForFiltering html
getTextForGOAnalysis html
getTextForHypothesisTest html
getTextForNewDataset html
getTextForNormalization html
getTextForpeptideImputation html
getTextForproteinImputation html
group_GO html
hc_logFC_DensityPlot html
hc_mvTypePlot2 html
heatmap.DAPAR html
heatmapD html
impute.detQuant html
impute.pa2 html
inner.aggregate.iter html
inner.aggregate.topn html
inner.mean html
inner.sum html
is.MV html
is.OfType html
limmaCompleteTest html
listSheets html
make.contrast html
make.design.1 html
make.design.2 html
make.design.3 html
make.design html
mvFilter html
mvFilterFromIndices html
mvFilterGetIndices html
mvHisto html
mvHisto_HC html
mvImage html
mvPerLinesHisto html
mvPerLinesHistoPerCondition html
mvPerLinesHistoPerCondition_HC html
mvPerLinesHisto_HC html
my_hc_ExportMenu html
my_hc_chart html
nonzero html
pepa.test html
plotPCA_Eigen html
plotPCA_Eigen_hc html
plotPCA_Ind html
plotPCA_Var html
proportionConRev_HC html
rbindMSnset html
reIntroduceMEC html
readExcel html
removeLines html
samLRT html
saveParameters html
scatterplotEnrichGO_HC html
setMEC html
test.design html
translatedRandomBeta html
univ_AnnotDbPkg html
violinPlotD html
wrapper.CVDistD html
wrapper.CVDistD_HC html
wrapper.compareNormalizationD html
wrapper.compareNormalizationD_HC html
wrapper.corrMatrixD html
wrapper.corrMatrixD_HC html
wrapper.dapar.impute.mi html
wrapper.hc_mvTypePlot2 html
wrapper.heatmapD html
wrapper.impute.KNN html
wrapper.impute.detQuant html
wrapper.impute.fixedValue html
wrapper.impute.mle html
wrapper.impute.pa html
wrapper.impute.pa2 html
wrapper.impute.slsa html
wrapper.mvHisto html
wrapper.mvHisto_HC html
wrapper.mvImage html
wrapper.mvPerLinesHisto html
wrapper.mvPerLinesHistoPerCondition html
wrapper.mvPerLinesHistoPerCondition_HC
html
wrapper.mvPerLinesHisto_HC html
wrapper.normalizeD html
wrapper.pca html
wrapper.t_test_Complete html
wrapperCalibrationPlot html
writeMSnsetToCSV html
writeMSnsetToExcel html
** building package indices
** installing vignettes
** testing if installed package can be loaded
In R CMD INSTALL
install for x64
* installing *source* package 'DAPAR' ...
** testing if installed package can be loaded
* MD5 sums
packaged installation of 'DAPAR' as DAPAR_1.14.5.zip
* DONE (DAPAR)
In R CMD INSTALL
In R CMD INSTALL
* installing to library 'C:/Users/biocbuild/bbs-3.8-bioc/R/library'
package 'DAPAR' successfully unpacked and MD5 sums checked
In R CMD INSTALL
|
DAPAR.Rcheck/tests_i386/testthat.Rout
R version 3.5.3 (2019-03-11) -- "Great Truth"
Copyright (C) 2019 The R Foundation for Statistical Computing
Platform: i386-w64-mingw32/i386 (32-bit)
R is free software and comes with ABSOLUTELY NO WARRANTY.
You are welcome to redistribute it under certain conditions.
Type 'license()' or 'licence()' for distribution details.
R is a collaborative project with many contributors.
Type 'contributors()' for more information and
'citation()' on how to cite R or R packages in publications.
Type 'demo()' for some demos, 'help()' for on-line help, or
'help.start()' for an HTML browser interface to help.
Type 'q()' to quit R.
> library(testthat)
> library(DAPAR)
Loading required package: foreach
Loading required package: parallel
Loading required package: doParallel
Loading required package: iterators
>
> test_check("DAPAR")
== testthat results ===========================================================
OK: 3 SKIPPED: 0 FAILED: 0
>
> proc.time()
user system elapsed
9.07 0.70 9.89
|
DAPAR.Rcheck/tests_x64/testthat.Rout
R version 3.5.3 (2019-03-11) -- "Great Truth"
Copyright (C) 2019 The R Foundation for Statistical Computing
Platform: x86_64-w64-mingw32/x64 (64-bit)
R is free software and comes with ABSOLUTELY NO WARRANTY.
You are welcome to redistribute it under certain conditions.
Type 'license()' or 'licence()' for distribution details.
R is a collaborative project with many contributors.
Type 'contributors()' for more information and
'citation()' on how to cite R or R packages in publications.
Type 'demo()' for some demos, 'help()' for on-line help, or
'help.start()' for an HTML browser interface to help.
Type 'q()' to quit R.
> library(testthat)
> library(DAPAR)
Loading required package: foreach
Loading required package: parallel
Loading required package: doParallel
Loading required package: iterators
>
> test_check("DAPAR")
== testthat results ===========================================================
OK: 3 SKIPPED: 0 FAILED: 0
>
> proc.time()
user system elapsed
8.85 0.57 9.42
|
|
DAPAR.Rcheck/examples_i386/DAPAR-Ex.timings
|
DAPAR.Rcheck/examples_x64/DAPAR-Ex.timings
|