| Back to Multiple platform build/check report for BioC 3.8 |
|
This page was generated on 2019-04-16 11:49:40 -0400 (Tue, 16 Apr 2019).
| Package 331/1649 | Hostname | OS / Arch | INSTALL | BUILD | CHECK | BUILD BIN | ||||||
| CorMut 1.24.0 Zhenpeng Li
| malbec1 | Linux (Ubuntu 16.04.6 LTS) / x86_64 | OK | OK | [ OK ] | |||||||
| merida1 | OS X 10.11.6 El Capitan / x86_64 | OK | OK | OK | OK |
| Package: CorMut |
| Version: 1.24.0 |
| Command: /home/biocbuild/bbs-3.8-bioc/R/bin/R CMD check --install=check:CorMut.install-out.txt --library=/home/biocbuild/bbs-3.8-bioc/R/library --no-vignettes --timings CorMut_1.24.0.tar.gz |
| StartedAt: 2019-04-15 23:11:56 -0400 (Mon, 15 Apr 2019) |
| EndedAt: 2019-04-15 23:13:10 -0400 (Mon, 15 Apr 2019) |
| EllapsedTime: 73.8 seconds |
| RetCode: 0 |
| Status: OK |
| CheckDir: CorMut.Rcheck |
| Warnings: 0 |
##############################################################################
##############################################################################
###
### Running command:
###
### /home/biocbuild/bbs-3.8-bioc/R/bin/R CMD check --install=check:CorMut.install-out.txt --library=/home/biocbuild/bbs-3.8-bioc/R/library --no-vignettes --timings CorMut_1.24.0.tar.gz
###
##############################################################################
##############################################################################
* using log directory ‘/home/biocbuild/bbs-3.8-bioc/meat/CorMut.Rcheck’
* using R version 3.5.3 (2019-03-11)
* using platform: x86_64-pc-linux-gnu (64-bit)
* using session charset: UTF-8
* using option ‘--no-vignettes’
* checking for file ‘CorMut/DESCRIPTION’ ... OK
* checking extension type ... Package
* this is package ‘CorMut’ version ‘1.24.0’
* checking package namespace information ... OK
* checking package dependencies ... OK
* checking if this is a source package ... OK
* checking if there is a namespace ... OK
* checking for hidden files and directories ... OK
* checking for portable file names ... OK
* checking for sufficient/correct file permissions ... OK
* checking whether package ‘CorMut’ can be installed ... OK
* checking installed package size ... OK
* checking package directory ... OK
* checking ‘build’ directory ... OK
* checking DESCRIPTION meta-information ... OK
* checking top-level files ... OK
* checking for left-over files ... OK
* checking index information ... OK
* checking package subdirectories ... OK
* checking R files for non-ASCII characters ... OK
* checking R files for syntax errors ... OK
* checking whether the package can be loaded ... OK
* checking whether the package can be loaded with stated dependencies ... OK
* checking whether the package can be unloaded cleanly ... OK
* checking whether the namespace can be loaded with stated dependencies ... OK
* checking whether the namespace can be unloaded cleanly ... OK
* checking dependencies in R code ... OK
* checking S3 generic/method consistency ... OK
* checking replacement functions ... OK
* checking foreign function calls ... OK
* checking R code for possible problems ... OK
* checking Rd files ... OK
* checking Rd metadata ... OK
* checking Rd cross-references ... OK
* checking for missing documentation entries ... OK
* checking for code/documentation mismatches ... OK
* checking Rd \usage sections ... OK
* checking Rd contents ... OK
* checking for unstated dependencies in examples ... OK
* checking files in ‘vignettes’ ... OK
* checking examples ... OK
Examples with CPU or elapsed time > 5s
user system elapsed
biCompare-methods 16.088 0.024 16.181
miAA 9.776 0.004 9.810
miCodon 7.184 0.000 7.248
* checking for unstated dependencies in vignettes ... OK
* checking package vignettes in ‘inst/doc’ ... OK
* checking running R code from vignettes ... SKIPPED
* checking re-building of vignette outputs ... SKIPPED
* checking PDF version of manual ... OK
* DONE
Status: OK
CorMut.Rcheck/00install.out
##############################################################################
##############################################################################
###
### Running command:
###
### /home/biocbuild/bbs-3.8-bioc/R/bin/R CMD INSTALL CorMut
###
##############################################################################
##############################################################################
* installing to library ‘/home/biocbuild/bbs-3.8-bioc/R/library’
* installing *source* package ‘CorMut’ ...
** R
** inst
** byte-compile and prepare package for lazy loading
Warning in .recursiveCallTest(body, fname) :
the body of the generic function for ‘seq_num.CorMut’ calls 'standardGeneric' to dispatch on a different name ("aslot")!
Warning in .recursiveCallTest(body, fname) :
the body of the generic function for ‘kaks.CorMut’ calls 'standardGeneric' to dispatch on a different name ("aslot")!
Warning in .recursiveCallTest(body, fname) :
the body of the generic function for ‘lod.CorMut’ calls 'standardGeneric' to dispatch on a different name ("aslot")!
Warning in .recursiveCallTest(body, fname) :
the body of the generic function for ‘q.CorMut’ calls 'standardGeneric' to dispatch on a different name ("aslot")!
Warning in .recursiveCallTest(body, fname) :
the body of the generic function for ‘ka.CorMut’ calls 'standardGeneric' to dispatch on a different name ("aslot")!
Warning in .recursiveCallTest(body, fname) :
the body of the generic function for ‘ks.CorMut’ calls 'standardGeneric' to dispatch on a different name ("aslot")!
Warning in .recursiveCallTest(body, fname) :
the body of the generic function for ‘mi.CorMut’ calls 'standardGeneric' to dispatch on a different name ("aslot")!
Warning in .recursiveCallTest(body, fname) :
the body of the generic function for ‘p.value.CorMut’ calls 'standardGeneric' to dispatch on a different name ("aslot")!
Warning in .recursiveCallTest(body, fname) :
the body of the generic function for ‘ckaks.CorMut’ calls 'standardGeneric' to dispatch on a different name ("aslot")!
Warning in .recursiveCallTest(body, fname) :
the body of the generic function for ‘method.CorMut’ calls 'standardGeneric' to dispatch on a different name ("aslot")!
Warning in .recursiveCallTest(body, fname) :
the body of the generic function for ‘positiveSite01.CorMut’ calls 'standardGeneric' to dispatch on a different name ("aslot")!
Warning in .recursiveCallTest(body, fname) :
the body of the generic function for ‘positiveSite02.CorMut’ calls 'standardGeneric' to dispatch on a different name ("aslot")!
Warning in .recursiveCallTest(body, fname) :
the body of the generic function for ‘state_1.CorMut’ calls 'standardGeneric' to dispatch on a different name ("aslot")!
Warning in .recursiveCallTest(body, fname) :
the body of the generic function for ‘statistic_1.CorMut’ calls 'standardGeneric' to dispatch on a different name ("aslot")!
Warning in .recursiveCallTest(body, fname) :
the body of the generic function for ‘state_2.CorMut’ calls 'standardGeneric' to dispatch on a different name ("aslot")!
Warning in .recursiveCallTest(body, fname) :
the body of the generic function for ‘statistic_2.CorMut’ calls 'standardGeneric' to dispatch on a different name ("aslot")!
** help
*** installing help indices
** building package indices
** installing vignettes
** testing if installed package can be loaded
* DONE (CorMut)
CorMut.Rcheck/CorMut-Ex.timings
| name | user | system | elapsed | |
| JI-class | 0.000 | 0.000 | 0.001 | |
| MI-class | 0.000 | 0.000 | 0.001 | |
| biCkaksCodon-class | 0 | 0 | 0 | |
| biCompare-class | 0.000 | 0.000 | 0.001 | |
| biCompare-methods | 16.088 | 0.024 | 16.181 | |
| ckaks-class | 0 | 0 | 0 | |
| ckaksAA | 2.760 | 0.000 | 2.764 | |
| ckaksCodon | 2.144 | 0.004 | 2.159 | |
| filterSites-methods | 1.572 | 0.000 | 1.571 | |
| jiAA | 3.572 | 0.024 | 3.604 | |
| kaksAA-class | 0 | 0 | 0 | |
| kaksAA | 2.056 | 0.000 | 2.055 | |
| kaksCodon-class | 0 | 0 | 0 | |
| kaksCodon | 1.14 | 0.00 | 1.14 | |
| miAA | 9.776 | 0.004 | 9.810 | |
| miCodon | 7.184 | 0.000 | 7.248 | |
| plot-methods | 3.856 | 0.000 | 3.861 | |
| seqFormat-methods | 0.504 | 0.000 | 0.502 | |