| Back to Multiple platform build/check report for BioC 3.8 |
|
This page was generated on 2019-04-16 11:49:03 -0400 (Tue, 16 Apr 2019).
| Package 272/1649 | Hostname | OS / Arch | INSTALL | BUILD | CHECK | BUILD BIN | ||||||
| Clonality 1.30.0 Irina Ostrovnaya
| malbec1 | Linux (Ubuntu 16.04.6 LTS) / x86_64 | OK | OK | [ OK ] | |||||||
| merida1 | OS X 10.11.6 El Capitan / x86_64 | OK | OK | OK | OK |
| Package: Clonality |
| Version: 1.30.0 |
| Command: /home/biocbuild/bbs-3.8-bioc/R/bin/R CMD check --install=check:Clonality.install-out.txt --library=/home/biocbuild/bbs-3.8-bioc/R/library --no-vignettes --timings Clonality_1.30.0.tar.gz |
| StartedAt: 2019-04-15 22:57:29 -0400 (Mon, 15 Apr 2019) |
| EndedAt: 2019-04-15 23:00:25 -0400 (Mon, 15 Apr 2019) |
| EllapsedTime: 176.6 seconds |
| RetCode: 0 |
| Status: OK |
| CheckDir: Clonality.Rcheck |
| Warnings: 0 |
##############################################################################
##############################################################################
###
### Running command:
###
### /home/biocbuild/bbs-3.8-bioc/R/bin/R CMD check --install=check:Clonality.install-out.txt --library=/home/biocbuild/bbs-3.8-bioc/R/library --no-vignettes --timings Clonality_1.30.0.tar.gz
###
##############################################################################
##############################################################################
* using log directory ‘/home/biocbuild/bbs-3.8-bioc/meat/Clonality.Rcheck’
* using R version 3.5.3 (2019-03-11)
* using platform: x86_64-pc-linux-gnu (64-bit)
* using session charset: UTF-8
* using option ‘--no-vignettes’
* checking for file ‘Clonality/DESCRIPTION’ ... OK
* checking extension type ... Package
* this is package ‘Clonality’ version ‘1.30.0’
* checking package namespace information ... OK
* checking package dependencies ... OK
* checking if this is a source package ... OK
* checking if there is a namespace ... OK
* checking for hidden files and directories ... OK
* checking for portable file names ... OK
* checking for sufficient/correct file permissions ... OK
* checking whether package ‘Clonality’ can be installed ... OK
* checking installed package size ... OK
* checking package directory ... OK
* checking ‘build’ directory ... OK
* checking DESCRIPTION meta-information ... NOTE
Malformed Description field: should contain one or more complete sentences.
* checking top-level files ... OK
* checking for left-over files ... OK
* checking index information ... OK
* checking package subdirectories ... OK
* checking R files for non-ASCII characters ... OK
* checking R files for syntax errors ... OK
* checking whether the package can be loaded ... OK
* checking whether the package can be loaded with stated dependencies ... OK
* checking whether the package can be unloaded cleanly ... OK
* checking whether the namespace can be loaded with stated dependencies ... OK
* checking whether the namespace can be unloaded cleanly ... OK
* checking dependencies in R code ... OK
* checking S3 generic/method consistency ... OK
* checking replacement functions ... OK
* checking foreign function calls ... NOTE
Foreign function call to a different package:
.Fortran("fndcpt", ..., PACKAGE = "DNAcopy")
See chapter ‘System and foreign language interfaces’ in the ‘Writing R
Extensions’ manual.
* checking R code for possible problems ... OK
* checking Rd files ... OK
* checking Rd metadata ... OK
* checking Rd cross-references ... OK
* checking for missing documentation entries ... OK
* checking for code/documentation mismatches ... OK
* checking Rd \usage sections ... OK
* checking Rd contents ... OK
* checking for unstated dependencies in examples ... OK
* checking contents of ‘data’ directory ... OK
* checking data for non-ASCII characters ... OK
* checking data for ASCII and uncompressed saves ... OK
* checking files in ‘vignettes’ ... OK
* checking examples ... OK
Examples with CPU or elapsed time > 5s
user system elapsed
clonality.analysis 88.084 0.064 88.313
LRtesting3or4tumors 39.268 0.000 39.326
ECMtesting 10.208 0.000 10.228
LOHclonality 8.744 0.004 8.758
* checking for unstated dependencies in vignettes ... OK
* checking package vignettes in ‘inst/doc’ ... OK
* checking running R code from vignettes ... SKIPPED
* checking re-building of vignette outputs ... SKIPPED
* checking PDF version of manual ... OK
* DONE
Status: 2 NOTEs
See
‘/home/biocbuild/bbs-3.8-bioc/meat/Clonality.Rcheck/00check.log’
for details.
Clonality.Rcheck/00install.out
############################################################################## ############################################################################## ### ### Running command: ### ### /home/biocbuild/bbs-3.8-bioc/R/bin/R CMD INSTALL Clonality ### ############################################################################## ############################################################################## * installing to library ‘/home/biocbuild/bbs-3.8-bioc/R/library’ * installing *source* package ‘Clonality’ ... ** R ** data ** byte-compile and prepare package for lazy loading ** help *** installing help indices ** building package indices ** installing vignettes ** testing if installed package can be loaded * DONE (Clonality)
Clonality.Rcheck/Clonality-Ex.timings
| name | user | system | elapsed | |
| ECMtesting | 10.208 | 0.000 | 10.228 | |
| LOHclonality | 8.744 | 0.004 | 8.758 | |
| LRtesting3or4tumors | 39.268 | 0.000 | 39.326 | |
| SNVtest | 0.292 | 0.020 | 0.315 | |
| ave.adj.probes | 1.584 | 0.000 | 1.587 | |
| chromosomePlots | 0 | 0 | 0 | |
| clonality.analysis | 88.084 | 0.064 | 88.313 | |
| genomewidePlots | 0 | 0 | 0 | |
| histogramPlot | 0 | 0 | 0 | |
| mutation.proba | 0.660 | 0.000 | 0.661 | |
| mutation.rem | 1.892 | 0.004 | 1.896 | |
| splitChromosomes | 0.004 | 0.000 | 0.003 | |