| Back to Multiple platform build/check report for BioC 3.8 |
|
This page was generated on 2019-04-16 11:55:05 -0400 (Tue, 16 Apr 2019).
| Package 252/1649 | Hostname | OS / Arch | INSTALL | BUILD | CHECK | BUILD BIN | ||||||
| ChIPsim 1.36.0 Peter Humburg
| malbec1 | Linux (Ubuntu 16.04.6 LTS) / x86_64 | OK | OK | OK | |||||||
| merida1 | OS X 10.11.6 El Capitan / x86_64 | OK | OK | OK | [ OK ] |
| Package: ChIPsim |
| Version: 1.36.0 |
| Command: rm -rf ChIPsim.buildbin-libdir && mkdir ChIPsim.buildbin-libdir && /Users/biocbuild/BBS/utils/build-universal.sh ChIPsim_1.36.0.tar.gz /Library/Frameworks/R.framework/Versions/Current/Resources/bin/R ChIPsim.buildbin-libdir |
| StartedAt: 2019-04-16 03:50:08 -0400 (Tue, 16 Apr 2019) |
| EndedAt: 2019-04-16 03:50:53 -0400 (Tue, 16 Apr 2019) |
| EllapsedTime: 45.6 seconds |
| RetCode: 0 |
| Status: OK |
| PackageFile: ChIPsim_1.36.0.tgz |
| PackageFileSize: 600.8 KiB |
############################################################################## ############################################################################## ### ### Running command: ### ### rm -rf ChIPsim.buildbin-libdir && mkdir ChIPsim.buildbin-libdir && /Users/biocbuild/BBS/utils/build-universal.sh ChIPsim_1.36.0.tar.gz /Library/Frameworks/R.framework/Versions/Current/Resources/bin/R ChIPsim.buildbin-libdir ### ############################################################################## ############################################################################## >>>>>>> >>>>>>> INSTALLATION WITH 'R CMD INSTALL --preclean --no-multiarch --library=ChIPsim.buildbin-libdir ChIPsim_1.36.0.tar.gz' >>>>>>> * installing *source* package ‘ChIPsim’ ... ** R ** inst ** byte-compile and prepare package for lazy loading ** help *** installing help indices ** building package indices ** installing vignettes ** testing if installed package can be loaded * DONE (ChIPsim)