| Back to Multiple platform build/check report for BioC 3.8 |
|
This page was generated on 2019-04-16 11:55:07 -0400 (Tue, 16 Apr 2019).
| Package 250/1649 | Hostname | OS / Arch | INSTALL | BUILD | CHECK | BUILD BIN | ||||||
| ChIPseqR 1.36.0 Peter Humburg
| malbec1 | Linux (Ubuntu 16.04.6 LTS) / x86_64 | OK | OK | WARNINGS | |||||||
| merida1 | OS X 10.11.6 El Capitan / x86_64 | OK | OK | WARNINGS | [ OK ] |
| Package: ChIPseqR |
| Version: 1.36.0 |
| Command: rm -rf ChIPseqR.buildbin-libdir && mkdir ChIPseqR.buildbin-libdir && /Users/biocbuild/BBS/utils/build-universal.sh ChIPseqR_1.36.0.tar.gz /Library/Frameworks/R.framework/Versions/Current/Resources/bin/R ChIPseqR.buildbin-libdir |
| StartedAt: 2019-04-16 03:50:02 -0400 (Tue, 16 Apr 2019) |
| EndedAt: 2019-04-16 03:50:48 -0400 (Tue, 16 Apr 2019) |
| EllapsedTime: 45.9 seconds |
| RetCode: 0 |
| Status: OK |
| PackageFile: ChIPseqR_1.36.0.tgz |
| PackageFileSize: 1.125 MiB |
##############################################################################
##############################################################################
###
### Running command:
###
### rm -rf ChIPseqR.buildbin-libdir && mkdir ChIPseqR.buildbin-libdir && /Users/biocbuild/BBS/utils/build-universal.sh ChIPseqR_1.36.0.tar.gz /Library/Frameworks/R.framework/Versions/Current/Resources/bin/R ChIPseqR.buildbin-libdir
###
##############################################################################
##############################################################################
>>>>>>>
>>>>>>> INSTALLATION WITH 'R CMD INSTALL --preclean --no-multiarch --library=ChIPseqR.buildbin-libdir ChIPseqR_1.36.0.tar.gz'
>>>>>>>
* installing *source* package ‘ChIPseqR’ ...
** libs
clang -I"/Library/Frameworks/R.framework/Resources/include" -DNDEBUG -I/usr/local/include -fPIC -Wall -g -O2 -c startScore.c -o startScore.o
startScore.c:66:15: warning: unused variable 'tmp_stat' [-Wunused-variable]
double stat, tmp_stat;
^
1 warning generated.
clang -dynamiclib -Wl,-headerpad_max_install_names -undefined dynamic_lookup -single_module -multiply_defined suppress -L/Library/Frameworks/R.framework/Resources/lib -L/usr/local/lib -o ChIPseqR.so startScore.o -F/Library/Frameworks/R.framework/.. -framework R -Wl,-framework -Wl,CoreFoundation
installing to /Users/biocbuild/bbs-3.8-bioc/meat/ChIPseqR.buildbin-libdir/ChIPseqR/libs
** R
** inst
** byte-compile and prepare package for lazy loading
Warning: replacing previous import ‘BiocGenerics::image’ by ‘graphics::image’ when loading ‘ChIPseqR’
Warning: replacing previous import ‘S4Vectors::head’ by ‘utils::head’ when loading ‘ChIPseqR’
Warning: replacing previous import ‘S4Vectors::tail’ by ‘utils::tail’ when loading ‘ChIPseqR’
** help
*** installing help indices
** building package indices
** installing vignettes
** testing if installed package can be loaded
Warning: replacing previous import ‘BiocGenerics::image’ by ‘graphics::image’ when loading ‘ChIPseqR’
Warning: replacing previous import ‘S4Vectors::head’ by ‘utils::head’ when loading ‘ChIPseqR’
Warning: replacing previous import ‘S4Vectors::tail’ by ‘utils::tail’ when loading ‘ChIPseqR’
* DONE (ChIPseqR)
>>>>>>>
>>>>>>> FIXING LINKS FOR ChIPseqR.buildbin-libdir/ChIPseqR/libs//ChIPseqR.so
>>>>>>>
install_name_tool -change "/usr/local/lib/libgcc_s.1.dylib" "/Library/Frameworks/R.framework/Versions/3.5/Resources/lib/libgcc_s.1.dylib" "ChIPseqR.buildbin-libdir/ChIPseqR/libs//ChIPseqR.so"
install_name_tool -change "/usr/local/lib/libgfortran.3.dylib" "/Library/Frameworks/R.framework/Versions/3.5/Resources/lib/libgfortran.3.dylib" "ChIPseqR.buildbin-libdir/ChIPseqR/libs//ChIPseqR.so"
install_name_tool -change "/usr/local/lib/libreadline.5.2.dylib" "/Library/Frameworks/R.framework/Versions/3.5/Resources/lib/libreadline.5.2.dylib" "ChIPseqR.buildbin-libdir/ChIPseqR/libs//ChIPseqR.so"
install_name_tool -change "/usr/local/lib/libreadline.dylib" "/Library/Frameworks/R.framework/Versions/3.5/Resources/lib/libreadline.dylib" "ChIPseqR.buildbin-libdir/ChIPseqR/libs//ChIPseqR.so"
install_name_tool -change "/usr/local/lib/libquadmath.0.dylib" "/Library/Frameworks/R.framework/Versions/3.5/Resources/lib/libquadmath.0.dylib" "ChIPseqR.buildbin-libdir/ChIPseqR/libs//ChIPseqR.so"