| Back to Multiple platform build/check report for BioC 3.8 |
|
This page was generated on 2019-04-13 11:27:27 -0400 (Sat, 13 Apr 2019).
| Package 245/1649 | Hostname | OS / Arch | INSTALL | BUILD | CHECK | BUILD BIN | ||||||
| ChIPexoQual 1.6.0 Rene Welch
| malbec1 | Linux (Ubuntu 16.04.6 LTS) / x86_64 | OK | OK | OK | |||||||
| tokay1 | Windows Server 2012 R2 Standard / x64 | [ OK ] | OK | OK | OK | |||||||
| merida1 | OS X 10.11.6 El Capitan / x86_64 | OK | OK | OK | OK |
| Package: ChIPexoQual |
| Version: 1.6.0 |
| Command: C:\cygwin\bin\curl.exe -O https://malbec1.bioconductor.org/BBS/3.8/bioc/src/contrib/ChIPexoQual_1.6.0.tar.gz && rm -rf ChIPexoQual.buildbin-libdir && mkdir ChIPexoQual.buildbin-libdir && C:\Users\biocbuild\bbs-3.8-bioc\R\bin\R.exe CMD INSTALL --merge-multiarch --build --library=ChIPexoQual.buildbin-libdir ChIPexoQual_1.6.0.tar.gz && C:\Users\biocbuild\bbs-3.8-bioc\R\bin\R.exe CMD INSTALL ChIPexoQual_1.6.0.zip && rm ChIPexoQual_1.6.0.tar.gz ChIPexoQual_1.6.0.zip |
| StartedAt: 2019-04-12 20:14:28 -0400 (Fri, 12 Apr 2019) |
| EndedAt: 2019-04-12 20:15:17 -0400 (Fri, 12 Apr 2019) |
| EllapsedTime: 48.8 seconds |
| RetCode: 0 |
| Status: OK |
##############################################################################
##############################################################################
###
### Running command:
###
### C:\cygwin\bin\curl.exe -O https://malbec1.bioconductor.org/BBS/3.8/bioc/src/contrib/ChIPexoQual_1.6.0.tar.gz && rm -rf ChIPexoQual.buildbin-libdir && mkdir ChIPexoQual.buildbin-libdir && C:\Users\biocbuild\bbs-3.8-bioc\R\bin\R.exe CMD INSTALL --merge-multiarch --build --library=ChIPexoQual.buildbin-libdir ChIPexoQual_1.6.0.tar.gz && C:\Users\biocbuild\bbs-3.8-bioc\R\bin\R.exe CMD INSTALL ChIPexoQual_1.6.0.zip && rm ChIPexoQual_1.6.0.tar.gz ChIPexoQual_1.6.0.zip
###
##############################################################################
##############################################################################
% Total % Received % Xferd Average Speed Time Time Time Current
Dload Upload Total Spent Left Speed
0 0 0 0 0 0 0 0 --:--:-- --:--:-- --:--:-- 0
100 2143k 100 2143k 0 0 34.0M 0 --:--:-- --:--:-- --:--:-- 36.0M
install for i386
* installing *source* package 'ChIPexoQual' ...
** R
** data
** inst
** byte-compile and prepare package for lazy loading
** help
*** installing help indices
converting help for package 'ChIPexoQual'
finding HTML links ... done
ARCvURCplot html
ExoData html
ExoDataBlacklist html
ExoDataSubsampling html
FSRDistplot html
MAplot html
beta1-methods html
beta2-methods html
blacklists html
calculateParamDist html
exoExample html
formatRegions html
nreads-methods html
paramDist-methods html
paramDistBoxplot html
regionCompplot html
** building package indices
** installing vignettes
** testing if installed package can be loaded
In R CMD INSTALL
install for x64
* installing *source* package 'ChIPexoQual' ...
** testing if installed package can be loaded
* MD5 sums
packaged installation of 'ChIPexoQual' as ChIPexoQual_1.6.0.zip
* DONE (ChIPexoQual)
In R CMD INSTALL
In R CMD INSTALL
* installing to library 'C:/Users/biocbuild/bbs-3.8-bioc/R/library'
package 'ChIPexoQual' successfully unpacked and MD5 sums checked
In R CMD INSTALL