| Back to Multiple platform build/check report for BioC 3.8 |
|
This page was generated on 2019-04-13 11:28:14 -0400 (Sat, 13 Apr 2019).
| Package 242/1649 | Hostname | OS / Arch | INSTALL | BUILD | CHECK | BUILD BIN | ||||||
| ChIPanalyser 1.4.0 Patrick C.N. Martin
| malbec1 | Linux (Ubuntu 16.04.6 LTS) / x86_64 | OK | OK | OK | |||||||
| tokay1 | Windows Server 2012 R2 Standard / x64 | [ OK ] | OK | WARNINGS | OK | |||||||
| merida1 | OS X 10.11.6 El Capitan / x86_64 | OK | OK | OK | OK |
| Package: ChIPanalyser |
| Version: 1.4.0 |
| Command: C:\cygwin\bin\curl.exe -O https://malbec1.bioconductor.org/BBS/3.8/bioc/src/contrib/ChIPanalyser_1.4.0.tar.gz && rm -rf ChIPanalyser.buildbin-libdir && mkdir ChIPanalyser.buildbin-libdir && C:\Users\biocbuild\bbs-3.8-bioc\R\bin\R.exe CMD INSTALL --merge-multiarch --build --library=ChIPanalyser.buildbin-libdir ChIPanalyser_1.4.0.tar.gz && C:\Users\biocbuild\bbs-3.8-bioc\R\bin\R.exe CMD INSTALL ChIPanalyser_1.4.0.zip && rm ChIPanalyser_1.4.0.tar.gz ChIPanalyser_1.4.0.zip |
| StartedAt: 2019-04-12 20:05:07 -0400 (Fri, 12 Apr 2019) |
| EndedAt: 2019-04-12 20:06:14 -0400 (Fri, 12 Apr 2019) |
| EllapsedTime: 67.2 seconds |
| RetCode: 0 |
| Status: OK |
##############################################################################
##############################################################################
###
### Running command:
###
### C:\cygwin\bin\curl.exe -O https://malbec1.bioconductor.org/BBS/3.8/bioc/src/contrib/ChIPanalyser_1.4.0.tar.gz && rm -rf ChIPanalyser.buildbin-libdir && mkdir ChIPanalyser.buildbin-libdir && C:\Users\biocbuild\bbs-3.8-bioc\R\bin\R.exe CMD INSTALL --merge-multiarch --build --library=ChIPanalyser.buildbin-libdir ChIPanalyser_1.4.0.tar.gz && C:\Users\biocbuild\bbs-3.8-bioc\R\bin\R.exe CMD INSTALL ChIPanalyser_1.4.0.zip && rm ChIPanalyser_1.4.0.tar.gz ChIPanalyser_1.4.0.zip
###
##############################################################################
##############################################################################
% Total % Received % Xferd Average Speed Time Time Time Current
Dload Upload Total Spent Left Speed
0 0 0 0 0 0 0 0 --:--:-- --:--:-- --:--:-- 0
100 553k 100 553k 0 0 12.3M 0 --:--:-- --:--:-- --:--:-- 13.5M
install for i386
* installing *source* package 'ChIPanalyser' ...
** R
** data
*** moving datasets to lazyload DB
** inst
** byte-compile and prepare package for lazy loading
** help
*** installing help indices
converting help for package 'ChIPanalyser'
finding HTML links ... done
AllSitesAboveThreshold html
finding level-2 HTML links ... done
BPFrequency html
Rd warning: C:/Users/biocbuild/bbs-3.8-bioc/tmpdir/Rtmpuo7TQb/R.INSTALL233c1de42930/ChIPanalyser/man/BPFrequency.Rd:32: file link 'DNAStringSet' in package 'Biostrings' does not exist and so has been treated as a topic
Rd warning: C:/Users/biocbuild/bbs-3.8-bioc/tmpdir/Rtmpuo7TQb/R.INSTALL233c1de42930/ChIPanalyser/man/BPFrequency.Rd:34: file link 'DNAStringSet' in package 'Biostrings' does not exist and so has been treated as a topic
BPFrequency_- html
Rd warning: C:/Users/biocbuild/bbs-3.8-bioc/tmpdir/Rtmpuo7TQb/R.INSTALL233c1de42930/ChIPanalyser/man/BPFrequency_-.Rd:41: file link 'DNAStringSet' in package 'Biostrings' does not exist and so has been treated as a topic
Rd warning: C:/Users/biocbuild/bbs-3.8-bioc/tmpdir/Rtmpuo7TQb/R.INSTALL233c1de42930/ChIPanalyser/man/BPFrequency_-.Rd:59: file link 'DNAStringSet' in package 'Biostrings' does not exist and so has been treated as a topic
Rd warning: C:/Users/biocbuild/bbs-3.8-bioc/tmpdir/Rtmpuo7TQb/R.INSTALL233c1de42930/ChIPanalyser/man/BPFrequency_-.Rd:60: file link 'DNAStringSet' in package 'Biostrings' does not exist and so has been treated as a topic
ChIPanalyser-package html
DNASequenceLength html
DNASequenceLength_- html
GRList-class html
NoAccess html
Rd warning: C:/Users/biocbuild/bbs-3.8-bioc/tmpdir/Rtmpuo7TQb/R.INSTALL233c1de42930/ChIPanalyser/man/NoAccess.Rd:28: file link 'GRanges' in package 'GenomicRanges' does not exist and so has been treated as a topic
PFMFormat html
PFMFormat_ html
PWMThreshold html
PWMThreshold_- html
PWMpseudocount html
PWMpseudocount_- html
PositionFrequencyMatrix html
PositionFrequencyMatrix_- html
PositionWeightMatrix html
PositionWeightMatrix_- html
ScalingFactorPWM html
ScalingFactorPWM_- html
averageExpPWMScore html
backgroundSignal html
backgroundSignal_- html
boundMolecules html
boundMolecules_- html
chipMean html
chipMean_- html
chipSd html
chipSd_- html
chipSmooth html
chipSmooth_- html
computeChipProfile html
Rd warning: C:/Users/biocbuild/bbs-3.8-bioc/tmpdir/Rtmpuo7TQb/R.INSTALL233c1de42930/ChIPanalyser/man/computeChipProfile.Rd:19: file link 'GRanges' in package 'GenomicRanges' does not exist and so has been treated as a topic
Rd warning: C:/Users/biocbuild/bbs-3.8-bioc/tmpdir/Rtmpuo7TQb/R.INSTALL233c1de42930/ChIPanalyser/man/computeChipProfile.Rd:22: file link 'GRanges' in package 'GenomicRanges' does not exist and so has been treated as a topic
Rd warning: C:/Users/biocbuild/bbs-3.8-bioc/tmpdir/Rtmpuo7TQb/R.INSTALL233c1de42930/ChIPanalyser/man/computeChipProfile.Rd:92: file link 'GRanges' in package 'GenomicRanges' does not exist and so has been treated as a topic
computeGenomeWidePWMScore html
Rd warning: C:/Users/biocbuild/bbs-3.8-bioc/tmpdir/Rtmpuo7TQb/R.INSTALL233c1de42930/ChIPanalyser/man/computeGenomeWidePWMScore.Rd:20: file link 'DNAStringSet' in package 'Biostrings' does not exist and so has been treated as a topic
Rd warning: C:/Users/biocbuild/bbs-3.8-bioc/tmpdir/Rtmpuo7TQb/R.INSTALL233c1de42930/ChIPanalyser/man/computeGenomeWidePWMScore.Rd:23: file link 'DNAStringSet' in package 'Biostrings' does not exist and so has been treated as a topic
Rd warning: C:/Users/biocbuild/bbs-3.8-bioc/tmpdir/Rtmpuo7TQb/R.INSTALL233c1de42930/ChIPanalyser/man/computeGenomeWidePWMScore.Rd:34: file link 'GRanges' in package 'GenomicRanges' does not exist and so has been treated as a topic
computeOccupancy html
Rd warning: C:/Users/biocbuild/bbs-3.8-bioc/tmpdir/Rtmpuo7TQb/R.INSTALL233c1de42930/ChIPanalyser/man/computeOccupancy.Rd:72: file link 'GRangesList' in package 'GenomicRanges' does not exist and so has been treated as a topic
Rd warning: C:/Users/biocbuild/bbs-3.8-bioc/tmpdir/Rtmpuo7TQb/R.INSTALL233c1de42930/ChIPanalyser/man/computeOccupancy.Rd:74: file link 'GRanges' in package 'GenomicRanges' does not exist and so has been treated as a topic
computeOptimal html
Rd warning: C:/Users/biocbuild/bbs-3.8-bioc/tmpdir/Rtmpuo7TQb/R.INSTALL233c1de42930/ChIPanalyser/man/computeOptimal.Rd:24: file link 'DNAStringSet' in package 'Biostrings' does not exist and so has been treated as a topic
Rd warning: C:/Users/biocbuild/bbs-3.8-bioc/tmpdir/Rtmpuo7TQb/R.INSTALL233c1de42930/ChIPanalyser/man/computeOptimal.Rd:40: file link 'GRanges' in package 'GenomicRanges' does not exist and so has been treated as a topic
Rd warning: C:/Users/biocbuild/bbs-3.8-bioc/tmpdir/Rtmpuo7TQb/R.INSTALL233c1de42930/ChIPanalyser/man/computeOptimal.Rd:45: file link 'GRanges' in package 'GenomicRanges' does not exist and so has been treated as a topic
Rd warning: C:/Users/biocbuild/bbs-3.8-bioc/tmpdir/Rtmpuo7TQb/R.INSTALL233c1de42930/ChIPanalyser/man/computeOptimal.Rd:87: file link 'GRanges' in package 'GenomicRanges' does not exist and so has been treated as a topic
computePWMScore html
Rd warning: C:/Users/biocbuild/bbs-3.8-bioc/tmpdir/Rtmpuo7TQb/R.INSTALL233c1de42930/ChIPanalyser/man/computePWMScore.Rd:20: file link 'DNAStringSet' in package 'Biostrings' does not exist and so has been treated as a topic
Rd warning: C:/Users/biocbuild/bbs-3.8-bioc/tmpdir/Rtmpuo7TQb/R.INSTALL233c1de42930/ChIPanalyser/man/computePWMScore.Rd:28: file link 'GRanges' in package 'GenomicRanges' does not exist and so has been treated as a topic
Rd warning: C:/Users/biocbuild/bbs-3.8-bioc/tmpdir/Rtmpuo7TQb/R.INSTALL233c1de42930/ChIPanalyser/man/computePWMScore.Rd:32: file link 'GRanges' in package 'GenomicRanges' does not exist and so has been treated as a topic
Rd warning: C:/Users/biocbuild/bbs-3.8-bioc/tmpdir/Rtmpuo7TQb/R.INSTALL233c1de42930/ChIPanalyser/man/computePWMScore.Rd:58: file link 'GRangesList' in package 'GenomicRanges' does not exist and so has been treated as a topic
Rd warning: C:/Users/biocbuild/bbs-3.8-bioc/tmpdir/Rtmpuo7TQb/R.INSTALL233c1de42930/ChIPanalyser/man/computePWMScore.Rd:59: file link 'GRanges' in package 'GenomicRanges' does not exist and so has been treated as a topic
data html
Rd warning: C:/Users/biocbuild/bbs-3.8-bioc/tmpdir/Rtmpuo7TQb/R.INSTALL233c1de42930/ChIPanalyser/man/data.Rd:24: file link 'GRanges' in package 'GenomicRanges' does not exist and so has been treated as a topic
Rd warning: C:/Users/biocbuild/bbs-3.8-bioc/tmpdir/Rtmpuo7TQb/R.INSTALL233c1de42930/ChIPanalyser/man/data.Rd:26: file link 'GRanges' in package 'GenomicRanges' does not exist and so has been treated as a topic
Rd warning: C:/Users/biocbuild/bbs-3.8-bioc/tmpdir/Rtmpuo7TQb/R.INSTALL233c1de42930/ChIPanalyser/man/data.Rd:33: file link 'GRanges' in package 'GenomicRanges' does not exist and so has been treated as a topic
genomicProfileParameters-class html
Rd warning: C:/Users/biocbuild/bbs-3.8-bioc/tmpdir/Rtmpuo7TQb/R.INSTALL233c1de42930/ChIPanalyser/man/genomicProfileParameters-class.Rd:90: file link 'DNAStringSet' in package 'Biostrings' does not exist and so has been treated as a topic
genomicProfileParameters html
Rd warning: C:/Users/biocbuild/bbs-3.8-bioc/tmpdir/Rtmpuo7TQb/R.INSTALL233c1de42930/ChIPanalyser/man/genomicProfileParameters.Rd:63: file link 'DNAStringSet' in package 'Biostrings' does not exist and so has been treated as a topic
maxPWMScore html
maxSignal html
maxSignal_- html
minPWMScore html
naturalLog html
naturalLog_- html
noOfSites html
noOfSites_- html
occupancyProfileParameters-class html
occupancyProfileParameters html
ploidy html
ploidy_- html
plotOccupancyProfile html
Rd warning: C:/Users/biocbuild/bbs-3.8-bioc/tmpdir/Rtmpuo7TQb/R.INSTALL233c1de42930/ChIPanalyser/man/plotOccupancyProfile.Rd:21: file link 'GRanges' in package 'GenomicRanges' does not exist and so has been treated as a topic
Rd warning: C:/Users/biocbuild/bbs-3.8-bioc/tmpdir/Rtmpuo7TQb/R.INSTALL233c1de42930/ChIPanalyser/man/plotOccupancyProfile.Rd:27: file link 'GRanges' in package 'GenomicRanges' does not exist and so has been treated as a topic
Rd warning: C:/Users/biocbuild/bbs-3.8-bioc/tmpdir/Rtmpuo7TQb/R.INSTALL233c1de42930/ChIPanalyser/man/plotOccupancyProfile.Rd:35: file link 'GRanges' in package 'GenomicRanges' does not exist and so has been treated as a topic
Rd warning: C:/Users/biocbuild/bbs-3.8-bioc/tmpdir/Rtmpuo7TQb/R.INSTALL233c1de42930/ChIPanalyser/man/plotOccupancyProfile.Rd:40: file link 'GRanges' in package 'GenomicRanges' does not exist and so has been treated as a topic
Rd warning: C:/Users/biocbuild/bbs-3.8-bioc/tmpdir/Rtmpuo7TQb/R.INSTALL233c1de42930/ChIPanalyser/man/plotOccupancyProfile.Rd:58: file link 'GRanges' in package 'GenomicRanges' does not exist and so has been treated as a topic
plotOptimalHeatMaps html
processingChIPseq html
Rd warning: C:/Users/biocbuild/bbs-3.8-bioc/tmpdir/Rtmpuo7TQb/R.INSTALL233c1de42930/ChIPanalyser/man/processingChIPseq.Rd:26: file link 'GRanges' in package 'GenomicRanges' does not exist and so has been treated as a topic
Rd warning: C:/Users/biocbuild/bbs-3.8-bioc/tmpdir/Rtmpuo7TQb/R.INSTALL233c1de42930/ChIPanalyser/man/processingChIPseq.Rd:30: file link 'GRanges' in package 'GenomicRanges' does not exist and so has been treated as a topic
Rd warning: C:/Users/biocbuild/bbs-3.8-bioc/tmpdir/Rtmpuo7TQb/R.INSTALL233c1de42930/ChIPanalyser/man/processingChIPseq.Rd:52: file link 'GRanges' in package 'GenomicRanges' does not exist and so has been treated as a topic
profileAccuracyEstimate html
Rd warning: C:/Users/biocbuild/bbs-3.8-bioc/tmpdir/Rtmpuo7TQb/R.INSTALL233c1de42930/ChIPanalyser/man/profileAccuracyEstimate.Rd:27: file link 'GRangesList' in package 'GenomicRanges' does not exist and so has been treated as a topic
Rd warning: C:/Users/biocbuild/bbs-3.8-bioc/tmpdir/Rtmpuo7TQb/R.INSTALL233c1de42930/ChIPanalyser/man/profileAccuracyEstimate.Rd:28: file link 'GRanges' in package 'GenomicRanges' does not exist and so has been treated as a topic
removeBackground html
removeBackground_- html
searchSites html
stepSize html
stepSize_- html
strandRule html
strandRule_- html
whichstrand html
whichstrand_- html
** building package indices
** installing vignettes
** testing if installed package can be loaded
In R CMD INSTALL
install for x64
* installing *source* package 'ChIPanalyser' ...
** testing if installed package can be loaded
* MD5 sums
packaged installation of 'ChIPanalyser' as ChIPanalyser_1.4.0.zip
* DONE (ChIPanalyser)
In R CMD INSTALL
In R CMD INSTALL
* installing to library 'C:/Users/biocbuild/bbs-3.8-bioc/R/library'
package 'ChIPanalyser' successfully unpacked and MD5 sums checked
In R CMD INSTALL