| Back to Multiple platform build/check report for BioC 3.8 |
|
This page was generated on 2019-04-13 11:23:44 -0400 (Sat, 13 Apr 2019).
| Package 247/1649 | Hostname | OS / Arch | INSTALL | BUILD | CHECK | BUILD BIN | ||||||
| ChIPQC 1.18.2 Tom Carroll
| malbec1 | Linux (Ubuntu 16.04.6 LTS) / x86_64 | OK | OK | OK | |||||||
| tokay1 | Windows Server 2012 R2 Standard / x64 | OK | OK | OK | [ OK ] | |||||||
| merida1 | OS X 10.11.6 El Capitan / x86_64 | OK | OK | OK | OK |
| Package: ChIPQC |
| Version: 1.18.2 |
| Command: rm -rf ChIPQC.buildbin-libdir && mkdir ChIPQC.buildbin-libdir && C:\Users\biocbuild\bbs-3.8-bioc\R\bin\R.exe CMD INSTALL --merge-multiarch --build --library=ChIPQC.buildbin-libdir ChIPQC_1.18.2.tar.gz |
| StartedAt: 2019-04-13 07:02:51 -0400 (Sat, 13 Apr 2019) |
| EndedAt: 2019-04-13 07:03:56 -0400 (Sat, 13 Apr 2019) |
| EllapsedTime: 65.3 seconds |
| RetCode: 0 |
| Status: OK |
| PackageFile: ChIPQC_1.18.2.zip |
| PackageFileSize: 1.925 MiB |
##############################################################################
##############################################################################
###
### Running command:
###
### rm -rf ChIPQC.buildbin-libdir && mkdir ChIPQC.buildbin-libdir && C:\Users\biocbuild\bbs-3.8-bioc\R\bin\R.exe CMD INSTALL --merge-multiarch --build --library=ChIPQC.buildbin-libdir ChIPQC_1.18.2.tar.gz
###
##############################################################################
##############################################################################
install for i386
* installing *source* package 'ChIPQC' ...
** R
** data
** inst
** byte-compile and prepare package for lazy loading
** help
*** installing help indices
converting help for package 'ChIPQC'
finding HTML links ... done
ChIPQC-data html
finding level-2 HTML links ... done
ChIPQC-package html
ChIPQC html
ChIPQCexperiment-class html
ChIPQCreport html
ChIPQCsample-class html
FragmentLengthCrossCoverage-methods html
Normalisedaveragepeaksignal-methods html
QCannotation-methods html
QCcontrol-methods html
QCdba-methods html
QCmetadata-methods html
QCmetrics-methods html
QCsample-methods html
ReadLengthCrossCoverage-methods html
RelativeCrossCoverage-methods html
averagepeaksignal-methods html
coveragehistogram-methods html
crosscoverage-methods html
duplicateRate-methods html
duplicates-methods html
flagtagcounts-methods html
fragmentlength-methods html
frip-methods html
mapped-methods html
peaks-methods html
plotCC-methods html
plotCorHeatmap-methods html
plotCoverageHist-methods html
plotFribl-methods html
plotFrip-methods html
plotPeakProfile-methods html
plotPrincomp-methods html
plotRap-methods html
plotRegi-methods html
plotSSD-methods html
readlength-methods html
reads-methods html
regi-methods html
ribl-methods html
rip-methods html
ssd-methods html
** building package indices
** installing vignettes
** testing if installed package can be loaded
In R CMD INSTALL
install for x64
* installing *source* package 'ChIPQC' ...
** testing if installed package can be loaded
* MD5 sums
packaged installation of 'ChIPQC' as ChIPQC_1.18.2.zip
* DONE (ChIPQC)
In R CMD INSTALL
In R CMD INSTALL