| Back to Multiple platform build/check report for BioC 3.8 |
|
This page was generated on 2019-04-16 11:51:21 -0400 (Tue, 16 Apr 2019).
| Package 207/1649 | Hostname | OS / Arch | INSTALL | BUILD | CHECK | BUILD BIN | ||||||
| CausalR 1.14.1 Glyn Bradley
| malbec1 | Linux (Ubuntu 16.04.6 LTS) / x86_64 | OK | OK | [ OK ] | |||||||
| merida1 | OS X 10.11.6 El Capitan / x86_64 | OK | OK | OK | OK |
| Package: CausalR |
| Version: 1.14.1 |
| Command: /home/biocbuild/bbs-3.8-bioc/R/bin/R CMD check --install=check:CausalR.install-out.txt --library=/home/biocbuild/bbs-3.8-bioc/R/library --no-vignettes --timings CausalR_1.14.1.tar.gz |
| StartedAt: 2019-04-15 22:42:06 -0400 (Mon, 15 Apr 2019) |
| EndedAt: 2019-04-15 22:42:33 -0400 (Mon, 15 Apr 2019) |
| EllapsedTime: 27.2 seconds |
| RetCode: 0 |
| Status: OK |
| CheckDir: CausalR.Rcheck |
| Warnings: 0 |
############################################################################## ############################################################################## ### ### Running command: ### ### /home/biocbuild/bbs-3.8-bioc/R/bin/R CMD check --install=check:CausalR.install-out.txt --library=/home/biocbuild/bbs-3.8-bioc/R/library --no-vignettes --timings CausalR_1.14.1.tar.gz ### ############################################################################## ############################################################################## * using log directory ‘/home/biocbuild/bbs-3.8-bioc/meat/CausalR.Rcheck’ * using R version 3.5.3 (2019-03-11) * using platform: x86_64-pc-linux-gnu (64-bit) * using session charset: UTF-8 * using option ‘--no-vignettes’ * checking for file ‘CausalR/DESCRIPTION’ ... OK * checking extension type ... Package * this is package ‘CausalR’ version ‘1.14.1’ * checking package namespace information ... OK * checking package dependencies ... OK * checking if this is a source package ... OK * checking if there is a namespace ... OK * checking for hidden files and directories ... OK * checking for portable file names ... OK * checking for sufficient/correct file permissions ... OK * checking whether package ‘CausalR’ can be installed ... OK * checking installed package size ... OK * checking package directory ... OK * checking ‘build’ directory ... OK * checking DESCRIPTION meta-information ... OK * checking top-level files ... OK * checking for left-over files ... OK * checking index information ... OK * checking package subdirectories ... OK * checking R files for non-ASCII characters ... OK * checking R files for syntax errors ... OK * checking whether the package can be loaded ... OK * checking whether the package can be loaded with stated dependencies ... OK * checking whether the package can be unloaded cleanly ... OK * checking whether the namespace can be loaded with stated dependencies ... OK * checking whether the namespace can be unloaded cleanly ... OK * checking dependencies in R code ... OK * checking S3 generic/method consistency ... OK * checking replacement functions ... OK * checking foreign function calls ... OK * checking R code for possible problems ... OK * checking Rd files ... OK * checking Rd metadata ... OK * checking Rd cross-references ... OK * checking for missing documentation entries ... OK * checking for code/documentation mismatches ... OK * checking Rd \usage sections ... OK * checking Rd contents ... OK * checking for unstated dependencies in examples ... OK * checking files in ‘vignettes’ ... NOTE The following directory looks like a leftover from 'knitr': ‘figure’ Please remove from your package. * checking examples ... OK * checking for unstated dependencies in ‘tests’ ... OK * checking tests ... Running ‘runTests.R’ OK * checking for unstated dependencies in vignettes ... OK * checking package vignettes in ‘inst/doc’ ... OK * checking running R code from vignettes ... SKIPPED * checking re-building of vignette outputs ... SKIPPED * checking PDF version of manual ... OK * DONE Status: 1 NOTE See ‘/home/biocbuild/bbs-3.8-bioc/meat/CausalR.Rcheck/00check.log’ for details.
CausalR.Rcheck/00install.out
############################################################################## ############################################################################## ### ### Running command: ### ### /home/biocbuild/bbs-3.8-bioc/R/bin/R CMD INSTALL CausalR ### ############################################################################## ############################################################################## * installing to library ‘/home/biocbuild/bbs-3.8-bioc/R/library’ * installing *source* package ‘CausalR’ ... ** R ** inst ** byte-compile and prepare package for lazy loading ** help *** installing help indices ** building package indices ** installing vignettes ** testing if installed package can be loaded * DONE (CausalR)
CausalR.Rcheck/tests/runTests.Rout
R version 3.5.3 (2019-03-11) -- "Great Truth"
Copyright (C) 2019 The R Foundation for Statistical Computing
Platform: x86_64-pc-linux-gnu (64-bit)
R is free software and comes with ABSOLUTELY NO WARRANTY.
You are welcome to redistribute it under certain conditions.
Type 'license()' or 'licence()' for distribution details.
R is a collaborative project with many contributors.
Type 'contributors()' for more information and
'citation()' on how to cite R or R packages in publications.
Type 'demo()' for some demos, 'help()' for on-line help, or
'help.start()' for an HTML browser interface to help.
Type 'q()' to quit R.
> # Make sure that the igraph package has been loaded
>
> library(igraph)
Attaching package: 'igraph'
The following objects are masked from 'package:stats':
decompose, spectrum
The following object is masked from 'package:base':
union
>
> BiocGenerics:::testPackage("CausalR")
[1] "File read complete - read in 3 lines. Now constructing network"
[1] "Network has been created - now adding edge properties"
[1] "Added weights to edges"
[1] "File read complete - read in 2 lines. Now constructing network"
[1] "Network has been created - now adding edge properties"
[1] "Added weights to edges"
[1] "File read complete - read in 2 lines. Now constructing network"
[1] "Network has been created - now adding edge properties"
[1] "Added weights to edges"
[1] "File read complete - read in 4 lines. Now constructing network"
[1] "Network has been created - now adding edge properties"
[1] "Added weights to edges"
[1] "File read complete - read in 4 lines. Now constructing network"
[1] "Network has been created - now adding edge properties"
[1] "Added weights to edges"
[1] "The values in the second column do not match what is expected. They should be (+)1, 0 or -1"
[1] "The experimental data read in didn't have two columns"
Number of Nodes to analyse: 3
Number of Nodes to analyse: 1
Number of Nodes to analyse: 1
Number of Nodes to analyse: 3
Number of Nodes to analyse: 3
Number of Nodes to analyse: 3
Number of Nodes to analyse: 3
Number of Nodes to analyse: 3
Number of Nodes to analyse: 3
Number of Nodes to analyse: 3
Number of Nodes to analyse: 3
Number of Nodes to analyse: 3
Number of Nodes to analyse: 3
Number of Nodes to analyse: 3
Number of Nodes to analyse: 1
Number of Nodes to analyse: 1
Number of Nodes to analyse: 1
Number of Nodes to analyse: 1
Number of Nodes to analyse: 2
Number of Nodes to analyse: 2
Number of Nodes to analyse: 1
Number of Nodes to analyse: 1
Number of Nodes to analyse: 1
Number of Nodes to analyse: 1
Number of Nodes to analyse: 2
Number of Nodes to analyse: 2
Number of Nodes to analyse: 2
Number of Nodes to analyse: 2
Number of Nodes to analyse: 1
Number of Nodes to analyse: 1
Number of Nodes to analyse: 1
Number of Nodes to analyse: 1
Number of Nodes to analyse: 3
Number of Nodes to analyse: 3
[1] "File read complete - read in 2 lines. Now constructing network"
[1] "Network has been created - now adding edge properties"
[1] "Added weights to edges"
Writing sif file to: /tmp/RtmpNza4aF-52798253/corExplainedNodes-file7b685091fae.sif
Writing annotation file to: /tmp/RtmpNza4aF-52798253/corExplainedNodes-file7b685091fae_anno.txt
corExplainedNodes
Node0 Activates Node1
Node0 Inhibits Node2
Node1 Activates Node3
Node2 Activates Node6
Node2 Activates Node7
Writing sif file to: /tmp/RtmpNza4aF-565361050/corExplainedNodes-testNetwork1-testData1-delta2-Node0+.sif
Writing annotation file to: /tmp/RtmpNza4aF-565361050/corExplainedNodes-testNetwork1-testData1-delta2-Node0+_anno.txt
corExplainedNodes
Node0 Activates Node1
Node0 Inhibits Node2
Node1 Activates Node3
Node2 Activates Node6
Node2 Activates Node7
Writing sif file to: /tmp/RtmpNza4aF-573218148/corExplainedNodes-testNetwork1-testData1-delta2-Node0+.sif
Writing annotation file to: /tmp/RtmpNza4aF-573218148/corExplainedNodes-testNetwork1-testData1-delta2-Node0+_anno.txt
corExplainedNodes
Node0 Activates Node1
Node0 Inhibits Node2
Node1 Activates Node3
Node2 Activates Node6
Node2 Activates Node7
Writing sif file to: /tmp/RtmpNza4aF-573218148/incorExplainedNodes-testNetwork1-testData1-delta2-Node0+.sif
Writing annotation file to: /tmp/RtmpNza4aF-573218148/incorExplainedNodes-testNetwork1-testData1-delta2-Node0+_anno.txt
incorExplainedNodes
Node0 Inhibits Node2
Writing sif file to: /tmp/RtmpNza4aF-573218148/ambExplainedNodes-testNetwork1-testData1-delta2-Node0+.sif
Writing annotation file to: /tmp/RtmpNza4aF-573218148/ambExplainedNodes-testNetwork1-testData1-delta2-Node0+_anno.txt
ambExplainedNodes
Node0 Activates Node1
Node0 Inhibits Node2
Node1 Inhibits Node5
Node2 Inhibits Node5
Writing sif file to: /tmp/RtmpNza4aF/corExplainedNodes-file7b6828247db5.sif
Writing annotation file to: /tmp/RtmpNza4aF/corExplainedNodes-file7b6828247db5_anno.txt
corExplainedNodes
Node0 Activates Node1
Writing sif file to: /tmp/RtmpNza4aF/incorExplainedNodes-file7b6828247db5.sif
Writing annotation file to: /tmp/RtmpNza4aF/incorExplainedNodes-file7b6828247db5_anno.txt
incorExplainedNodes
Node0 Inhibits Node2
Writing sif file to: /tmp/RtmpNza4aF/ambExplainedNodes-file7b6828247db5.sif
Writing annotation file to: /tmp/RtmpNza4aF/ambExplainedNodes-file7b6828247db5_anno.txt
ambExplainedNodes
Writing sif file to: /tmp/RtmpNza4aF/corExplainedNodes-file7b681238209a.sif
Writing annotation file to: /tmp/RtmpNza4aF/corExplainedNodes-file7b681238209a_anno.txt
corExplainedNodes
Node0 Activates Node1
Node0 Inhibits Node2
Node1 Activates Node3
Node2 Activates Node6
Node2 Activates Node7
Writing sif file to: /tmp/RtmpNza4aF/incorExplainedNodes-file7b681238209a.sif
Writing annotation file to: /tmp/RtmpNza4aF/incorExplainedNodes-file7b681238209a_anno.txt
incorExplainedNodes
Node0 Inhibits Node2
Writing sif file to: /tmp/RtmpNza4aF/ambExplainedNodes-file7b681238209a.sif
Writing annotation file to: /tmp/RtmpNza4aF/ambExplainedNodes-file7b681238209a_anno.txt
ambExplainedNodes
Node0 Activates Node1
Node0 Inhibits Node2
Node1 Inhibits Node5
Node2 Inhibits Node5
Writing sif file to: /tmp/RtmpNza4aF-700588808/corExplainedNodes-file7b6846090f15.sif
Writing annotation file to: /tmp/RtmpNza4aF-700588808/corExplainedNodes-file7b6846090f15_anno.txt
corExplainedNodes
Node0 Activates Node1
Node0 Inhibits Node2
Node1 Activates Node3
Node2 Activates Node6
Node2 Activates Node7
Writing sif file to: /tmp/RtmpNza4aF-18137386/corExplainedNodes-testNetwork1-testData1-delta2-Node0+.sif
Writing annotation file to: /tmp/RtmpNza4aF-18137386/corExplainedNodes-testNetwork1-testData1-delta2-Node0+_anno.txt
corExplainedNodes
Node0 Activates Node1
Node0 Inhibits Node2
Node1 Activates Node3
Node2 Activates Node6
Node2 Activates Node7
Writing sif file to: /tmp/RtmpNza4aF-708219382/corExplainedNodes-testNetwork1-testData1-delta2-Node0+.sif
Writing annotation file to: /tmp/RtmpNza4aF-708219382/corExplainedNodes-testNetwork1-testData1-delta2-Node0+_anno.txt
corExplainedNodes
Node0 Activates Node1
Node0 Inhibits Node2
Node1 Activates Node3
Node2 Activates Node6
Node2 Activates Node7
Writing sif file to: /tmp/RtmpNza4aF-708219382/incorExplainedNodes-testNetwork1-testData1-delta2-Node0+.sif
Writing annotation file to: /tmp/RtmpNza4aF-708219382/incorExplainedNodes-testNetwork1-testData1-delta2-Node0+_anno.txt
incorExplainedNodes
Node0 Inhibits Node2
Writing sif file to: /tmp/RtmpNza4aF-708219382/ambExplainedNodes-testNetwork1-testData1-delta2-Node0+.sif
Writing annotation file to: /tmp/RtmpNza4aF-708219382/ambExplainedNodes-testNetwork1-testData1-delta2-Node0+_anno.txt
ambExplainedNodes
Node0 Activates Node1
Node0 Inhibits Node2
Node1 Inhibits Node5
Node2 Inhibits Node5
RUNIT TEST PROTOCOL -- Mon Apr 15 22:42:28 2019
***********************************************
Number of test functions: 129
Number of errors: 0
Number of failures: 0
1 Test Suite :
CausalR RUnit Tests - 129 test functions, 0 errors, 0 failures
Number of test functions: 129
Number of errors: 0
Number of failures: 0
Warning messages:
1: In file(file, "rt") :
cannot open file 'nonExistentFile.sif': No such file or directory
2: In file(file, "rt") :
cannot open file 'nonExistentFile.sif': No such file or directory
>
> proc.time()
user system elapsed
2.772 0.280 2.979
CausalR.Rcheck/CausalR-Ex.timings
| name | user | system | elapsed | |
| AnalysePredictionsList | 0.036 | 0.000 | 0.053 | |
| CalculateEnrichmentPValue | 0.000 | 0.000 | 0.002 | |
| CalculateSignificance | 0.06 | 0.00 | 0.06 | |
| CalculateSignificanceUsingCubicAlgorithm | 0.064 | 0.000 | 0.066 | |
| CalculateSignificanceUsingCubicAlgorithm1b | 0.048 | 0.000 | 0.051 | |
| CalculateSignificanceUsingQuarticAlgorithm | 0.064 | 0.000 | 0.062 | |
| CompareHypothesis | 0.012 | 0.000 | 0.011 | |
| CreateCCG | 0.008 | 0.000 | 0.009 | |
| CreateCG | 0.004 | 0.000 | 0.007 | |
| GetNodeName | 0.008 | 0.000 | 0.009 | |
| GetNumberOfPositiveAndNegativeEntries | 0.000 | 0.000 | 0.002 | |
| GetShortestPathsFromCCG | 0.012 | 0.000 | 0.012 | |
| MakePredictions | 0.016 | 0.000 | 0.017 | |
| MakePredictionsFromCCG | 0.004 | 0.004 | 0.011 | |
| MakePredictionsFromCG | 0.068 | 0.004 | 0.072 | |
| PlotGraphWithNodeNames | 0.092 | 0.000 | 0.092 | |
| RankTheHypotheses | 0.112 | 0.016 | 0.102 | |
| ReadExperimentalData | 0.028 | 0.000 | 0.030 | |
| ScoreHypothesis | 0.004 | 0.000 | 0.005 | |
| WriteAllExplainedNodesToSifFile | 0.108 | 0.044 | 0.125 | |
| WriteExplainedNodesToSifFile | 0.056 | 0.000 | 0.056 | |
| runSCANR | 0.792 | 0.044 | 0.839 | |