| Back to Multiple platform build/check report for BioC 3.8 |
|
This page was generated on 2019-04-13 11:20:12 -0400 (Sat, 13 Apr 2019).
| Package 332/1649 | Hostname | OS / Arch | INSTALL | BUILD | CHECK | BUILD BIN | ||||||
| CORREP 1.48.0 Dongxiao Zhu
| malbec1 | Linux (Ubuntu 16.04.6 LTS) / x86_64 | OK | OK | OK | |||||||
| tokay1 | Windows Server 2012 R2 Standard / x64 | OK | OK | OK | [ OK ] | |||||||
| merida1 | OS X 10.11.6 El Capitan / x86_64 | OK | OK | OK | OK |
| Package: CORREP |
| Version: 1.48.0 |
| Command: rm -rf CORREP.buildbin-libdir && mkdir CORREP.buildbin-libdir && C:\Users\biocbuild\bbs-3.8-bioc\R\bin\R.exe CMD INSTALL --merge-multiarch --build --library=CORREP.buildbin-libdir CORREP_1.48.0.tar.gz |
| StartedAt: 2019-04-13 07:07:28 -0400 (Sat, 13 Apr 2019) |
| EndedAt: 2019-04-13 07:07:37 -0400 (Sat, 13 Apr 2019) |
| EllapsedTime: 9.2 seconds |
| RetCode: 0 |
| Status: OK |
| PackageFile: CORREP_1.48.0.zip |
| PackageFileSize: 320.6 KiB |
##############################################################################
##############################################################################
###
### Running command:
###
### rm -rf CORREP.buildbin-libdir && mkdir CORREP.buildbin-libdir && C:\Users\biocbuild\bbs-3.8-bioc\R\bin\R.exe CMD INSTALL --merge-multiarch --build --library=CORREP.buildbin-libdir CORREP_1.48.0.tar.gz
###
##############################################################################
##############################################################################
install for i386
* installing *source* package 'CORREP' ...
** R
** data
** inst
** byte-compile and prepare package for lazy loading
** help
*** installing help indices
converting help for package 'CORREP'
finding HTML links ... done
CORREP-package html
cor.LRtest html
cor.LRtest.std html
cor.balance html
cor.bootci html
cor.unbalance html
gal_all html
permutest html
true.member html
** building package indices
** installing vignettes
** testing if installed package can be loaded
In R CMD INSTALL
install for x64
* installing *source* package 'CORREP' ...
** testing if installed package can be loaded
* MD5 sums
packaged installation of 'CORREP' as CORREP_1.48.0.zip
* DONE (CORREP)
In R CMD INSTALL
In R CMD INSTALL