| Back to Multiple platform build/check report for BioC 3.8 |
|
This page was generated on 2019-04-16 11:58:15 -0400 (Tue, 16 Apr 2019).
| Package 302/1649 | Hostname | OS / Arch | INSTALL | BUILD | CHECK | BUILD BIN | ||||||
| CODEX 1.14.1 Yuchao Jiang
| malbec1 | Linux (Ubuntu 16.04.6 LTS) / x86_64 | OK | OK | OK | |||||||
| merida1 | OS X 10.11.6 El Capitan / x86_64 | OK | OK | [ OK ] | OK |
| Package: CODEX |
| Version: 1.14.1 |
| Command: /Library/Frameworks/R.framework/Versions/Current/Resources/bin/R CMD check --install=check:CODEX.install-out.txt --library=/Library/Frameworks/R.framework/Versions/Current/Resources/library --no-vignettes --timings CODEX_1.14.1.tar.gz |
| StartedAt: 2019-04-15 23:08:24 -0400 (Mon, 15 Apr 2019) |
| EndedAt: 2019-04-15 23:13:21 -0400 (Mon, 15 Apr 2019) |
| EllapsedTime: 297.5 seconds |
| RetCode: 0 |
| Status: OK |
| CheckDir: CODEX.Rcheck |
| Warnings: 0 |
##############################################################################
##############################################################################
###
### Running command:
###
### /Library/Frameworks/R.framework/Versions/Current/Resources/bin/R CMD check --install=check:CODEX.install-out.txt --library=/Library/Frameworks/R.framework/Versions/Current/Resources/library --no-vignettes --timings CODEX_1.14.1.tar.gz
###
##############################################################################
##############################################################################
* using log directory ‘/Users/biocbuild/bbs-3.8-bioc/meat/CODEX.Rcheck’
* using R version 3.5.3 (2019-03-11)
* using platform: x86_64-apple-darwin15.6.0 (64-bit)
* using session charset: UTF-8
* using option ‘--no-vignettes’
* checking for file ‘CODEX/DESCRIPTION’ ... OK
* checking extension type ... Package
* this is package ‘CODEX’ version ‘1.14.1’
* checking package namespace information ... OK
* checking package dependencies ... NOTE
Depends: includes the non-default packages:
‘Rsamtools’ ‘GenomeInfoDb’ ‘BSgenome.Hsapiens.UCSC.hg19’ ‘IRanges’
‘Biostrings’ ‘S4Vectors’
Adding so many packages to the search path is excessive and importing
selectively is preferable.
* checking if this is a source package ... OK
* checking if there is a namespace ... OK
* checking for hidden files and directories ... OK
* checking for portable file names ... OK
* checking for sufficient/correct file permissions ... OK
* checking whether package ‘CODEX’ can be installed ... OK
* checking installed package size ... OK
* checking package directory ... OK
* checking ‘build’ directory ... OK
* checking DESCRIPTION meta-information ... OK
* checking top-level files ... OK
* checking for left-over files ... OK
* checking index information ... OK
* checking package subdirectories ... OK
* checking R files for non-ASCII characters ... OK
* checking R files for syntax errors ... OK
* checking whether the package can be loaded ... OK
* checking whether the package can be loaded with stated dependencies ... OK
* checking whether the package can be unloaded cleanly ... OK
* checking whether the namespace can be loaded with stated dependencies ... OK
* checking whether the namespace can be unloaded cleanly ... OK
* checking dependencies in R code ... OK
* checking S3 generic/method consistency ... OK
* checking replacement functions ... OK
* checking foreign function calls ... OK
* checking R code for possible problems ... NOTE
choiceofK: no visible global function definition for ‘pdf’
choiceofK: no visible global function definition for ‘par’
choiceofK: no visible global function definition for ‘plot’
choiceofK: no visible global function definition for ‘dev.off’
getbambed: no visible global function definition for ‘read.table’
normalize : <anonymous>: no visible global function definition for
‘smooth.spline’
normalize : <anonymous>: no visible global function definition for
‘predict’
normalize: no visible global function definition for ‘glm’
normalize: no visible binding for global variable ‘poisson’
normalize: no visible global function definition for ‘lm’
normalize2 : <anonymous>: no visible global function definition for
‘smooth.spline’
normalize2 : <anonymous>: no visible global function definition for
‘predict’
normalize2: no visible global function definition for ‘glm’
normalize2: no visible binding for global variable ‘poisson’
normalize2: no visible global function definition for ‘lm’
Undefined global functions or variables:
dev.off glm lm par pdf plot poisson predict read.table smooth.spline
Consider adding
importFrom("grDevices", "dev.off", "pdf")
importFrom("graphics", "par", "plot")
importFrom("stats", "glm", "lm", "poisson", "predict", "smooth.spline")
importFrom("utils", "read.table")
to your NAMESPACE file.
* checking Rd files ... OK
* checking Rd metadata ... OK
* checking Rd cross-references ... OK
* checking for missing documentation entries ... OK
* checking for code/documentation mismatches ... OK
* checking Rd \usage sections ... OK
* checking Rd contents ... OK
* checking for unstated dependencies in examples ... OK
* checking contents of ‘data’ directory ... OK
* checking data for non-ASCII characters ... OK
* checking data for ASCII and uncompressed saves ... OK
* checking sizes of PDF files under ‘inst/doc’ ... OK
* checking files in ‘vignettes’ ... OK
* checking examples ... OK
Examples with CPU or elapsed time > 5s
user system elapsed
normalize 35.645 0.542 38.621
normalize2 28.856 0.345 30.935
getcoverage 9.208 0.459 10.310
* checking for unstated dependencies in vignettes ... OK
* checking package vignettes in ‘inst/doc’ ... OK
* checking running R code from vignettes ... SKIPPED
* checking re-building of vignette outputs ... SKIPPED
* checking PDF version of manual ... OK
* DONE
Status: 2 NOTEs
See
‘/Users/biocbuild/bbs-3.8-bioc/meat/CODEX.Rcheck/00check.log’
for details.
CODEX.Rcheck/00install.out
############################################################################## ############################################################################## ### ### Running command: ### ### /Library/Frameworks/R.framework/Versions/Current/Resources/bin/R CMD INSTALL CODEX ### ############################################################################## ############################################################################## * installing to library ‘/Library/Frameworks/R.framework/Versions/3.5/Resources/library’ * installing *source* package ‘CODEX’ ... ** R ** data *** moving datasets to lazyload DB ** byte-compile and prepare package for lazy loading ** help *** installing help indices ** building package indices ** installing vignettes ** testing if installed package can be loaded * DONE (CODEX)
CODEX.Rcheck/CODEX-Ex.timings
| name | user | system | elapsed | |
| bambedObjDemo | 0.000 | 0.000 | 0.001 | |
| choiceofK | 0.025 | 0.002 | 0.028 | |
| coverageObjDemo | 0 | 0 | 0 | |
| gcDemo | 0.001 | 0.000 | 0.001 | |
| getbambed | 0.022 | 0.004 | 0.027 | |
| getcoverage | 9.208 | 0.459 | 10.310 | |
| getgc | 1.527 | 0.082 | 1.618 | |
| getmapp | 0.052 | 0.006 | 0.059 | |
| mappDemo | 0 | 0 | 0 | |
| mapp_ref | 0.016 | 0.001 | 0.017 | |
| mappability | 0.002 | 0.000 | 0.002 | |
| normObjDemo | 0.000 | 0.000 | 0.001 | |
| normalize | 35.645 | 0.542 | 38.621 | |
| normalize2 | 28.856 | 0.345 | 30.935 | |
| qc | 0.038 | 0.001 | 0.039 | |
| qcObjDemo | 0.001 | 0.000 | 0.001 | |
| segment | 0.227 | 0.045 | 0.275 | |