| Back to Multiple platform build/check report for BioC 3.8 |
|
This page was generated on 2019-04-13 11:25:38 -0400 (Sat, 13 Apr 2019).
| Package 295/1649 | Hostname | OS / Arch | INSTALL | BUILD | CHECK | BUILD BIN | ||||||
| CNVPanelizer 1.14.0 Thomas Wolf
| malbec1 | Linux (Ubuntu 16.04.6 LTS) / x86_64 | OK | OK | OK | |||||||
| tokay1 | Windows Server 2012 R2 Standard / x64 | OK | OK | OK | [ OK ] | |||||||
| merida1 | OS X 10.11.6 El Capitan / x86_64 | OK | OK | OK | OK |
| Package: CNVPanelizer |
| Version: 1.14.0 |
| Command: rm -rf CNVPanelizer.buildbin-libdir && mkdir CNVPanelizer.buildbin-libdir && C:\Users\biocbuild\bbs-3.8-bioc\R\bin\R.exe CMD INSTALL --merge-multiarch --build --library=CNVPanelizer.buildbin-libdir CNVPanelizer_1.14.0.tar.gz |
| StartedAt: 2019-04-13 07:05:15 -0400 (Sat, 13 Apr 2019) |
| EndedAt: 2019-04-13 07:05:44 -0400 (Sat, 13 Apr 2019) |
| EllapsedTime: 28.9 seconds |
| RetCode: 0 |
| Status: OK |
| PackageFile: CNVPanelizer_1.14.0.zip |
| PackageFileSize: 487.2 KiB |
##############################################################################
##############################################################################
###
### Running command:
###
### rm -rf CNVPanelizer.buildbin-libdir && mkdir CNVPanelizer.buildbin-libdir && C:\Users\biocbuild\bbs-3.8-bioc\R\bin\R.exe CMD INSTALL --merge-multiarch --build --library=CNVPanelizer.buildbin-libdir CNVPanelizer_1.14.0.tar.gz
###
##############################################################################
##############################################################################
install for i386
* installing *source* package 'CNVPanelizer' ...
** R
** data
** inst
** byte-compile and prepare package for lazy loading
** help
*** installing help indices
converting help for package 'CNVPanelizer'
finding HTML links ... done
Background html
BedToGenomicRanges html
BootList html
CNVPanelizer-package html
CNVPanelizerFromReadCounts html
CNVPanelizerFromReadCountsHelper html
CollectColumnFromAllReportTables html
CombinedNormalizedCounts html
IndexMultipleBams html
NormalizedCounts html
PlotBootstrapDistributions html
ReadCountsFromBam html
ReadXLSXToList html
ReportTables html
RunCNVPanelizerShiny html
SelectReferenceSetByInterquartileRange
html
SelectReferenceSetByKmeans html
SelectReferenceSetByPercentil html
SelectReferenceSetFromReadCounts html
StatusHeatmap html
WriteListToXLSX html
referenceReadCounts html
sampleReadCounts html
** building package indices
** installing vignettes
** testing if installed package can be loaded
In R CMD INSTALL
install for x64
* installing *source* package 'CNVPanelizer' ...
** testing if installed package can be loaded
* MD5 sums
packaged installation of 'CNVPanelizer' as CNVPanelizer_1.14.0.zip
* DONE (CNVPanelizer)
In R CMD INSTALL
In R CMD INSTALL