| Back to Multiple platform build/check report for BioC 3.8 |
|
This page was generated on 2019-04-16 11:51:41 -0400 (Tue, 16 Apr 2019).
| Package 292/1649 | Hostname | OS / Arch | INSTALL | BUILD | CHECK | BUILD BIN | ||||||
| CNPBayes 1.12.0 Jacob Carey
| malbec1 | Linux (Ubuntu 16.04.6 LTS) / x86_64 | OK | OK | [ OK ] | |||||||
| merida1 | OS X 10.11.6 El Capitan / x86_64 | OK | OK | OK | OK |
| Package: CNPBayes |
| Version: 1.12.0 |
| Command: /home/biocbuild/bbs-3.8-bioc/R/bin/R CMD check --install=check:CNPBayes.install-out.txt --library=/home/biocbuild/bbs-3.8-bioc/R/library --no-vignettes --timings CNPBayes_1.12.0.tar.gz |
| StartedAt: 2019-04-15 23:01:27 -0400 (Mon, 15 Apr 2019) |
| EndedAt: 2019-04-15 23:09:13 -0400 (Mon, 15 Apr 2019) |
| EllapsedTime: 466.0 seconds |
| RetCode: 0 |
| Status: OK |
| CheckDir: CNPBayes.Rcheck |
| Warnings: 0 |
##############################################################################
##############################################################################
###
### Running command:
###
### /home/biocbuild/bbs-3.8-bioc/R/bin/R CMD check --install=check:CNPBayes.install-out.txt --library=/home/biocbuild/bbs-3.8-bioc/R/library --no-vignettes --timings CNPBayes_1.12.0.tar.gz
###
##############################################################################
##############################################################################
* using log directory ‘/home/biocbuild/bbs-3.8-bioc/meat/CNPBayes.Rcheck’
* using R version 3.5.3 (2019-03-11)
* using platform: x86_64-pc-linux-gnu (64-bit)
* using session charset: UTF-8
* using option ‘--no-vignettes’
* checking for file ‘CNPBayes/DESCRIPTION’ ... OK
* checking extension type ... Package
* this is package ‘CNPBayes’ version ‘1.12.0’
* package encoding: UTF-8
* checking package namespace information ... OK
* checking package dependencies ... OK
* checking if this is a source package ... OK
* checking if there is a namespace ... OK
* checking for hidden files and directories ... OK
* checking for portable file names ... OK
* checking for sufficient/correct file permissions ... OK
* checking whether package ‘CNPBayes’ can be installed ... OK
* checking installed package size ... NOTE
installed size is 8.2Mb
sub-directories of 1Mb or more:
R 1.1Mb
libs 6.2Mb
* checking package directory ... OK
* checking ‘build’ directory ... OK
* checking DESCRIPTION meta-information ... OK
* checking top-level files ... OK
* checking for left-over files ... OK
* checking index information ... OK
* checking package subdirectories ... OK
* checking R files for non-ASCII characters ... OK
* checking R files for syntax errors ... OK
* checking whether the package can be loaded ... OK
* checking whether the package can be loaded with stated dependencies ... OK
* checking whether the package can be unloaded cleanly ... OK
* checking whether the namespace can be loaded with stated dependencies ... OK
* checking whether the namespace can be unloaded cleanly ... OK
* checking dependencies in R code ... OK
* checking S3 generic/method consistency ... OK
* checking replacement functions ... OK
* checking foreign function calls ... OK
* checking R code for possible problems ... OK
* checking Rd files ... OK
* checking Rd metadata ... OK
* checking Rd cross-references ... OK
* checking for missing documentation entries ... OK
* checking for code/documentation mismatches ... OK
* checking Rd \usage sections ... OK
* checking Rd contents ... OK
* checking for unstated dependencies in examples ... OK
* checking contents of ‘data’ directory ... OK
* checking data for non-ASCII characters ... OK
* checking data for ASCII and uncompressed saves ... OK
* checking line endings in C/C++/Fortran sources/headers ... OK
* checking line endings in Makefiles ... OK
* checking compilation flags in Makevars ... OK
* checking for GNU extensions in Makefiles ... OK
* checking for portable use of $(BLAS_LIBS) and $(LAPACK_LIBS) ... OK
* checking compiled code ... NOTE
Note: information on .o files is not available
* checking files in ‘vignettes’ ... OK
* checking examples ... OK
Examples with CPU or elapsed time > 5s
user system elapsed
ggplot-functions 35.308 0.020 35.374
MultiBatchModel2 25.540 0.064 25.630
MB 16.264 0.032 16.314
MBP 11.024 0.036 11.090
gibbs 8.140 0.020 8.173
upSample2 5.216 0.004 5.285
* checking for unstated dependencies in ‘tests’ ... OK
* checking tests ...
Running ‘testthat.R’
OK
* checking for unstated dependencies in vignettes ... OK
* checking package vignettes in ‘inst/doc’ ... OK
* checking running R code from vignettes ... SKIPPED
* checking re-building of vignette outputs ... SKIPPED
* checking PDF version of manual ... OK
* DONE
Status: 2 NOTEs
See
‘/home/biocbuild/bbs-3.8-bioc/meat/CNPBayes.Rcheck/00check.log’
for details.
CNPBayes.Rcheck/00install.out
############################################################################## ############################################################################## ### ### Running command: ### ### /home/biocbuild/bbs-3.8-bioc/R/bin/R CMD INSTALL CNPBayes ### ############################################################################## ############################################################################## * installing to library ‘/home/biocbuild/bbs-3.8-bioc/R/library’ * installing *source* package ‘CNPBayes’ ... ** libs g++ -I"/home/biocbuild/bbs-3.8-bioc/R/include" -DNDEBUG -I"/home/biocbuild/bbs-3.8-bioc/R/library/Rcpp/include" -I/usr/local/include -fpic -g -O2 -Wall -c RcppExports.cpp -o RcppExports.o g++ -I"/home/biocbuild/bbs-3.8-bioc/R/include" -DNDEBUG -I"/home/biocbuild/bbs-3.8-bioc/R/library/Rcpp/include" -I/usr/local/include -fpic -g -O2 -Wall -c miscfunctions.cpp -o miscfunctions.o g++ -I"/home/biocbuild/bbs-3.8-bioc/R/include" -DNDEBUG -I"/home/biocbuild/bbs-3.8-bioc/R/library/Rcpp/include" -I/usr/local/include -fpic -g -O2 -Wall -c multibatch.cpp -o multibatch.o g++ -I"/home/biocbuild/bbs-3.8-bioc/R/include" -DNDEBUG -I"/home/biocbuild/bbs-3.8-bioc/R/library/Rcpp/include" -I/usr/local/include -fpic -g -O2 -Wall -c multibatch_pooledvar.cpp -o multibatch_pooledvar.o g++ -I"/home/biocbuild/bbs-3.8-bioc/R/include" -DNDEBUG -I"/home/biocbuild/bbs-3.8-bioc/R/library/Rcpp/include" -I/usr/local/include -fpic -g -O2 -Wall -c multibatch_reduced.cpp -o multibatch_reduced.o g++ -I"/home/biocbuild/bbs-3.8-bioc/R/include" -DNDEBUG -I"/home/biocbuild/bbs-3.8-bioc/R/library/Rcpp/include" -I/usr/local/include -fpic -g -O2 -Wall -c pooledvar_reduced.cpp -o pooledvar_reduced.o g++ -shared -L/home/biocbuild/bbs-3.8-bioc/R/lib -L/usr/local/lib -o CNPBayes.so RcppExports.o miscfunctions.o multibatch.o multibatch_pooledvar.o multibatch_reduced.o pooledvar_reduced.o -L/home/biocbuild/bbs-3.8-bioc/R/lib -lRlapack -L/home/biocbuild/bbs-3.8-bioc/R/lib -lRblas -lgfortran -lm -lquadmath -L/home/biocbuild/bbs-3.8-bioc/R/lib -lR installing to /home/biocbuild/bbs-3.8-bioc/R/library/CNPBayes/libs ** R ** data *** moving datasets to lazyload DB ** inst ** byte-compile and prepare package for lazy loading Creating a new generic function for ‘alpha’ in package ‘CNPBayes’ Creating a generic function from function ‘sigma’ in package ‘CNPBayes’ ** help *** installing help indices ** building package indices ** installing vignettes ** testing if installed package can be loaded * DONE (CNPBayes)
CNPBayes.Rcheck/tests/testthat.Rout
R version 3.5.3 (2019-03-11) -- "Great Truth"
Copyright (C) 2019 The R Foundation for Statistical Computing
Platform: x86_64-pc-linux-gnu (64-bit)
R is free software and comes with ABSOLUTELY NO WARRANTY.
You are welcome to redistribute it under certain conditions.
Type 'license()' or 'licence()' for distribution details.
R is a collaborative project with many contributors.
Type 'contributors()' for more information and
'citation()' on how to cite R or R packages in publications.
Type 'demo()' for some demos, 'help()' for on-line help, or
'help.start()' for an HTML browser interface to help.
Type 'q()' to quit R.
> Sys.setenv("R_TESTS"="")
> library(testthat)
> library(CNPBayes)
Loading required package: IRanges
Loading required package: BiocGenerics
Loading required package: parallel
Attaching package: 'BiocGenerics'
The following objects are masked from 'package:parallel':
clusterApply, clusterApplyLB, clusterCall, clusterEvalQ,
clusterExport, clusterMap, parApply, parCapply, parLapply,
parLapplyLB, parRapply, parSapply, parSapplyLB
The following objects are masked from 'package:stats':
IQR, mad, sd, var, xtabs
The following objects are masked from 'package:base':
Filter, Find, Map, Position, Reduce, anyDuplicated, append,
as.data.frame, basename, cbind, colMeans, colSums, colnames,
dirname, do.call, duplicated, eval, evalq, get, grep, grepl,
intersect, is.unsorted, lapply, lengths, mapply, match, mget,
order, paste, pmax, pmax.int, pmin, pmin.int, rank, rbind,
rowMeans, rowSums, rownames, sapply, setdiff, sort, table, tapply,
union, unique, unsplit, which, which.max, which.min
Loading required package: S4Vectors
Loading required package: stats4
Attaching package: 'S4Vectors'
The following object is masked from 'package:base':
expand.grid
Loading required package: GenomicRanges
Loading required package: GenomeInfoDb
Attaching package: 'CNPBayes'
The following object is masked from 'package:stats':
sigma
> test_check("CNPBayes")
══ testthat results ═══════════════════════════════════════════════════════════
OK: 140 SKIPPED: 1 FAILED: 0
>
> proc.time()
user system elapsed
171.156 0.496 178.653
CNPBayes.Rcheck/CNPBayes-Ex.timings
| name | user | system | elapsed | |
| CopyNumber-methods | 0.012 | 0.000 | 0.012 | |
| Hyperparameters | 0.008 | 0.000 | 0.010 | |
| HyperparametersMultiBatch | 0.000 | 0.000 | 0.001 | |
| HyperparametersSingleBatch | 0.004 | 0.000 | 0.004 | |
| MB | 16.264 | 0.032 | 16.314 | |
| MBP | 11.024 | 0.036 | 11.090 | |
| McmcParams-class | 0.004 | 0.004 | 0.005 | |
| McmcParams | 0.000 | 0.000 | 0.001 | |
| MultiBatchModel2 | 25.540 | 0.064 | 25.630 | |
| SingleBatchModel | 0.224 | 0.000 | 0.222 | |
| batch-method | 0.000 | 0.004 | 0.003 | |
| bic-method | 0.972 | 0.000 | 0.972 | |
| burnin-method | 0.000 | 0.000 | 0.001 | |
| chains-method | 0.012 | 0.000 | 0.012 | |
| chromosome | 0.052 | 0.000 | 0.052 | |
| collapseBatch-method | 0.400 | 0.000 | 0.403 | |
| consensusCNP | 0.268 | 0.000 | 0.268 | |
| copyNumber | 0.008 | 0.000 | 0.009 | |
| dfr-method | 0.004 | 0.000 | 0.002 | |
| downSample | 0.072 | 0.000 | 0.070 | |
| eta.0-method | 0.000 | 0.000 | 0.001 | |
| ggplot-functions | 35.308 | 0.020 | 35.374 | |
| gibbs | 8.140 | 0.020 | 8.173 | |
| hyperParams-method | 0.004 | 0.000 | 0.002 | |
| iter-method | 0.000 | 0.000 | 0.001 | |
| k-method | 0.056 | 0.000 | 0.056 | |
| label_switch | 0 | 0 | 0 | |
| logPrior-method | 0.000 | 0.000 | 0.001 | |
| log_lik-method | 0.000 | 0.000 | 0.001 | |
| m2.0-method | 0.000 | 0.000 | 0.001 | |
| mapParams | 0 | 0 | 0 | |
| map_z | 0 | 0 | 0 | |
| mapping | 0.004 | 0.000 | 0.001 | |
| marginalLikelihood-method | 0.920 | 0.000 | 0.919 | |
| marginal_lik | 0.000 | 0.000 | 0.001 | |
| mcmcParams-method | 0.000 | 0.000 | 0.001 | |
| mlParams | 0.000 | 0.000 | 0.001 | |
| modelName | 0.004 | 0.000 | 0.001 | |
| modes-method | 0 | 0 | 0 | |
| mu-method | 0.000 | 0.000 | 0.001 | |
| muMean | 0.004 | 0.000 | 0.000 | |
| muc | 0.000 | 0.000 | 0.002 | |
| nStarts-method | 0.004 | 0.000 | 0.002 | |
| nu.0-method | 0 | 0 | 0 | |
| numberObs-method | 0.004 | 0.000 | 0.001 | |
| p | 0 | 0 | 0 | |
| pic | 0 | 0 | 0 | |
| posteriorPredictive | 2.300 | 0.008 | 2.313 | |
| posteriorSimulation-method | 0.048 | 0.000 | 0.046 | |
| posterior_cases | 0 | 0 | 0 | |
| probz-method | 0.004 | 0.000 | 0.000 | |
| qInverseTau2 | 0.008 | 0.000 | 0.007 | |
| sigma | 0.000 | 0.000 | 0.001 | |
| sigma2-method | 0 | 0 | 0 | |
| sigma2.0-method | 0.000 | 0.004 | 0.000 | |
| sigmac | 0.008 | 0.004 | 0.011 | |
| simulateBatchData | 3.444 | 0.000 | 3.445 | |
| simulateData | 2.768 | 0.000 | 2.769 | |
| tau | 0.000 | 0.000 | 0.001 | |
| tau2-method | 0.028 | 0.004 | 0.031 | |
| tauMean | 0.000 | 0.000 | 0.001 | |
| tauc | 0.008 | 0.000 | 0.010 | |
| theta-method | 0 | 0 | 0 | |
| thin-method | 0.000 | 0.000 | 0.002 | |
| upSample2 | 5.216 | 0.004 | 5.285 | |
| y-method | 0.000 | 0.000 | 0.001 | |
| z-method | 0.000 | 0.000 | 0.001 | |
| zfreq-method | 0.000 | 0.000 | 0.001 | |