| Back to Multiple platform build/check report for BioC 3.8 | 
 | 
This page was generated on 2019-04-16 11:56:33 -0400 (Tue, 16 Apr 2019).
| Package 288/1649 | Hostname | OS / Arch | INSTALL | BUILD | CHECK | BUILD BIN | ||||||
| CNORdt 1.24.1 A. MacNamara 
 | malbec1 | Linux (Ubuntu 16.04.6 LTS) / x86_64 | OK | OK | OK |  | ||||||
| merida1 | OS X 10.11.6 El Capitan / x86_64 | [ OK ] | OK | OK | OK |  | 
| Package: CNORdt | 
| Version: 1.24.1 | 
| Command: /Library/Frameworks/R.framework/Versions/Current/Resources/bin/R CMD INSTALL CNORdt | 
| StartedAt: 2019-04-15 18:37:41 -0400 (Mon, 15 Apr 2019) | 
| EndedAt: 2019-04-15 18:37:48 -0400 (Mon, 15 Apr 2019) | 
| EllapsedTime: 7.5 seconds | 
| RetCode: 0 | 
| Status: OK | 
##############################################################################
##############################################################################
###
### Running command:
###
###   /Library/Frameworks/R.framework/Versions/Current/Resources/bin/R CMD INSTALL CNORdt
###
##############################################################################
##############################################################################
* installing to library ‘/Library/Frameworks/R.framework/Versions/3.5/Resources/library’
* installing *source* package ‘CNORdt’ ...
** libs
clang -I"/Library/Frameworks/R.framework/Resources/include" -DNDEBUG   -I/usr/local/include   -fPIC  -Wall -g -O2  -c simulatorDT.c -o simulatorDT.o
simulatorDT.c:243:19: warning: equality comparison with extraneous parentheses [-Wparentheses-equality]
                        if((track_cond == nCond)) {
                            ˜˜˜˜˜˜˜˜˜˜˜^˜˜˜˜˜˜˜
simulatorDT.c:243:19: note: remove extraneous parentheses around the comparison to silence this warning
                        if((track_cond == nCond)) {
                           ˜           ^       ˜
simulatorDT.c:243:19: note: use '=' to turn this equality comparison into an assignment
                        if((track_cond == nCond)) {
                                       ^˜
                                       =
simulatorDT.c:55:6: warning: unused variable 'nTimes' [-Wunused-variable]
        int nTimes = INTEGER(nTimes_in)[0];
            ^
simulatorDT.c:53:6: warning: unused variable 'nSignals' [-Wunused-variable]
        int nSignals = INTEGER(nSignals_in)[0];
            ^
3 warnings generated.
clang -dynamiclib -Wl,-headerpad_max_install_names -undefined dynamic_lookup -single_module -multiply_defined suppress -L/Library/Frameworks/R.framework/Resources/lib -L/usr/local/lib -o CNORdt.so simulatorDT.o -F/Library/Frameworks/R.framework/.. -framework R -Wl,-framework -Wl,CoreFoundation
installing to /Library/Frameworks/R.framework/Versions/3.5/Resources/library/CNORdt/libs
** R
** data
** inst
** byte-compile and prepare package for lazy loading
** help
*** installing help indices
** building package indices
** installing vignettes
** testing if installed package can be loaded
* DONE (CNORdt)