| Back to Multiple platform build/check report for BioC 3.8 |
|
This page was generated on 2019-04-16 12:04:43 -0400 (Tue, 16 Apr 2019).
| Package 234/1649 | Hostname | OS / Arch | INSTALL | BUILD | CHECK | BUILD BIN | ||||||
| CHARGE 1.2.0 Benjamin Mayne
| malbec1 | Linux (Ubuntu 16.04.6 LTS) / x86_64 | OK | OK | OK | |||||||
| merida1 | OS X 10.11.6 El Capitan / x86_64 | OK | OK | OK | [ OK ] |
| Package: CHARGE |
| Version: 1.2.0 |
| Command: rm -rf CHARGE.buildbin-libdir && mkdir CHARGE.buildbin-libdir && /Users/biocbuild/BBS/utils/build-universal.sh CHARGE_1.2.0.tar.gz /Library/Frameworks/R.framework/Versions/Current/Resources/bin/R CHARGE.buildbin-libdir |
| StartedAt: 2019-04-16 03:49:16 -0400 (Tue, 16 Apr 2019) |
| EndedAt: 2019-04-16 03:50:05 -0400 (Tue, 16 Apr 2019) |
| EllapsedTime: 48.7 seconds |
| RetCode: 0 |
| Status: OK |
| PackageFile: CHARGE_1.2.0.tgz |
| PackageFileSize: 2.222 MiB |
############################################################################## ############################################################################## ### ### Running command: ### ### rm -rf CHARGE.buildbin-libdir && mkdir CHARGE.buildbin-libdir && /Users/biocbuild/BBS/utils/build-universal.sh CHARGE_1.2.0.tar.gz /Library/Frameworks/R.framework/Versions/Current/Resources/bin/R CHARGE.buildbin-libdir ### ############################################################################## ############################################################################## >>>>>>> >>>>>>> INSTALLATION WITH 'R CMD INSTALL --preclean --no-multiarch --library=CHARGE.buildbin-libdir CHARGE_1.2.0.tar.gz' >>>>>>> * installing *source* package ‘CHARGE’ ... ** R ** data *** moving datasets to lazyload DB ** inst ** byte-compile and prepare package for lazy loading ** help *** installing help indices ** building package indices ** installing vignettes ** testing if installed package can be loaded * DONE (CHARGE)