| Back to Multiple platform build/check report for BioC 3.8 |
|
This page was generated on 2019-04-13 11:27:45 -0400 (Sat, 13 Apr 2019).
| Package 204/1649 | Hostname | OS / Arch | INSTALL | BUILD | CHECK | BUILD BIN | ||||||
| CATALYST 1.6.7 Helena L. Crowell
| malbec1 | Linux (Ubuntu 16.04.6 LTS) / x86_64 | OK | OK | OK | |||||||
| tokay1 | Windows Server 2012 R2 Standard / x64 | OK | OK | [ OK ] | OK | |||||||
| merida1 | OS X 10.11.6 El Capitan / x86_64 | OK | OK | OK | OK |
| Package: CATALYST |
| Version: 1.6.7 |
| Command: C:\Users\biocbuild\bbs-3.8-bioc\R\bin\R.exe CMD check --force-multiarch --install=check:CATALYST.install-out.txt --library=C:\Users\biocbuild\bbs-3.8-bioc\R\library --no-vignettes --timings CATALYST_1.6.7.tar.gz |
| StartedAt: 2019-04-13 00:59:45 -0400 (Sat, 13 Apr 2019) |
| EndedAt: 2019-04-13 01:14:48 -0400 (Sat, 13 Apr 2019) |
| EllapsedTime: 903.2 seconds |
| RetCode: 0 |
| Status: OK |
| CheckDir: CATALYST.Rcheck |
| Warnings: 0 |
##############################################################################
##############################################################################
###
### Running command:
###
### C:\Users\biocbuild\bbs-3.8-bioc\R\bin\R.exe CMD check --force-multiarch --install=check:CATALYST.install-out.txt --library=C:\Users\biocbuild\bbs-3.8-bioc\R\library --no-vignettes --timings CATALYST_1.6.7.tar.gz
###
##############################################################################
##############################################################################
* using log directory 'C:/Users/biocbuild/bbs-3.8-bioc/meat/CATALYST.Rcheck'
* using R version 3.5.3 (2019-03-11)
* using platform: x86_64-w64-mingw32 (64-bit)
* using session charset: ISO8859-1
* using option '--no-vignettes'
* checking for file 'CATALYST/DESCRIPTION' ... OK
* checking extension type ... Package
* this is package 'CATALYST' version '1.6.7'
* package encoding: UTF-8
* checking package namespace information ... OK
* checking package dependencies ...Warning: unable to access index for repository https://CRAN.R-project.org/src/contrib:
cannot open URL 'https://CRAN.R-project.org/src/contrib/PACKAGES'
OK
* checking if this is a source package ... OK
* checking if there is a namespace ... OK
* checking for hidden files and directories ... NOTE
Found the following hidden files and directories:
.travis.yml
These were most likely included in error. See section 'Package
structure' in the 'Writing R Extensions' manual.
* checking for portable file names ... OK
* checking whether package 'CATALYST' can be installed ... OK
* checking installed package size ... OK
* checking package directory ... OK
* checking 'build' directory ... OK
* checking DESCRIPTION meta-information ... OK
* checking top-level files ... OK
* checking for left-over files ... OK
* checking index information ... OK
* checking package subdirectories ... OK
* checking R files for non-ASCII characters ... OK
* checking R files for syntax errors ... OK
* loading checks for arch 'i386'
** checking whether the package can be loaded ... OK
** checking whether the package can be loaded with stated dependencies ... OK
** checking whether the package can be unloaded cleanly ... OK
** checking whether the namespace can be loaded with stated dependencies ... OK
** checking whether the namespace can be unloaded cleanly ... OK
* loading checks for arch 'x64'
** checking whether the package can be loaded ... OK
** checking whether the package can be loaded with stated dependencies ... OK
** checking whether the package can be unloaded cleanly ... OK
** checking whether the namespace can be loaded with stated dependencies ... OK
** checking whether the namespace can be unloaded cleanly ... OK
* checking dependencies in R code ... OK
* checking S3 generic/method consistency ... OK
* checking replacement functions ... OK
* checking foreign function calls ... OK
* checking R code for possible problems ... OK
* checking Rd files ... OK
* checking Rd metadata ... OK
* checking Rd cross-references ... OK
* checking for missing documentation entries ... OK
* checking for code/documentation mismatches ... OK
* checking Rd \usage sections ... OK
* checking Rd contents ... OK
* checking for unstated dependencies in examples ... OK
* checking contents of 'data' directory ... OK
* checking data for non-ASCII characters ... OK
* checking data for ASCII and uncompressed saves ... OK
* checking files in 'vignettes' ... OK
* checking examples ...
** running examples for arch 'i386' ... OK
Examples with CPU or elapsed time > 5s
user system elapsed
runDR 20.64 0.04 22.13
plotClusterExprs 17.91 0.22 18.12
plotClusterHeatmap 15.06 0.17 15.24
plotMedExprs 10.92 0.04 10.97
plotMahal 9.99 0.00 9.99
estCutoffs 9.33 0.08 10.03
applyCutoffs 8.86 0.11 8.97
plotDiffHeatmap 8.53 0.09 8.61
plotYields 8.19 0.08 8.18
plotEvents 8.13 0.02 8.14
cluster 8.05 0.06 8.11
dbFrame-methods 7.99 0.06 8.10
outFCS 7.81 0.05 7.89
plotAbundances 7.62 0.05 7.71
adaptSpillmat 7.17 0.34 7.52
outFrames 7.41 0.01 7.42
assignPrelim 7.31 0.00 7.31
normCytof 6.91 0.01 6.92
computeSpillmat 6.45 0.09 6.55
compCytof 6.50 0.02 6.51
daFrame-methods 6.12 0.05 6.21
mergeClusters 6.11 0.00 6.11
plotDR 5.75 0.05 5.79
extractClusters 5.64 0.05 5.69
plotCodes 5.38 0.02 5.39
plotSpillmat 5.12 0.00 5.24
** running examples for arch 'x64' ... OK
Examples with CPU or elapsed time > 5s
user system elapsed
runDR 19.04 0.11 20.84
plotClusterHeatmap 17.42 0.14 17.56
plotClusterExprs 16.39 0.19 16.58
plotMedExprs 15.00 0.01 15.03
plotMahal 13.94 0.02 13.96
plotYields 10.65 0.14 10.67
plotDiffHeatmap 9.99 0.14 10.05
plotEvents 9.86 0.00 9.86
applyCutoffs 9.82 0.02 9.83
plotSpillmat 9.11 0.08 9.19
assignPrelim 8.99 0.00 8.98
estCutoffs 8.70 0.03 8.83
outFrames 8.69 0.02 8.70
outFCS 8.59 0.04 10.20
dbFrame-methods 8.26 0.00 8.26
plotAbundances 7.53 0.01 7.55
adaptSpillmat 7.40 0.04 7.45
normCytof 6.96 0.07 7.02
plotDR 6.28 0.03 6.31
plotExprs 6.20 0.04 6.23
compCytof 6.19 0.02 6.21
mergeClusters 6.18 0.01 6.20
plotCodes 5.81 0.03 5.85
computeSpillmat 5.45 0.01 5.47
extractClusters 5.16 0.00 5.17
daFrame-methods 5.15 0.00 5.14
cluster 5.07 0.01 5.09
* checking for unstated dependencies in 'tests' ... OK
* checking tests ...
** running tests for arch 'i386' ...
Running 'testthat.R'
OK
** running tests for arch 'x64' ...
Running 'testthat.R'
OK
* checking for unstated dependencies in vignettes ... OK
* checking package vignettes in 'inst/doc' ... OK
* checking running R code from vignettes ... SKIPPED
* checking re-building of vignette outputs ... SKIPPED
* checking PDF version of manual ... OK
* DONE
Status: 1 NOTE
See
'C:/Users/biocbuild/bbs-3.8-bioc/meat/CATALYST.Rcheck/00check.log'
for details.
CATALYST.Rcheck/00install.out
##############################################################################
##############################################################################
###
### Running command:
###
### C:\cygwin\bin\curl.exe -O https://malbec1.bioconductor.org/BBS/3.8/bioc/src/contrib/CATALYST_1.6.7.tar.gz && rm -rf CATALYST.buildbin-libdir && mkdir CATALYST.buildbin-libdir && C:\Users\biocbuild\bbs-3.8-bioc\R\bin\R.exe CMD INSTALL --merge-multiarch --build --library=CATALYST.buildbin-libdir CATALYST_1.6.7.tar.gz && C:\Users\biocbuild\bbs-3.8-bioc\R\bin\R.exe CMD INSTALL CATALYST_1.6.7.zip && rm CATALYST_1.6.7.tar.gz CATALYST_1.6.7.zip
###
##############################################################################
##############################################################################
% Total % Received % Xferd Average Speed Time Time Time Current
Dload Upload Total Spent Left Speed
0 0 0 0 0 0 0 0 --:--:-- --:--:-- --:--:-- 0
100 3587k 100 3587k 0 0 34.6M 0 --:--:-- --:--:-- --:--:-- 36.1M
install for i386
* installing *source* package 'CATALYST' ...
** R
** data
*** moving datasets to lazyload DB
** inst
** byte-compile and prepare package for lazy loading
Creating a new generic function for 'filter' in package 'CATALYST'
** help
*** installing help indices
converting help for package 'CATALYST'
finding HTML links ... done
adaptSpillmat html
applyCutoffs html
assignPrelim html
finding level-2 HTML links ... done
cluster html
compCytof html
computeSpillmat html
concatFCS html
daFrame-class html
daFrame-methods html
data html
dbFrame-class html
dbFrame-methods html
estCutoffs html
extractClusters html
filter html
guessPanel html
launchGUI html
mergeClusters html
normCytof html
outFCS html
outFrames html
plotAbundances html
plotClusterExprs html
plotClusterHeatmap html
plotCodes html
plotCounts html
plotDR html
plotDiffHeatmap html
plotEvents html
plotExprHeatmap html
plotExprs html
plotMDS html
plotMahal html
plotMedExprs html
plotNRS html
plotSpillmat html
plotYields html
runDR html
** building package indices
** installing vignettes
** testing if installed package can be loaded
In R CMD INSTALL
install for x64
* installing *source* package 'CATALYST' ...
** testing if installed package can be loaded
* MD5 sums
packaged installation of 'CATALYST' as CATALYST_1.6.7.zip
* DONE (CATALYST)
In R CMD INSTALL
In R CMD INSTALL
* installing to library 'C:/Users/biocbuild/bbs-3.8-bioc/R/library'
package 'CATALYST' successfully unpacked and MD5 sums checked
In R CMD INSTALL
|
CATALYST.Rcheck/tests_i386/testthat.Rout
R version 3.5.3 (2019-03-11) -- "Great Truth"
Copyright (C) 2019 The R Foundation for Statistical Computing
Platform: i386-w64-mingw32/i386 (32-bit)
R is free software and comes with ABSOLUTELY NO WARRANTY.
You are welcome to redistribute it under certain conditions.
Type 'license()' or 'licence()' for distribution details.
R is a collaborative project with many contributors.
Type 'contributors()' for more information and
'citation()' on how to cite R or R packages in publications.
Type 'demo()' for some demos, 'help()' for on-line help, or
'help.start()' for an HTML browser interface to help.
Type 'q()' to quit R.
> library(testthat)
> library(CATALYST)
Attaching package: 'CATALYST'
The following object is masked from 'package:stats':
filter
>
> test_check("CATALYST")
== testthat results ===========================================================
OK: 86 SKIPPED: 0 FAILED: 0
>
> proc.time()
user system elapsed
26.73 1.51 28.31
|
CATALYST.Rcheck/tests_x64/testthat.Rout
R version 3.5.3 (2019-03-11) -- "Great Truth"
Copyright (C) 2019 The R Foundation for Statistical Computing
Platform: x86_64-w64-mingw32/x64 (64-bit)
R is free software and comes with ABSOLUTELY NO WARRANTY.
You are welcome to redistribute it under certain conditions.
Type 'license()' or 'licence()' for distribution details.
R is a collaborative project with many contributors.
Type 'contributors()' for more information and
'citation()' on how to cite R or R packages in publications.
Type 'demo()' for some demos, 'help()' for on-line help, or
'help.start()' for an HTML browser interface to help.
Type 'q()' to quit R.
> library(testthat)
> library(CATALYST)
Attaching package: 'CATALYST'
The following object is masked from 'package:stats':
filter
>
> test_check("CATALYST")
== testthat results ===========================================================
OK: 86 SKIPPED: 0 FAILED: 0
>
> proc.time()
user system elapsed
30.18 0.60 30.84
|
|
CATALYST.Rcheck/examples_i386/CATALYST-Ex.timings
|
CATALYST.Rcheck/examples_x64/CATALYST-Ex.timings
|