| Back to Multiple platform build/check report for BioC 3.8 |
|
This page was generated on 2019-04-13 11:29:23 -0400 (Sat, 13 Apr 2019).
| Package 194/1649 | Hostname | OS / Arch | INSTALL | BUILD | CHECK | BUILD BIN | ||||||
| CAMTHC 1.0.0 Lulu Chen
| malbec1 | Linux (Ubuntu 16.04.6 LTS) / x86_64 | OK | OK | OK | |||||||
| tokay1 | Windows Server 2012 R2 Standard / x64 | OK | OK | OK | [ OK ] | |||||||
| merida1 | OS X 10.11.6 El Capitan / x86_64 | OK | OK | OK | OK |
| Package: CAMTHC |
| Version: 1.0.0 |
| Command: rm -rf CAMTHC.buildbin-libdir && mkdir CAMTHC.buildbin-libdir && C:\Users\biocbuild\bbs-3.8-bioc\R\bin\R.exe CMD INSTALL --merge-multiarch --build --library=CAMTHC.buildbin-libdir CAMTHC_1.0.0.tar.gz |
| StartedAt: 2019-04-13 06:59:54 -0400 (Sat, 13 Apr 2019) |
| EndedAt: 2019-04-13 07:00:18 -0400 (Sat, 13 Apr 2019) |
| EllapsedTime: 24.4 seconds |
| RetCode: 0 |
| Status: OK |
| PackageFile: CAMTHC_1.0.0.zip |
| PackageFileSize: 2.873 MiB |
##############################################################################
##############################################################################
###
### Running command:
###
### rm -rf CAMTHC.buildbin-libdir && mkdir CAMTHC.buildbin-libdir && C:\Users\biocbuild\bbs-3.8-bioc\R\bin\R.exe CMD INSTALL --merge-multiarch --build --library=CAMTHC.buildbin-libdir CAMTHC_1.0.0.tar.gz
###
##############################################################################
##############################################################################
install for i386
* installing *source* package 'CAMTHC' ...
** R
** data
** inst
** byte-compile and prepare package for lazy loading
** help
*** installing help indices
converting help for package 'CAMTHC'
finding HTML links ... done
AS-accessor html
AfromMarkers html
CAM html
CAMASObj-class html
CAMASest html
CAMMGCluster html
CAMMGObj-class html
CAMObj-class html
CAMPrep html
CAMPrepObj-class html
CAMTHC-package html
MDL html
MDLObj-class html
MGsforA html
MGstatistic html
PCAmat html
XWProj html
cornerSort html
ratMix3 html
simplexplot html
** building package indices
** installing vignettes
** testing if installed package can be loaded
In R CMD INSTALL
install for x64
* installing *source* package 'CAMTHC' ...
** testing if installed package can be loaded
* MD5 sums
packaged installation of 'CAMTHC' as CAMTHC_1.0.0.zip
* DONE (CAMTHC)
In R CMD INSTALL
In R CMD INSTALL