| Back to Multiple platform build/check report for BioC 3.8 |
|
This page was generated on 2019-04-16 12:09:46 -0400 (Tue, 16 Apr 2019).
| Package 190/1649 | Hostname | OS / Arch | INSTALL | BUILD | CHECK | BUILD BIN | ||||||
| CAGEfightR 1.2.0 Malte Thodberg
| malbec1 | Linux (Ubuntu 16.04.6 LTS) / x86_64 | OK | OK | OK | |||||||
| merida1 | OS X 10.11.6 El Capitan / x86_64 | OK | OK | [ OK ] | OK |
| Package: CAGEfightR |
| Version: 1.2.0 |
| Command: /Library/Frameworks/R.framework/Versions/Current/Resources/bin/R CMD check --install=check:CAGEfightR.install-out.txt --library=/Library/Frameworks/R.framework/Versions/Current/Resources/library --no-vignettes --timings CAGEfightR_1.2.0.tar.gz |
| StartedAt: 2019-04-15 22:43:19 -0400 (Mon, 15 Apr 2019) |
| EndedAt: 2019-04-15 22:49:19 -0400 (Mon, 15 Apr 2019) |
| EllapsedTime: 360.7 seconds |
| RetCode: 0 |
| Status: OK |
| CheckDir: CAGEfightR.Rcheck |
| Warnings: 0 |
############################################################################## ############################################################################## ### ### Running command: ### ### /Library/Frameworks/R.framework/Versions/Current/Resources/bin/R CMD check --install=check:CAGEfightR.install-out.txt --library=/Library/Frameworks/R.framework/Versions/Current/Resources/library --no-vignettes --timings CAGEfightR_1.2.0.tar.gz ### ############################################################################## ############################################################################## * using log directory ‘/Users/biocbuild/bbs-3.8-bioc/meat/CAGEfightR.Rcheck’ * using R version 3.5.3 (2019-03-11) * using platform: x86_64-apple-darwin15.6.0 (64-bit) * using session charset: UTF-8 * using option ‘--no-vignettes’ * checking for file ‘CAGEfightR/DESCRIPTION’ ... OK * checking extension type ... Package * this is package ‘CAGEfightR’ version ‘1.2.0’ * package encoding: UTF-8 * checking package namespace information ... OK * checking package dependencies ... OK * checking if this is a source package ... OK * checking if there is a namespace ... OK * checking for hidden files and directories ... OK * checking for portable file names ... OK * checking for sufficient/correct file permissions ... OK * checking whether package ‘CAGEfightR’ can be installed ... OK * checking installed package size ... OK * checking package directory ... OK * checking ‘build’ directory ... OK * checking DESCRIPTION meta-information ... OK * checking top-level files ... OK * checking for left-over files ... OK * checking index information ... OK * checking package subdirectories ... OK * checking R files for non-ASCII characters ... OK * checking R files for syntax errors ... OK * checking whether the package can be loaded ... OK * checking whether the package can be loaded with stated dependencies ... OK * checking whether the package can be unloaded cleanly ... OK * checking whether the namespace can be loaded with stated dependencies ... OK * checking whether the namespace can be unloaded cleanly ... OK * checking dependencies in R code ... OK * checking S3 generic/method consistency ... OK * checking replacement functions ... OK * checking foreign function calls ... OK * checking R code for possible problems ... OK * checking Rd files ... OK * checking Rd metadata ... OK * checking Rd cross-references ... OK * checking for missing documentation entries ... OK * checking for code/documentation mismatches ... OK * checking Rd \usage sections ... OK * checking Rd contents ... OK * checking for unstated dependencies in examples ... OK * checking contents of ‘data’ directory ... OK * checking data for non-ASCII characters ... OK * checking data for ASCII and uncompressed saves ... OK * checking files in ‘vignettes’ ... OK * checking examples ... OK * checking for unstated dependencies in vignettes ... OK * checking package vignettes in ‘inst/doc’ ... OK * checking running R code from vignettes ... SKIPPED * checking re-building of vignette outputs ... SKIPPED * checking PDF version of manual ... OK * DONE Status: OK
CAGEfightR.Rcheck/00install.out
############################################################################## ############################################################################## ### ### Running command: ### ### /Library/Frameworks/R.framework/Versions/Current/Resources/bin/R CMD INSTALL CAGEfightR ### ############################################################################## ############################################################################## * installing to library ‘/Library/Frameworks/R.framework/Versions/3.5/Resources/library’ * installing *source* package ‘CAGEfightR’ ... ** R ** data *** moving datasets to lazyload DB ** inst ** byte-compile and prepare package for lazy loading ** help *** installing help indices ** building package indices ** installing vignettes ** testing if installed package can be loaded * DONE (CAGEfightR)
CAGEfightR.Rcheck/CAGEfightR-Ex.timings
| name | user | system | elapsed | |
| assignGeneID | 4.389 | 0.165 | 4.602 | |
| assignMissingID | 1.556 | 0.073 | 1.642 | |
| assignTxID | 1.449 | 0.061 | 1.581 | |
| assignTxType | 0.001 | 0.001 | 0.001 | |
| balanceBC | 0.001 | 0.000 | 0.001 | |
| balanceD | 0.001 | 0.001 | 0.001 | |
| bwCommonGenome | 0.052 | 0.004 | 0.058 | |
| bwGenomeCompatibility | 0.025 | 0.003 | 0.029 | |
| bwValid | 0.007 | 0.001 | 0.009 | |
| calcBidirectionality | 1.025 | 0.062 | 1.091 | |
| calcComposition | 2.698 | 0.100 | 2.809 | |
| calcPooled | 0.111 | 0.013 | 0.124 | |
| calcShape | 4.719 | 0.080 | 4.825 | |
| calcSupport | 0.144 | 0.011 | 0.155 | |
| calcTPM | 0.215 | 0.014 | 0.230 | |
| calcTotalTags | 0.086 | 0.004 | 0.092 | |
| checkPeaked | 0.084 | 0.007 | 0.090 | |
| checkPooled | 0.062 | 0.010 | 0.072 | |
| clusterBidirectionally | 0.000 | 0.000 | 0.001 | |
| clusterUnidirectionally | 2.134 | 0.041 | 2.187 | |
| combineClusters | 0.878 | 0.024 | 0.904 | |
| exampleDesign | 0.010 | 0.009 | 0.019 | |
| findLinks | 2.707 | 1.083 | 2.911 | |
| findStretches | 0.494 | 0.067 | 0.563 | |
| quantifyCTSSs | 0.001 | 0.001 | 0.001 | |
| quantifyClusters | 0.765 | 0.114 | 0.881 | |
| quantifyGenes | 1.728 | 0.093 | 1.836 | |
| quickEnhancers | 0 | 0 | 0 | |
| quickTSSs | 0.000 | 0.000 | 0.001 | |
| shapeEntropy | 0.001 | 0.000 | 0.001 | |
| shapeIQR | 0.001 | 0.001 | 0.001 | |
| shapeMultimodality | 0 | 0 | 0 | |
| subsetByBidirectionality | 0.536 | 0.050 | 0.591 | |
| subsetByComposition | 1.731 | 0.073 | 1.809 | |
| subsetBySupport | 0.072 | 0.004 | 0.076 | |
| swapRanges | 0.231 | 0.011 | 0.243 | |
| swapScores | 0.098 | 0.007 | 0.105 | |
| trackBalance | 0.001 | 0.000 | 0.001 | |
| trackCTSS | 3.824 | 0.248 | 4.098 | |
| trackClusters | 2.180 | 0.074 | 2.264 | |
| trackLinks | 1.356 | 0.371 | 1.475 | |
| trimToPeak | 0.997 | 0.153 | 1.154 | |
| trimToPercentiles | 2.437 | 0.088 | 2.542 | |
| tuneTagClustering | 0.001 | 0.000 | 0.001 | |