| Back to Multiple platform build/check report for BioC 3.8 |
|
This page was generated on 2019-04-15 11:43:12 -0400 (Mon, 15 Apr 2019).
| Package 143/1649 | Hostname | OS / Arch | INSTALL | BUILD | CHECK | BUILD BIN | ||||||
| BiocPkgTools 1.0.3 Sean Davis
| malbec1 | Linux (Ubuntu 16.04.6 LTS) / x86_64 | OK | OK | OK | |||||||
| merida1 | OS X 10.11.6 El Capitan / x86_64 | OK | OK | [ OK ] | OK |
| Package: BiocPkgTools |
| Version: 1.0.3 |
| Command: /Library/Frameworks/R.framework/Versions/Current/Resources/bin/R CMD check --install=check:BiocPkgTools.install-out.txt --library=/Library/Frameworks/R.framework/Versions/Current/Resources/library --no-vignettes --timings BiocPkgTools_1.0.3.tar.gz |
| StartedAt: 2019-04-14 22:39:17 -0400 (Sun, 14 Apr 2019) |
| EndedAt: 2019-04-14 22:40:30 -0400 (Sun, 14 Apr 2019) |
| EllapsedTime: 72.9 seconds |
| RetCode: 0 |
| Status: OK |
| CheckDir: BiocPkgTools.Rcheck |
| Warnings: 0 |
##############################################################################
##############################################################################
###
### Running command:
###
### /Library/Frameworks/R.framework/Versions/Current/Resources/bin/R CMD check --install=check:BiocPkgTools.install-out.txt --library=/Library/Frameworks/R.framework/Versions/Current/Resources/library --no-vignettes --timings BiocPkgTools_1.0.3.tar.gz
###
##############################################################################
##############################################################################
* using log directory ‘/Users/biocbuild/bbs-3.8-bioc/meat/BiocPkgTools.Rcheck’
* using R version 3.5.3 (2019-03-11)
* using platform: x86_64-apple-darwin15.6.0 (64-bit)
* using session charset: UTF-8
* using option ‘--no-vignettes’
* checking for file ‘BiocPkgTools/DESCRIPTION’ ... OK
* checking extension type ... Package
* this is package ‘BiocPkgTools’ version ‘1.0.3’
* package encoding: UTF-8
* checking package namespace information ... OK
* checking package dependencies ... OK
* checking if this is a source package ... OK
* checking if there is a namespace ... OK
* checking for hidden files and directories ... OK
* checking for portable file names ... OK
* checking for sufficient/correct file permissions ... OK
* checking whether package ‘BiocPkgTools’ can be installed ... OK
* checking installed package size ... OK
* checking package directory ... OK
* checking ‘build’ directory ... OK
* checking DESCRIPTION meta-information ... OK
* checking top-level files ... OK
* checking for left-over files ... OK
* checking index information ... OK
* checking package subdirectories ... OK
* checking R files for non-ASCII characters ... OK
* checking R files for syntax errors ... OK
* checking whether the package can be loaded ... OK
* checking whether the package can be loaded with stated dependencies ... OK
* checking whether the package can be unloaded cleanly ... OK
* checking whether the namespace can be loaded with stated dependencies ... OK
* checking whether the namespace can be unloaded cleanly ... OK
* checking dependencies in R code ... NOTE
Namespace in Imports field not imported from: ‘gh’
All declared Imports should be used.
* checking S3 generic/method consistency ... OK
* checking replacement functions ... OK
* checking foreign function calls ... OK
* checking R code for possible problems ... NOTE
inducedSubgraphByPkgs: warning in induced_subgraph(g, v = pkgs):
partial argument match of 'v' to 'vids'
subgraphByDegree: warning in induced_subgraph(g, v = names(d2)):
partial argument match of 'v' to 'vids'
.gh_pkg_info: no visible global function definition for ‘gh’
biocBuildReport: no visible binding for global variable ‘start’
biocBuildReport: no visible global function definition for ‘capture’
biocBuildReport: no visible global function definition for
‘except_any_of’
biocBuildReport: no visible binding for global variable ‘blank’
biocBuildReport: no visible binding for global variable ‘anything’
biocBuildReport: no visible binding for global variable ‘any_alnums’
biocBuildReport: no visible global function definition for ‘maybe’
biocBuildReport: no visible binding for global variable ‘any_blanks’
biocBuildReport: no visible binding for global variable ‘any_alphas’
biocBuildReport: no visible binding for global variable
‘any_non_alnums’
biocBuildReport: no visible global function definition for ‘any_of’
biocBuildReport: no visible binding for global variable ‘digit’
get_bioc_data: no visible binding for global variable ‘tags’
inducedSubgraphByPkgs: no visible global function definition for ‘V<-’
process_data: no visible binding for global variable ‘Author’
process_data: no visible binding for global variable ‘Package’
process_data: no visible binding for global variable ‘License’
process_data: no visible binding for global variable ‘biocViews’
process_data: no visible binding for global variable ‘Description’
process_data: no visible binding for global variable ‘downloads_month’
process_data: no visible binding for global variable ‘downloads_total’
summarise_dl_stats: no visible binding for global variable ‘Package’
summarise_dl_stats: no visible binding for global variable
‘Nb_of_downloads’
Undefined global functions or variables:
Author Description License Nb_of_downloads Package V<- any_alnums
any_alphas any_blanks any_non_alnums any_of anything biocViews blank
capture digit downloads_month downloads_total except_any_of gh maybe
start tags
Consider adding
importFrom("stats", "start")
to your NAMESPACE file.
* checking Rd files ... OK
* checking Rd metadata ... OK
* checking Rd cross-references ... OK
* checking for missing documentation entries ... OK
* checking for code/documentation mismatches ... OK
* checking Rd \usage sections ... OK
* checking Rd contents ... OK
* checking for unstated dependencies in examples ... OK
* checking files in ‘vignettes’ ... OK
* checking examples ... OK
* checking for unstated dependencies in ‘tests’ ... OK
* checking tests ...
Running ‘testthat.R’
OK
* checking for unstated dependencies in vignettes ... OK
* checking package vignettes in ‘inst/doc’ ... OK
* checking running R code from vignettes ... SKIPPED
* checking re-building of vignette outputs ... SKIPPED
* checking PDF version of manual ... OK
* DONE
Status: 2 NOTEs
See
‘/Users/biocbuild/bbs-3.8-bioc/meat/BiocPkgTools.Rcheck/00check.log’
for details.
BiocPkgTools.Rcheck/00install.out
############################################################################## ############################################################################## ### ### Running command: ### ### /Library/Frameworks/R.framework/Versions/Current/Resources/bin/R CMD INSTALL BiocPkgTools ### ############################################################################## ############################################################################## * installing to library ‘/Library/Frameworks/R.framework/Versions/3.5/Resources/library’ * installing *source* package ‘BiocPkgTools’ ... ** R ** inst ** byte-compile and prepare package for lazy loading ** help *** installing help indices ** building package indices ** installing vignettes ** testing if installed package can be loaded * DONE (BiocPkgTools)
BiocPkgTools.Rcheck/tests/testthat.Rout
R version 3.5.3 (2019-03-11) -- "Great Truth"
Copyright (C) 2019 The R Foundation for Statistical Computing
Platform: x86_64-apple-darwin15.6.0 (64-bit)
R is free software and comes with ABSOLUTELY NO WARRANTY.
You are welcome to redistribute it under certain conditions.
Type 'license()' or 'licence()' for distribution details.
R is a collaborative project with many contributors.
Type 'contributors()' for more information and
'citation()' on how to cite R or R packages in publications.
Type 'demo()' for some demos, 'help()' for on-line help, or
'help.start()' for an HTML browser interface to help.
Type 'q()' to quit R.
> library(testthat)
> library(BiocPkgTools)
Loading required package: htmlwidgets
>
> test_check("BiocPkgTools")
trying URL 'https://bioconductor.org/packages/3.8/bioc/vignettes/a4/inst/doc/a4vignette.pdf'
Content type 'application/pdf' length 1089479 bytes (1.0 MB)
==================================================
downloaded 1.0 MB
══ testthat results ═══════════════════════════════════════════════════════════
OK: 17 SKIPPED: 0 FAILED: 0
>
> proc.time()
user system elapsed
11.320 2.336 14.481
BiocPkgTools.Rcheck/BiocPkgTools-Ex.timings
| name | user | system | elapsed | |
| biocBuildReport | 3.892 | 0.903 | 4.946 | |
| biocDownloadStats | 2.222 | 0.137 | 2.778 | |
| biocPkgList | 0.855 | 0.027 | 1.629 | |
| buildPkgDependencyDataFrame | 1.651 | 0.031 | 1.930 | |
| buildPkgDependencyIgraph | 0.902 | 0.029 | 1.064 | |
| generateBiocPkgDOI | 0 | 0 | 0 | |
| getBiocVignette | 0.691 | 0.026 | 1.054 | |
| get_bioc_data | 3.833 | 0.141 | 4.448 | |
| githubURLParts | 0.824 | 0.018 | 0.969 | |
| inducedSubgraphByPkgs | 0.914 | 0.020 | 1.052 | |
| problemPage | 0 | 0 | 0 | |
| subgraphByDegree | 0.797 | 0.016 | 0.945 | |