| Back to Multiple platform build/check report for BioC 3.8 |
|
This page was generated on 2018-09-17 15:58:04 -0400 (Mon, 17 Sep 2018).
| Package 1/2 | Hostname | OS / Arch | INSTALL | BUILD | CHECK | BUILD BIN | ||||||
| BiocNimfa2 0.0.1 Nitesh Turaga
| malbec1 | Linux (Ubuntu 16.04.1 LTS) / x86_64 | OK | [ OK ] | ERROR |
| Package: BiocNimfa2 |
| Version: 0.0.1 |
| Command: /home/biocbuild/bbs-3.8-bioc/R/bin/R CMD build --keep-empty-dirs --no-resave-data BiocNimfa2 |
| StartedAt: 2018-09-13 15:16:04 -0400 (Thu, 13 Sep 2018) |
| EndedAt: 2018-09-13 15:16:04 -0400 (Thu, 13 Sep 2018) |
| EllapsedTime: 0.5 seconds |
| RetCode: 0 |
| Status: OK |
| PackageFile: BiocNimfa2_0.0.1.tar.gz |
| PackageFileSize: 2.565 KiB |
############################################################################## ############################################################################## ### ### Running command: ### ### /home/biocbuild/bbs-3.8-bioc/R/bin/R CMD build --keep-empty-dirs --no-resave-data BiocNimfa2 ### ############################################################################## ############################################################################## * checking for file ‘BiocNimfa2/DESCRIPTION’ ... OK * preparing ‘BiocNimfa2’: * checking DESCRIPTION meta-information ... OK * checking for LF line-endings in source and make files and shell scripts * checking for empty or unneeded directories * building ‘BiocNimfa2_0.0.1.tar.gz’