| Back to Multiple platform build/check report for BioC 3.8 | 
 | 
This page was generated on 2019-04-16 11:54:45 -0400 (Tue, 16 Apr 2019).
| Package 133/1649 | Hostname | OS / Arch | INSTALL | BUILD | CHECK | BUILD BIN | ||||||
| BiocCaseStudies 1.44.0 Bioconductor Package Maintainer 
 | malbec1 | Linux (Ubuntu 16.04.6 LTS) / x86_64 | OK | OK | OK |  | ||||||
| merida1 | OS X 10.11.6 El Capitan / x86_64 | [ OK ] | OK | OK | OK |  | 
| Package: BiocCaseStudies | 
| Version: 1.44.0 | 
| Command: /Library/Frameworks/R.framework/Versions/Current/Resources/bin/R CMD INSTALL BiocCaseStudies | 
| StartedAt: 2019-04-15 18:02:47 -0400 (Mon, 15 Apr 2019) | 
| EndedAt: 2019-04-15 18:03:17 -0400 (Mon, 15 Apr 2019) | 
| EllapsedTime: 30.1 seconds | 
| RetCode: 0 | 
| Status: OK | 
############################################################################## ############################################################################## ### ### Running command: ### ### /Library/Frameworks/R.framework/Versions/Current/Resources/bin/R CMD INSTALL BiocCaseStudies ### ############################################################################## ############################################################################## * installing to library ‘/Library/Frameworks/R.framework/Versions/3.5/Resources/library’ * installing *source* package ‘BiocCaseStudies’ ... ** R ** byte-compile and prepare package for lazy loading ** help *** installing help indices ** building package indices ** testing if installed package can be loaded * DONE (BiocCaseStudies)