| Back to Multiple platform build/check report for BioC 3.8 |
|
This page was generated on 2019-04-13 11:20:51 -0400 (Sat, 13 Apr 2019).
| Package 124/1649 | Hostname | OS / Arch | INSTALL | BUILD | CHECK | BUILD BIN | ||||||
| BicARE 1.40.0 Pierre Gestraud
| malbec1 | Linux (Ubuntu 16.04.6 LTS) / x86_64 | OK | OK | OK | |||||||
| tokay1 | Windows Server 2012 R2 Standard / x64 | OK | OK | OK | [ OK ] | |||||||
| merida1 | OS X 10.11.6 El Capitan / x86_64 | OK | OK | OK | OK |
| Package: BicARE |
| Version: 1.40.0 |
| Command: rm -rf BicARE.buildbin-libdir && mkdir BicARE.buildbin-libdir && C:\Users\biocbuild\bbs-3.8-bioc\R\bin\R.exe CMD INSTALL --merge-multiarch --build --library=BicARE.buildbin-libdir BicARE_1.40.0.tar.gz |
| StartedAt: 2019-04-13 06:56:55 -0400 (Sat, 13 Apr 2019) |
| EndedAt: 2019-04-13 06:57:17 -0400 (Sat, 13 Apr 2019) |
| EllapsedTime: 21.7 seconds |
| RetCode: 0 |
| Status: OK |
| PackageFile: BicARE_1.40.0.zip |
| PackageFileSize: 429.1 KiB |
##############################################################################
##############################################################################
###
### Running command:
###
### rm -rf BicARE.buildbin-libdir && mkdir BicARE.buildbin-libdir && C:\Users\biocbuild\bbs-3.8-bioc\R\bin\R.exe CMD INSTALL --merge-multiarch --build --library=BicARE.buildbin-libdir BicARE_1.40.0.tar.gz
###
##############################################################################
##############################################################################
install for i386
* installing *source* package 'BicARE' ...
** libs
C:/Rtools/mingw_32/bin/gcc -I"C:/Users/BIOCBU˜1/BBS-3˜1.8-B/R/include" -DNDEBUG -I"C:/extsoft/include" -O3 -Wall -std=gnu99 -mtune=generic -c BicARE.c -o BicARE.o
BicARE.c: In function 'floc':
BicARE.c:439:12: warning: unused variable 'invk' [-Wunused-variable]
double invk = 1/(double)*k;
^
BicARE.c: In function 'action':
BicARE.c:391:29: warning: 'j' may be used uninitialized in this function [-Wmaybe-uninitialized]
bicCol2[ncolData * z + j] = bicCol[ncolData * z +j];
^
BicARE.c:380:29: warning: 'i' may be used uninitialized in this function [-Wmaybe-uninitialized]
bicRow2[nrowData * z + i] = bicRow[nrowData * z + i];
^
C:/Rtools/mingw_32/bin/gcc -shared -s -static-libgcc -o BicARE.dll tmp.def BicARE.o -LC:/extsoft/lib/i386 -LC:/extsoft/lib -LC:/Users/BIOCBU˜1/BBS-3˜1.8-B/R/bin/i386 -lR
installing to C:/Users/biocbuild/bbs-3.8-bioc/meat/BicARE.buildbin-libdir/BicARE/libs/i386
** R
** data
** inst
** byte-compile and prepare package for lazy loading
** help
*** installing help indices
converting help for package 'BicARE'
finding HTML links ... done
BicARE-package html
FLOC html
bicluster html
makeReport html
residue html
sample.bicData html
sample.biclustering html
testAnnot html
testSet html
** building package indices
** installing vignettes
** testing if installed package can be loaded
In R CMD INSTALL
install for x64
* installing *source* package 'BicARE' ...
** libs
C:/Rtools/mingw_64/bin/gcc -I"C:/Users/BIOCBU˜1/BBS-3˜1.8-B/R/include" -DNDEBUG -I"C:/extsoft/include" -O2 -Wall -std=gnu99 -mtune=generic -c BicARE.c -o BicARE.o
BicARE.c: In function 'floc':
BicARE.c:439:12: warning: unused variable 'invk' [-Wunused-variable]
double invk = 1/(double)*k;
^
BicARE.c: In function 'action':
BicARE.c:391:29: warning: 'j' may be used uninitialized in this function [-Wmaybe-uninitialized]
bicCol2[ncolData * z + j] = bicCol[ncolData * z +j];
^
BicARE.c:380:29: warning: 'i' may be used uninitialized in this function [-Wmaybe-uninitialized]
bicRow2[nrowData * z + i] = bicRow[nrowData * z + i];
^
C:/Rtools/mingw_64/bin/gcc -shared -s -static-libgcc -o BicARE.dll tmp.def BicARE.o -LC:/extsoft/lib/x64 -LC:/extsoft/lib -LC:/Users/BIOCBU˜1/BBS-3˜1.8-B/R/bin/x64 -lR
installing to C:/Users/biocbuild/bbs-3.8-bioc/meat/BicARE.buildbin-libdir/BicARE/libs/x64
** testing if installed package can be loaded
* MD5 sums
packaged installation of 'BicARE' as BicARE_1.40.0.zip
* DONE (BicARE)
In R CMD INSTALL
In R CMD INSTALL