| Back to Multiple platform build/check report for BioC 3.8 |
|
This page was generated on 2019-04-16 11:57:07 -0400 (Tue, 16 Apr 2019).
| Package 126/1649 | Hostname | OS / Arch | INSTALL | BUILD | CHECK | BUILD BIN | ||||||
| BiGGR 1.18.0 Anand K. Gavai
| malbec1 | Linux (Ubuntu 16.04.6 LTS) / x86_64 | OK | OK | OK | |||||||
| merida1 | OS X 10.11.6 El Capitan / x86_64 | OK | OK | [ OK ] | OK |
| Package: BiGGR |
| Version: 1.18.0 |
| Command: /Library/Frameworks/R.framework/Versions/Current/Resources/bin/R CMD check --install=check:BiGGR.install-out.txt --library=/Library/Frameworks/R.framework/Versions/Current/Resources/library --no-vignettes --timings BiGGR_1.18.0.tar.gz |
| StartedAt: 2019-04-15 22:33:56 -0400 (Mon, 15 Apr 2019) |
| EndedAt: 2019-04-15 22:39:38 -0400 (Mon, 15 Apr 2019) |
| EllapsedTime: 341.9 seconds |
| RetCode: 0 |
| Status: OK |
| CheckDir: BiGGR.Rcheck |
| Warnings: 0 |
##############################################################################
##############################################################################
###
### Running command:
###
### /Library/Frameworks/R.framework/Versions/Current/Resources/bin/R CMD check --install=check:BiGGR.install-out.txt --library=/Library/Frameworks/R.framework/Versions/Current/Resources/library --no-vignettes --timings BiGGR_1.18.0.tar.gz
###
##############################################################################
##############################################################################
* using log directory ‘/Users/biocbuild/bbs-3.8-bioc/meat/BiGGR.Rcheck’
* using R version 3.5.3 (2019-03-11)
* using platform: x86_64-apple-darwin15.6.0 (64-bit)
* using session charset: UTF-8
* using option ‘--no-vignettes’
* checking for file ‘BiGGR/DESCRIPTION’ ... OK
* checking extension type ... Package
* this is package ‘BiGGR’ version ‘1.18.0’
* checking package namespace information ... OK
* checking package dependencies ... OK
* checking if this is a source package ... OK
* checking if there is a namespace ... OK
* checking for hidden files and directories ... NOTE
Found the following hidden files and directories:
.BBSoptions
These were most likely included in error. See section ‘Package
structure’ in the ‘Writing R Extensions’ manual.
* checking for portable file names ... OK
* checking for sufficient/correct file permissions ... OK
* checking whether package ‘BiGGR’ can be installed ... OK
* checking installed package size ... OK
* checking package directory ... OK
* checking ‘build’ directory ... OK
* checking DESCRIPTION meta-information ... OK
* checking top-level files ... OK
* checking for left-over files ... OK
* checking index information ... OK
* checking package subdirectories ... OK
* checking R files for non-ASCII characters ... OK
* checking R files for syntax errors ... OK
* checking whether the package can be loaded ... OK
* checking whether the package can be loaded with stated dependencies ... OK
* checking whether the package can be unloaded cleanly ... OK
* checking whether the namespace can be loaded with stated dependencies ... OK
* checking whether the namespace can be unloaded cleanly ... OK
* checking dependencies in R code ... NOTE
Package in Depends field not imported from: ‘stringr’
These packages need to be imported from (in the NAMESPACE file)
for when this namespace is loaded but not attached.
* checking S3 generic/method consistency ... OK
* checking replacement functions ... OK
* checking foreign function calls ... OK
* checking R code for possible problems ... NOTE
.buildSubModel: no visible global function definition for ‘new’
buildSBMLFromBiGG: no visible global function definition for
‘read.delim’
buildSBMLFromBiGG : <anonymous>: no visible global function definition
for ‘new’
buildSBMLFromBiGG: no visible global function definition for ‘new’
createLIMFromSBML: no visible global function definition for ‘hasArg’
gprMapping: no visible global function definition for ‘str_detect’
gprMapping: no visible global function definition for ‘na.omit’
gprMappingAvg: no visible global function definition for ‘na.omit’
sampleFluxEnsemble: no visible global function definition for ‘Xsample’
sbml2hyperdraw: no visible global function definition for ‘hasArg’
sbml2hyperdraw: no visible global function definition for ‘graphLayout’
sbml2hyperdraw: no visible global function definition for
‘nodeDataDefaults<-’
sbml2hyperdraw: no visible global function definition for
‘edgeDataDefaults<-’
sbml2hyperdraw: no visible global function definition for
‘graphDataDefaults<-’
sbml2hyperdraw : <anonymous>: no visible global function definition for
‘edgeData<-’
Undefined global functions or variables:
Xsample edgeData<- edgeDataDefaults<- graphDataDefaults<- graphLayout
hasArg na.omit new nodeDataDefaults<- read.delim str_detect
Consider adding
importFrom("methods", "hasArg", "new")
importFrom("stats", "na.omit")
importFrom("utils", "read.delim")
to your NAMESPACE file (and ensure that your DESCRIPTION Imports field
contains 'methods').
* checking Rd files ... OK
* checking Rd metadata ... OK
* checking Rd cross-references ... OK
* checking for missing documentation entries ... OK
* checking for code/documentation mismatches ... OK
* checking Rd \usage sections ... OK
* checking Rd contents ... OK
* checking for unstated dependencies in examples ... OK
* checking contents of ‘data’ directory ... OK
* checking data for non-ASCII characters ... OK
* checking data for ASCII and uncompressed saves ... OK
* checking sizes of PDF files under ‘inst/doc’ ... OK
* checking files in ‘vignettes’ ... OK
* checking examples ... OK
Examples with CPU or elapsed time > 5s
user system elapsed
gprMapping 155.912 2.239 160.057
gprMappingAvg 19.288 1.095 20.697
buildSBMLFromGenes 7.883 0.110 8.124
buildSBMLFromPathways 6.002 0.026 6.102
* checking for unstated dependencies in vignettes ... OK
* checking package vignettes in ‘inst/doc’ ... OK
* checking running R code from vignettes ... SKIPPED
* checking re-building of vignette outputs ... SKIPPED
* checking PDF version of manual ... OK
* DONE
Status: 3 NOTEs
See
‘/Users/biocbuild/bbs-3.8-bioc/meat/BiGGR.Rcheck/00check.log’
for details.
BiGGR.Rcheck/00install.out
############################################################################## ############################################################################## ### ### Running command: ### ### /Library/Frameworks/R.framework/Versions/Current/Resources/bin/R CMD INSTALL BiGGR ### ############################################################################## ############################################################################## * installing to library ‘/Library/Frameworks/R.framework/Versions/3.5/Resources/library’ * installing *source* package ‘BiGGR’ ... ** R ** data ** inst ** byte-compile and prepare package for lazy loading ** help *** installing help indices ** building package indices ** installing vignettes ** testing if installed package can be loaded * DONE (BiGGR)
BiGGR.Rcheck/BiGGR-Ex.timings
| name | user | system | elapsed | |
| BiGGR-package | 4.541 | 0.102 | 4.779 | |
| E.coli_iAF1260 | 1.580 | 0.046 | 1.687 | |
| E.coli_iJR904 | 0.671 | 0.021 | 0.747 | |
| E.coli_textbook | 0.052 | 0.005 | 0.057 | |
| H.pylori_ilT341 | 0.347 | 0.011 | 0.361 | |
| H.sapiens_Recon1 | 2.361 | 0.073 | 2.551 | |
| M.barkeri_iAF692 | 0.614 | 0.018 | 0.645 | |
| M.tuberculosis_iNJ661 | 0.646 | 0.017 | 0.729 | |
| P.putida_iJN746 | 0.633 | 0.016 | 0.654 | |
| Recon2 | 3.530 | 0.207 | 3.898 | |
| S.aureus_iSB619 | 0.430 | 0.019 | 0.452 | |
| S.cerevisiae_iND750 | 0.612 | 0.030 | 0.661 | |
| buildSBMLFromBiGG | 0.176 | 0.026 | 0.203 | |
| buildSBMLFromGenes | 7.883 | 0.110 | 8.124 | |
| buildSBMLFromPathways | 6.002 | 0.026 | 6.102 | |
| buildSBMLFromReactionIDs | 3.354 | 0.011 | 3.436 | |
| createLIMFromBiGG | 0.168 | 0.003 | 0.173 | |
| createLIMFromSBML | 2.197 | 0.011 | 2.305 | |
| extractGeneAssociations | 3.715 | 0.020 | 3.841 | |
| extractPathways | 3.408 | 0.022 | 3.464 | |
| getPathwaysForSBML | 4.280 | 0.049 | 4.447 | |
| getRates | 0.004 | 0.002 | 0.007 | |
| gprMapping | 155.912 | 2.239 | 160.057 | |
| gprMappingAvg | 19.288 | 1.095 | 20.697 | |
| lying.tunell.data | 0.003 | 0.002 | 0.005 | |
| rmvSpliceVariant | 2.989 | 0.035 | 3.053 | |
| sampleFluxEnsemble | 2.779 | 0.112 | 2.915 | |
| sbml2hyperdraw | 3.366 | 0.016 | 3.406 | |