| Back to Multiple platform build/check report for BioC 3.8 | 
  | 
This page was generated on 2019-04-16 11:54:28 -0400 (Tue, 16 Apr 2019).
| Package 180/1649 | Hostname | OS / Arch | INSTALL | BUILD | CHECK | BUILD BIN | ||||||
| BSgenome 1.50.0 H. Pagès 
  | malbec1 | Linux (Ubuntu 16.04.6 LTS) / x86_64 | OK | OK | WARNINGS | |||||||
| merida1 | OS X 10.11.6 El Capitan / x86_64 | OK | [ OK ] | WARNINGS | OK | 
| Package: BSgenome | 
| Version: 1.50.0 | 
| Command: /Library/Frameworks/R.framework/Versions/Current/Resources/bin/R CMD build --keep-empty-dirs --no-resave-data BSgenome | 
| StartedAt: 2019-04-15 19:00:22 -0400 (Mon, 15 Apr 2019) | 
| EndedAt: 2019-04-15 19:02:08 -0400 (Mon, 15 Apr 2019) | 
| EllapsedTime: 105.8 seconds | 
| RetCode: 0 | 
| Status: OK | 
| PackageFile: BSgenome_1.50.0.tar.gz | 
| PackageFileSize: 5.809 MiB | 
############################################################################## ############################################################################## ### ### Running command: ### ### /Library/Frameworks/R.framework/Versions/Current/Resources/bin/R CMD build --keep-empty-dirs --no-resave-data BSgenome ### ############################################################################## ############################################################################## * checking for file ‘BSgenome/DESCRIPTION’ ... OK * preparing ‘BSgenome’: * checking DESCRIPTION meta-information ... OK * installing the package to build vignettes * creating vignettes ... OK * checking for LF line-endings in source and make files and shell scripts * checking for empty or unneeded directories WARNING: directory ‘BSgenome/inst/pkgtemplates/BSgenome_datapkg/inst/extdata’ is empty WARNING: directory ‘BSgenome/inst/pkgtemplates/MaskedBSgenome_datapkg/inst/extdata’ is empty * building ‘BSgenome_1.50.0.tar.gz’ Warning in utils::tar(filepath, pkgname, compression = "gzip", compression_level = 9L, : storing paths of more than 100 bytes is not portable: ‘BSgenome/inst/extdata/GentlemanLab/1000genomes/BSgenome.Hsapiens.1000g.b36female-tools/split_human_b36_female.sh’