| Back to Multiple platform build/check report for BioC 3.8 |
|
This page was generated on 2019-04-13 11:25:23 -0400 (Sat, 13 Apr 2019).
| Package 118/1649 | Hostname | OS / Arch | INSTALL | BUILD | CHECK | BUILD BIN | ||||||
| BEclear 1.14.0 David Rasp
| malbec1 | Linux (Ubuntu 16.04.6 LTS) / x86_64 | OK | OK | OK | |||||||
| tokay1 | Windows Server 2012 R2 Standard / x64 | OK | OK | OK | [ OK ] | |||||||
| merida1 | OS X 10.11.6 El Capitan / x86_64 | OK | OK | OK | OK |
| Package: BEclear |
| Version: 1.14.0 |
| Command: rm -rf BEclear.buildbin-libdir && mkdir BEclear.buildbin-libdir && C:\Users\biocbuild\bbs-3.8-bioc\R\bin\R.exe CMD INSTALL --merge-multiarch --build --library=BEclear.buildbin-libdir BEclear_1.14.0.tar.gz |
| StartedAt: 2019-04-13 06:56:36 -0400 (Sat, 13 Apr 2019) |
| EndedAt: 2019-04-13 06:56:57 -0400 (Sat, 13 Apr 2019) |
| EllapsedTime: 20.2 seconds |
| RetCode: 0 |
| Status: OK |
| PackageFile: BEclear_1.14.0.zip |
| PackageFileSize: 425.9 KiB |
##############################################################################
##############################################################################
###
### Running command:
###
### rm -rf BEclear.buildbin-libdir && mkdir BEclear.buildbin-libdir && C:\Users\biocbuild\bbs-3.8-bioc\R\bin\R.exe CMD INSTALL --merge-multiarch --build --library=BEclear.buildbin-libdir BEclear_1.14.0.tar.gz
###
##############################################################################
##############################################################################
install for i386
* installing *source* package 'BEclear' ...
** R
** data
** inst
** byte-compile and prepare package for lazy loading
** help
*** installing help indices
converting help for package 'BEclear'
finding HTML links ... done
BEclear-example-methylation-data html
BEclear-example-sample-data html
BEclear-package html
calcBlockFrame html
calcMedians html
calcMediansForBatch html
calcPositions html
calcPvalsForBatch html
calcPvalues html
calcScore html
calcSummary html
clearBEgenes html
combineBlocks html
correctBatchEffect html
countValuesToPredict html
dlossp html
ex.corrected.data html
findWrongValues html
gdepoch html
imputeMissingData html
imputeMissingDataForBlock html
loss html
makeBoxplot html
nnz html
replaceWrongValues html
runGradientDescent html
** building package indices
** installing vignettes
** testing if installed package can be loaded
In R CMD INSTALL
install for x64
* installing *source* package 'BEclear' ...
** testing if installed package can be loaded
* MD5 sums
packaged installation of 'BEclear' as BEclear_1.14.0.zip
* DONE (BEclear)
In R CMD INSTALL
In R CMD INSTALL