| Back to Multiple platform build/check report for BioC 3.8 |
|
This page was generated on 2019-04-13 11:23:11 -0400 (Sat, 13 Apr 2019).
| Package 75/1649 | Hostname | OS / Arch | INSTALL | BUILD | CHECK | BUILD BIN | ||||||
| ArrayTV 1.20.0 Eitan Halper-Stromberg
| malbec1 | Linux (Ubuntu 16.04.6 LTS) / x86_64 | OK | OK | OK | |||||||
| tokay1 | Windows Server 2012 R2 Standard / x64 | [ OK ] | OK | OK | OK | |||||||
| merida1 | OS X 10.11.6 El Capitan / x86_64 | OK | OK | OK | OK |
| Package: ArrayTV |
| Version: 1.20.0 |
| Command: C:\cygwin\bin\curl.exe -O https://malbec1.bioconductor.org/BBS/3.8/bioc/src/contrib/ArrayTV_1.20.0.tar.gz && rm -rf ArrayTV.buildbin-libdir && mkdir ArrayTV.buildbin-libdir && C:\Users\biocbuild\bbs-3.8-bioc\R\bin\R.exe CMD INSTALL --merge-multiarch --build --library=ArrayTV.buildbin-libdir ArrayTV_1.20.0.tar.gz && C:\Users\biocbuild\bbs-3.8-bioc\R\bin\R.exe CMD INSTALL ArrayTV_1.20.0.zip && rm ArrayTV_1.20.0.tar.gz ArrayTV_1.20.0.zip |
| StartedAt: 2019-04-12 19:43:26 -0400 (Fri, 12 Apr 2019) |
| EndedAt: 2019-04-12 19:44:09 -0400 (Fri, 12 Apr 2019) |
| EllapsedTime: 43.2 seconds |
| RetCode: 0 |
| Status: OK |
##############################################################################
##############################################################################
###
### Running command:
###
### C:\cygwin\bin\curl.exe -O https://malbec1.bioconductor.org/BBS/3.8/bioc/src/contrib/ArrayTV_1.20.0.tar.gz && rm -rf ArrayTV.buildbin-libdir && mkdir ArrayTV.buildbin-libdir && C:\Users\biocbuild\bbs-3.8-bioc\R\bin\R.exe CMD INSTALL --merge-multiarch --build --library=ArrayTV.buildbin-libdir ArrayTV_1.20.0.tar.gz && C:\Users\biocbuild\bbs-3.8-bioc\R\bin\R.exe CMD INSTALL ArrayTV_1.20.0.zip && rm ArrayTV_1.20.0.tar.gz ArrayTV_1.20.0.zip
###
##############################################################################
##############################################################################
% Total % Received % Xferd Average Speed Time Time Time Current
Dload Upload Total Spent Left Speed
0 0 0 0 0 0 0 0 --:--:-- --:--:-- --:--:-- 0
100 2101k 100 2101k 0 0 23.4M 0 --:--:-- --:--:-- --:--:-- 24.4M
install for i386
* installing *source* package 'ArrayTV' ...
** R
** inst
** byte-compile and prepare package for lazy loading
** help
*** installing help indices
converting help for package 'ArrayTV'
finding HTML links ... done
ArrayTV-package html
gcCorrect-methods html
finding level-2 HTML links ... done
gcCorrectMain html
methods-computeGC html
** building package indices
** installing vignettes
** testing if installed package can be loaded
In R CMD INSTALL
install for x64
* installing *source* package 'ArrayTV' ...
** testing if installed package can be loaded
* MD5 sums
packaged installation of 'ArrayTV' as ArrayTV_1.20.0.zip
* DONE (ArrayTV)
In R CMD INSTALL
In R CMD INSTALL
* installing to library 'C:/Users/biocbuild/bbs-3.8-bioc/R/library'
package 'ArrayTV' successfully unpacked and MD5 sums checked
In R CMD INSTALL