| Back to Multiple platform build/check report for BioC 3.8 |
|
This page was generated on 2019-04-13 11:22:47 -0400 (Sat, 13 Apr 2019).
| Package 58/1649 | Hostname | OS / Arch | INSTALL | BUILD | CHECK | BUILD BIN | ||||||
| AnnotationHub 2.14.5 Bioconductor Package Maintainer
| malbec1 | Linux (Ubuntu 16.04.6 LTS) / x86_64 | OK | OK | WARNINGS | |||||||
| tokay1 | Windows Server 2012 R2 Standard / x64 | [ OK ] | OK | WARNINGS | OK | |||||||
| merida1 | OS X 10.11.6 El Capitan / x86_64 | OK | OK | WARNINGS | OK |
| Package: AnnotationHub |
| Version: 2.14.5 |
| Command: C:\cygwin\bin\curl.exe -O https://malbec1.bioconductor.org/BBS/3.8/bioc/src/contrib/AnnotationHub_2.14.5.tar.gz && rm -rf AnnotationHub.buildbin-libdir && mkdir AnnotationHub.buildbin-libdir && C:\Users\biocbuild\bbs-3.8-bioc\R\bin\R.exe CMD INSTALL --merge-multiarch --build --library=AnnotationHub.buildbin-libdir AnnotationHub_2.14.5.tar.gz && C:\Users\biocbuild\bbs-3.8-bioc\R\bin\R.exe CMD INSTALL AnnotationHub_2.14.5.zip && rm AnnotationHub_2.14.5.tar.gz AnnotationHub_2.14.5.zip |
| StartedAt: 2019-04-12 19:18:57 -0400 (Fri, 12 Apr 2019) |
| EndedAt: 2019-04-12 19:19:38 -0400 (Fri, 12 Apr 2019) |
| EllapsedTime: 41.0 seconds |
| RetCode: 0 |
| Status: OK |
##############################################################################
##############################################################################
###
### Running command:
###
### C:\cygwin\bin\curl.exe -O https://malbec1.bioconductor.org/BBS/3.8/bioc/src/contrib/AnnotationHub_2.14.5.tar.gz && rm -rf AnnotationHub.buildbin-libdir && mkdir AnnotationHub.buildbin-libdir && C:\Users\biocbuild\bbs-3.8-bioc\R\bin\R.exe CMD INSTALL --merge-multiarch --build --library=AnnotationHub.buildbin-libdir AnnotationHub_2.14.5.tar.gz && C:\Users\biocbuild\bbs-3.8-bioc\R\bin\R.exe CMD INSTALL AnnotationHub_2.14.5.zip && rm AnnotationHub_2.14.5.tar.gz AnnotationHub_2.14.5.zip
###
##############################################################################
##############################################################################
% Total % Received % Xferd Average Speed Time Time Time Current
Dload Upload Total Spent Left Speed
0 0 0 0 0 0 0 0 --:--:-- --:--:-- --:--:-- 0
8 199k 8 16384 0 0 425k 0 --:--:-- --:--:-- --:--:-- 457k
100 199k 100 199k 0 0 5162k 0 --:--:-- --:--:-- --:--:-- 5533k
install for i386
* installing *source* package 'AnnotationHub' ...
** R
** inst
** byte-compile and prepare package for lazy loading
** help
*** installing help indices
converting help for package 'AnnotationHub'
finding HTML links ... done
AnnotationHub-class html
AnnotationHub-package html
AnnotationHubResource-class html
getAnnotationHubOption html
listResources html
** building package indices
** installing vignettes
** testing if installed package can be loaded
In R CMD INSTALL
install for x64
* installing *source* package 'AnnotationHub' ...
** testing if installed package can be loaded
* MD5 sums
packaged installation of 'AnnotationHub' as AnnotationHub_2.14.5.zip
* DONE (AnnotationHub)
In R CMD INSTALL
In R CMD INSTALL
* installing to library 'C:/Users/biocbuild/bbs-3.8-bioc/R/library'
package 'AnnotationHub' successfully unpacked and MD5 sums checked
In R CMD INSTALL