| Back to Multiple platform build/check report for BioC 3.8 |
|
This page was generated on 2019-04-13 11:21:03 -0400 (Sat, 13 Apr 2019).
| Package 36/1649 | Hostname | OS / Arch | INSTALL | BUILD | CHECK | BUILD BIN | ||||||
| AgiMicroRna 2.32.0 Pedro Lopez-Romero
| malbec1 | Linux (Ubuntu 16.04.6 LTS) / x86_64 | OK | OK | OK | |||||||
| tokay1 | Windows Server 2012 R2 Standard / x64 | OK | OK | OK | [ OK ] | |||||||
| merida1 | OS X 10.11.6 El Capitan / x86_64 | OK | OK | OK | OK |
| Package: AgiMicroRna |
| Version: 2.32.0 |
| Command: rm -rf AgiMicroRna.buildbin-libdir && mkdir AgiMicroRna.buildbin-libdir && C:\Users\biocbuild\bbs-3.8-bioc\R\bin\R.exe CMD INSTALL --merge-multiarch --build --library=AgiMicroRna.buildbin-libdir AgiMicroRna_2.32.0.tar.gz |
| StartedAt: 2019-04-13 06:53:21 -0400 (Sat, 13 Apr 2019) |
| EndedAt: 2019-04-13 06:54:15 -0400 (Sat, 13 Apr 2019) |
| EllapsedTime: 53.1 seconds |
| RetCode: 0 |
| Status: OK |
| PackageFile: AgiMicroRna_2.32.0.zip |
| PackageFileSize: 2.05 MiB |
##############################################################################
##############################################################################
###
### Running command:
###
### rm -rf AgiMicroRna.buildbin-libdir && mkdir AgiMicroRna.buildbin-libdir && C:\Users\biocbuild\bbs-3.8-bioc\R\bin\R.exe CMD INSTALL --merge-multiarch --build --library=AgiMicroRna.buildbin-libdir AgiMicroRna_2.32.0.tar.gz
###
##############################################################################
##############################################################################
install for i386
* installing *source* package 'AgiMicroRna' ...
** R
** data
** inst
** byte-compile and prepare package for lazy loading
** help
*** installing help indices
converting help for package 'AgiMicroRna'
finding HTML links ... done
HeatMapMicroRna html
PCAplotMicroRna html
RleMicroRna html
basicLimma html
boxplotMicroRna html
cvArray html
dd.micro html
ddPROC html
dim.uRNAList html
dimnames.uRNAList html
esetMicroRna html
filterMicroRna html
getDecideTests html
hierclusMicroRna html
mvaBASIC html
mvaMicroRna html
plotDensityMicroRna html
pvalHistogram html
qcPlots html
readMicroRnaAFE html
readTargets html
rmaMicroRna html
significantMicroRna html
summary.uRNAList html
targets.micro html
tgsMicroRna html
tgsNormalization html
uRNAList html
writeEset html
** building package indices
** installing vignettes
** testing if installed package can be loaded
In R CMD INSTALL
install for x64
* installing *source* package 'AgiMicroRna' ...
** testing if installed package can be loaded
* MD5 sums
packaged installation of 'AgiMicroRna' as AgiMicroRna_2.32.0.zip
* DONE (AgiMicroRna)
In R CMD INSTALL
In R CMD INSTALL