| Back to Multiple platform build/check report for BioC 3.8 |
|
This page was generated on 2019-04-13 11:20:31 -0400 (Sat, 13 Apr 2019).
| Package 25/1649 | Hostname | OS / Arch | INSTALL | BUILD | CHECK | BUILD BIN | ||||||
| AffyExpress 1.48.0 Xuejun Arthur Li
| malbec1 | Linux (Ubuntu 16.04.6 LTS) / x86_64 | OK | OK | OK | |||||||
| tokay1 | Windows Server 2012 R2 Standard / x64 | OK | OK | OK | [ OK ] | |||||||
| merida1 | OS X 10.11.6 El Capitan / x86_64 | OK | OK | OK | OK |
| Package: AffyExpress |
| Version: 1.48.0 |
| Command: rm -rf AffyExpress.buildbin-libdir && mkdir AffyExpress.buildbin-libdir && C:\Users\biocbuild\bbs-3.8-bioc\R\bin\R.exe CMD INSTALL --merge-multiarch --build --library=AffyExpress.buildbin-libdir AffyExpress_1.48.0.tar.gz |
| StartedAt: 2019-04-13 06:53:01 -0400 (Sat, 13 Apr 2019) |
| EndedAt: 2019-04-13 06:53:14 -0400 (Sat, 13 Apr 2019) |
| EllapsedTime: 12.9 seconds |
| RetCode: 0 |
| Status: OK |
| PackageFile: AffyExpress_1.48.0.zip |
| PackageFileSize: 730.7 KiB |
##############################################################################
##############################################################################
###
### Running command:
###
### rm -rf AffyExpress.buildbin-libdir && mkdir AffyExpress.buildbin-libdir && C:\Users\biocbuild\bbs-3.8-bioc\R\bin\R.exe CMD INSTALL --merge-multiarch --build --library=AffyExpress.buildbin-libdir AffyExpress_1.48.0.tar.gz
###
##############################################################################
##############################################################################
install for i386
* installing *source* package 'AffyExpress' ...
** R
** data
** inst
** byte-compile and prepare package for lazy loading
** help
*** installing help indices
converting help for package 'AffyExpress'
finding HTML links ... done
AffyInteraction html
AffyQA html
AffyRegress html
Filter html
import.data html
interaction.result2html html
make.contrast html
make.design html
post.interaction html
pre.process html
regress html
result2html html
select.sig.gene html
testData html
** building package indices
** installing vignettes
** testing if installed package can be loaded
In R CMD INSTALL
install for x64
* installing *source* package 'AffyExpress' ...
** testing if installed package can be loaded
* MD5 sums
packaged installation of 'AffyExpress' as AffyExpress_1.48.0.zip
* DONE (AffyExpress)
In R CMD INSTALL
In R CMD INSTALL